BEGIN:VCALENDAR
VERSION:2.0
PRODID:-//Diocese de Viseu - ECPv6.15.18//NONSGML v1.0//EN
CALSCALE:GREGORIAN
METHOD:PUBLISH
X-ORIGINAL-URL:https://diocesedeviseu.pt
X-WR-CALDESC:Eventos para Diocese de Viseu
REFRESH-INTERVAL;VALUE=DURATION:PT1H
X-Robots-Tag:noindex
X-PUBLISHED-TTL:PT1H
BEGIN:VTIMEZONE
TZID:Europe/Lisbon
BEGIN:DAYLIGHT
TZOFFSETFROM:+0000
TZOFFSETTO:+0100
TZNAME:WEST
DTSTART:20180325T010000
END:DAYLIGHT
BEGIN:STANDARD
TZOFFSETFROM:+0100
TZOFFSETTO:+0000
TZNAME:WET
DTSTART:20181028T010000
END:STANDARD
BEGIN:DAYLIGHT
TZOFFSETFROM:+0000
TZOFFSETTO:+0100
TZNAME:WEST
DTSTART:20190331T010000
END:DAYLIGHT
BEGIN:STANDARD
TZOFFSETFROM:+0100
TZOFFSETTO:+0000
TZNAME:WET
DTSTART:20191027T010000
END:STANDARD
BEGIN:DAYLIGHT
TZOFFSETFROM:+0000
TZOFFSETTO:+0100
TZNAME:WEST
DTSTART:20200329T010000
END:DAYLIGHT
BEGIN:STANDARD
TZOFFSETFROM:+0100
TZOFFSETTO:+0000
TZNAME:WET
DTSTART:20201025T010000
END:STANDARD
END:VTIMEZONE
BEGIN:VEVENT
DTSTART;VALUE=DATE:20190429
DTEND;VALUE=DATE:20190504
DTSTAMP:20260425T201444
CREATED:20190424T082029Z
LAST-MODIFIED:20190424T082029Z
UID:42332-1556499600-1556845199@diocesedeviseu.pt
SUMMARY:Jornadas de Estudo do Episcopado
DESCRIPTION:
URL:https://diocesedeviseu.pt/evento/jornadas-de-estudo-do-episcopado/
LOCATION:Fátima\, Fátima\, Fátima\, Portugal
CATEGORIES:Bispo
END:VEVENT
BEGIN:VEVENT
DTSTART;TZID=Europe/Lisbon:20190504T113000
DTEND;TZID=Europe/Lisbon:20190504T010000
DTSTAMP:20260425T201444
CREATED:20190430T121942Z
LAST-MODIFIED:20190430T122102Z
UID:42419-1556969400-1556931600@diocesedeviseu.pt
SUMMARY:Encontro com os Jovens do Crisma
DESCRIPTION:
URL:https://diocesedeviseu.pt/evento/encontro-com-os-jovens-do-crisma/
LOCATION:Farminhão
CATEGORIES:Bispo
END:VEVENT
BEGIN:VEVENT
DTSTART;TZID=Europe/Lisbon:20190504T160000
DTEND;TZID=Europe/Lisbon:20190504T160000
DTSTAMP:20260425T201444
CREATED:20190430T122154Z
LAST-MODIFIED:20190430T122207Z
UID:42422-1556985600-1556985600@diocesedeviseu.pt
SUMMARY:Encontro dos Adoradores de Jesus Eucaristia
DESCRIPTION:
URL:https://diocesedeviseu.pt/evento/encontro-dos-adoradores-de-jesus-eucaristia/
LOCATION:Centro Pastoral Diocesano
CATEGORIES:Bispo
END:VEVENT
BEGIN:VEVENT
DTSTART;TZID=Europe/Lisbon:20190504T193000
DTEND;TZID=Europe/Lisbon:20190504T010000
DTSTAMP:20260425T201444
CREATED:20190430T122402Z
LAST-MODIFIED:20190430T122402Z
UID:42424-1556998200-1556931600@diocesedeviseu.pt
SUMMARY:Celebração do Crisma para os crismandos das paróquias de Viso\,  Rio de Loba e Fragosela
DESCRIPTION:
URL:https://diocesedeviseu.pt/evento/celebracao-do-crisma-para-os-crismandos-das-paroquias-de-viso-rio-de-loba-e-fragosela/
LOCATION:Igreja da Paróquia do Viso
CATEGORIES:Bispo
END:VEVENT
BEGIN:VEVENT
DTSTART;TZID=Europe/Lisbon:20190505T120000
DTEND;TZID=Europe/Lisbon:20190505T010000
DTSTAMP:20260425T201444
CREATED:20190430T122505Z
LAST-MODIFIED:20190430T122505Z
UID:42427-1557057600-1557018000@diocesedeviseu.pt
SUMMARY:Crisma para os crismandos das paróquias de Farminhão\, Boa Aldeia e Torredeita
DESCRIPTION:
URL:https://diocesedeviseu.pt/evento/crisma-para-os-crismandos-das-paroquias-de-farminhao-boa-aldeia-e-torredeita/
CATEGORIES:Bispo
END:VEVENT
BEGIN:VEVENT
DTSTART;TZID=Europe/Lisbon:20190505T163000
DTEND;TZID=Europe/Lisbon:20190505T010000
DTSTAMP:20260425T201444
CREATED:20190430T122605Z
LAST-MODIFIED:20190430T122605Z
UID:42430-1557073800-1557018000@diocesedeviseu.pt
SUMMARY:Celebração da Bênção dos Finalistas e das Pastas
DESCRIPTION:
URL:https://diocesedeviseu.pt/evento/celebracao-da-bencao-dos-finalistas-e-das-pastas/
LOCATION:Adro da Sé de Viseu
CATEGORIES:Bispo
END:VEVENT
BEGIN:VEVENT
DTSTART;TZID=Europe/Lisbon:20190507T113000
DTEND;TZID=Europe/Lisbon:20190507T113000
DTSTAMP:20260425T201444
CREATED:20190430T122806Z
LAST-MODIFIED:20190430T122902Z
UID:42432-1557228600-1557228600@diocesedeviseu.pt
SUMMARY:Encontro com sacerdotes
DESCRIPTION:
URL:https://diocesedeviseu.pt/evento/encontro-com-sacerdotes/
LOCATION:Casa Viriato
CATEGORIES:Bispo
END:VEVENT
BEGIN:VEVENT
DTSTART;VALUE=DATE:20190512
DTEND;VALUE=DATE:20190515
DTSTAMP:20260425T201444
CREATED:20190508T081139Z
LAST-MODIFIED:20190508T081139Z
UID:42564-1557622800-1557795599@diocesedeviseu.pt
SUMMARY:Celebrações do Aniversário das Aparições de Fátima
DESCRIPTION:
URL:https://diocesedeviseu.pt/evento/celebracoes-do-aniversario-das-aparicoes-de-fatima/
CATEGORIES:Bispo
END:VEVENT
BEGIN:VEVENT
DTSTART;TZID=Europe/Lisbon:20190516T113000
DTEND;TZID=Europe/Lisbon:20190516T010000
DTSTAMP:20260425T201444
CREATED:20190515T130758Z
LAST-MODIFIED:20190515T130758Z
UID:42669-1558006200-1557968400@diocesedeviseu.pt
SUMMARY:Celebração do Dia do Hospital
DESCRIPTION:
URL:https://diocesedeviseu.pt/evento/celebracao-do-dia-do-hospital/
LOCATION:Hospital de São Teotónio – Viseu
CATEGORIES:Bispo
END:VEVENT
BEGIN:VEVENT
DTSTART;TZID=Europe/Lisbon:20190516T190000
DTEND;TZID=Europe/Lisbon:20190515T190000
DTSTAMP:20260425T201444
CREATED:20190515T131001Z
LAST-MODIFIED:20190515T131001Z
UID:42671-1558033200-1557946800@diocesedeviseu.pt
SUMMARY:Reunião do Conselho Económico e outras Instituições da Diocese
DESCRIPTION:
URL:https://diocesedeviseu.pt/evento/reuniao-do-conselho-economico-e-outras-instituicoes-da-diocese/
LOCATION:Casa Episcopal – Viseu
CATEGORIES:Bispo,Lembretes
END:VEVENT
BEGIN:VEVENT
DTSTART;TZID=Europe/Lisbon:20190517T110000
DTEND;TZID=Europe/Lisbon:20190517T110000
DTSTAMP:20260425T201444
CREATED:20190515T131202Z
LAST-MODIFIED:20190515T131208Z
UID:42673-1558090800-1558090800@diocesedeviseu.pt
SUMMARY:Encontro com os padres do Arciprestado do Dão
DESCRIPTION:
URL:https://diocesedeviseu.pt/evento/encontro-com-os-padres-do-arciprestado-do-dao/
CATEGORIES:Bispo,Lembretes
END:VEVENT
BEGIN:VEVENT
DTSTART;TZID=Europe/Lisbon:20190518T123000
DTEND;TZID=Europe/Lisbon:20190518T010000
DTSTAMP:20260425T201444
CREATED:20190515T131354Z
LAST-MODIFIED:20190515T131354Z
UID:42676-1558182600-1558141200@diocesedeviseu.pt
SUMMARY:Eucaristia e Encontro com os Diáconos Permanentes
DESCRIPTION:
URL:https://diocesedeviseu.pt/evento/eucaristia-e-encontro-com-os-diaconos-permanentes/
CATEGORIES:Bispo,Clero, Vocações e Vida Consagrada,Lembretes
END:VEVENT
BEGIN:VEVENT
DTSTART;TZID=Europe/Lisbon:20190518T153000
DTEND;TZID=Europe/Lisbon:20190518T010000
DTSTAMP:20260425T201444
CREATED:20190515T131510Z
LAST-MODIFIED:20190515T131510Z
UID:42678-1558193400-1558141200@diocesedeviseu.pt
SUMMARY:Benção da Capela
DESCRIPTION:
URL:https://diocesedeviseu.pt/evento/bencao-da-capela/
LOCATION:Casa de Saúde de São Mateus – Hospital
CATEGORIES:Bispo
END:VEVENT
BEGIN:VEVENT
DTSTART;TZID=Europe/Lisbon:20190518T180000
DTEND;TZID=Europe/Lisbon:20190518T180000
DTSTAMP:20260425T201444
CREATED:20190515T131639Z
LAST-MODIFIED:20190515T132603Z
UID:42681-1558202400-1558202400@diocesedeviseu.pt
SUMMARY:Celebração do Crisma em Fornos de Algodres
DESCRIPTION:
URL:https://diocesedeviseu.pt/evento/celebracao-do-crisma-fornos-de-algodres/
LOCATION:Igreja Paroquial de Fornos de Algodres
CATEGORIES:Bispo
END:VEVENT
BEGIN:VEVENT
DTSTART;TZID=Europe/Lisbon:20190519T120000
DTEND;TZID=Europe/Lisbon:20190519T010000
DTSTAMP:20260425T201444
CREATED:20190514T203901Z
LAST-MODIFIED:20190514T203901Z
UID:42657-1558267200-1558227600@diocesedeviseu.pt
SUMMARY:Celebração do Crisma em Arões
DESCRIPTION:
URL:https://diocesedeviseu.pt/evento/celebracao-do-crisma-em-aroes/
LOCATION:Igreja Paroquial de Arões\, Vale de Cambra
CATEGORIES:Bispo,Lembretes
END:VEVENT
BEGIN:VEVENT
DTSTART;VALUE=DATE:20190520
DTEND;VALUE=DATE:20190522
DTSTAMP:20260425T201444
CREATED:20190515T131733Z
LAST-MODIFIED:20190515T131733Z
UID:42684-1558314000-1558400399@diocesedeviseu.pt
SUMMARY:Convívio dos membros da Fraternidade Sacerdotal
DESCRIPTION:
URL:https://diocesedeviseu.pt/evento/convivio-dos-membros-da-fraternidade-sacerdotal/
CATEGORIES:Bispo,Clero, Vocações e Vida Consagrada
END:VEVENT
BEGIN:VEVENT
DTSTART;VALUE=DATE:20190521
DTEND;VALUE=DATE:20190523
DTSTAMP:20260425T201444
CREATED:20190515T131859Z
LAST-MODIFIED:20190515T131859Z
UID:42686-1558400400-1558486799@diocesedeviseu.pt
SUMMARY:Encontro dos Bispos da Província Eclesiástica de Braga
DESCRIPTION:
URL:https://diocesedeviseu.pt/evento/encontro-dos-bispos-da-provincia-eclesiastica-de-braga/
LOCATION:Aveiro
CATEGORIES:Bispo
END:VEVENT
BEGIN:VEVENT
DTSTART;VALUE=DATE:20190522
DTEND;VALUE=DATE:20190524
DTSTAMP:20260425T201444
CREATED:20190515T131948Z
LAST-MODIFIED:20190515T131948Z
UID:42689-1558486800-1558573199@diocesedeviseu.pt
SUMMARY:Encontro com a Equipa Formadora e Seminaristas
DESCRIPTION:
URL:https://diocesedeviseu.pt/evento/encontro-com-a-equipa-formadora-e-seminaristas/
LOCATION:Seminário Interdiocesano em Braga
CATEGORIES:Bispo,Clero, Vocações e Vida Consagrada
END:VEVENT
BEGIN:VEVENT
DTSTART;VALUE=DATE:20190523
DTEND;VALUE=DATE:20190526
DTSTAMP:20260425T201444
CREATED:20190523T125122Z
LAST-MODIFIED:20190523T125122Z
UID:42793-1558573200-1558745999@diocesedeviseu.pt
SUMMARY:Simpósio sobre a Vida nascente\, em representação da Comissão Episcopal da Pastoral Social e Mobilidade Humana
DESCRIPTION:
URL:https://diocesedeviseu.pt/evento/simposio-sobre-a-vida-nascente-em-representacao-da-comissao-episcopal-da-pastoral-social-e-mobilidade-humana/
LOCATION:Roma
CATEGORIES:Bispo
END:VEVENT
BEGIN:VEVENT
DTSTART;TZID=Europe/Lisbon:20190525T110000
DTEND;TZID=Europe/Lisbon:20190525T010000
DTSTAMP:20260425T201444
CREATED:20190523T125236Z
LAST-MODIFIED:20190523T125236Z
UID:42796-1558782000-1558746000@diocesedeviseu.pt
SUMMARY:Bênção e entrega de Diplomas
DESCRIPTION:
URL:https://diocesedeviseu.pt/evento/bencao-e-entrega-de-diplomas/
CATEGORIES:Bispo,Lembretes
END:VEVENT
BEGIN:VEVENT
DTSTART;TZID=Europe/Lisbon:20190525T190000
DTEND;TZID=Europe/Lisbon:20190525T190000
DTSTAMP:20260425T201444
CREATED:20190523T125342Z
LAST-MODIFIED:20190523T125342Z
UID:42799-1558810800-1558810800@diocesedeviseu.pt
SUMMARY:Celebração do Crisma em Mangualde
DESCRIPTION:
URL:https://diocesedeviseu.pt/evento/celebracao-do-crisma-em-mangualde/
CATEGORIES:Bispo
END:VEVENT
BEGIN:VEVENT
DTSTART;TZID=Europe/Lisbon:20190526T120000
DTEND;TZID=Europe/Lisbon:20190526T010000
DTSTAMP:20260425T201444
CREATED:20190523T125430Z
LAST-MODIFIED:20190523T125430Z
UID:42802-1558872000-1558832400@diocesedeviseu.pt
SUMMARY:Celebração do Crisma em Abraveses
DESCRIPTION:
URL:https://diocesedeviseu.pt/evento/celebracao-do-crisma-em-abraveses/
LOCATION:Igreja Paroquial de Abraveses
CATEGORIES:Bispo
END:VEVENT
BEGIN:VEVENT
DTSTART;TZID=Europe/Lisbon:20190526T190000
DTEND;TZID=Europe/Lisbon:20190526T190000
DTSTAMP:20260425T201444
CREATED:20190523T125527Z
LAST-MODIFIED:20190523T125527Z
UID:42805-1558897200-1558897200@diocesedeviseu.pt
SUMMARY:Celebração do Crisma em Dardavaz
DESCRIPTION:
URL:https://diocesedeviseu.pt/evento/celebracao-do-crisma-em-dardavaz/
LOCATION:Igreja Paroquial de Dardavaz
CATEGORIES:Bispo
END:VEVENT
BEGIN:VEVENT
DTSTART;TZID=Europe/Lisbon:20190527T110000
DTEND;TZID=Europe/Lisbon:20190527T010000
DTSTAMP:20260425T201444
CREATED:20190523T125606Z
LAST-MODIFIED:20190523T125606Z
UID:42808-1558954800-1558918800@diocesedeviseu.pt
SUMMARY:Encontro dos Bispos do Centro
DESCRIPTION:
URL:https://diocesedeviseu.pt/evento/encontro-dos-bispos-do-centro/
CATEGORIES:Bispo
END:VEVENT
BEGIN:VEVENT
DTSTART;TZID=Europe/Lisbon:20190530T160000
DTEND;TZID=Europe/Lisbon:20190530T010000
DTSTAMP:20260425T201444
CREATED:20190529T203647Z
LAST-MODIFIED:20190529T203647Z
UID:42869-1559232000-1559178000@diocesedeviseu.pt
SUMMARY:Encontro com os responsáveis do Renovamento Carismático na Diocese
DESCRIPTION:
URL:https://diocesedeviseu.pt/evento/encontro-com-os-responsaveis-do-renovamento-carismatico-na-diocese/
LOCATION:Casa Episcopal – Viseu
CATEGORIES:Bispo
END:VEVENT
END:VCALENDAR