BEGIN:VCALENDAR
VERSION:2.0
PRODID:-//Diocese de Viseu - ECPv6.15.18//NONSGML v1.0//EN
CALSCALE:GREGORIAN
METHOD:PUBLISH
X-WR-CALNAME:Diocese de Viseu
X-ORIGINAL-URL:https://diocesedeviseu.pt
X-WR-CALDESC:Eventos para Diocese de Viseu
REFRESH-INTERVAL;VALUE=DURATION:PT1H
X-Robots-Tag:noindex
X-PUBLISHED-TTL:PT1H
BEGIN:VTIMEZONE
TZID:Europe/Lisbon
BEGIN:DAYLIGHT
TZOFFSETFROM:+0000
TZOFFSETTO:+0100
TZNAME:WEST
DTSTART:20180325T010000
END:DAYLIGHT
BEGIN:STANDARD
TZOFFSETFROM:+0100
TZOFFSETTO:+0000
TZNAME:WET
DTSTART:20181028T010000
END:STANDARD
BEGIN:DAYLIGHT
TZOFFSETFROM:+0000
TZOFFSETTO:+0100
TZNAME:WEST
DTSTART:20190331T010000
END:DAYLIGHT
BEGIN:STANDARD
TZOFFSETFROM:+0100
TZOFFSETTO:+0000
TZNAME:WET
DTSTART:20191027T010000
END:STANDARD
BEGIN:DAYLIGHT
TZOFFSETFROM:+0000
TZOFFSETTO:+0100
TZNAME:WEST
DTSTART:20200329T010000
END:DAYLIGHT
BEGIN:STANDARD
TZOFFSETFROM:+0100
TZOFFSETTO:+0000
TZNAME:WET
DTSTART:20201025T010000
END:STANDARD
END:VTIMEZONE
BEGIN:VEVENT
DTSTART;TZID=Europe/Lisbon:20190601T110000
DTEND;TZID=Europe/Lisbon:20190601T180000
DTSTAMP:20260425T004519
CREATED:20190529T203742Z
LAST-MODIFIED:20190529T203742Z
UID:42871-1559386800-1559412000@diocesedeviseu.pt
SUMMARY:Concentração do Corpo Nacional de Escutas Regional e Celebração da Eucaristia
DESCRIPTION:
URL:https://diocesedeviseu.pt/evento/concentracao-do-corpo-nacional-de-escutas-regional-e-celebracao-da-eucaristia/
LOCATION:Rio de Loba
CATEGORIES:Bispo,Lembretes
END:VEVENT
BEGIN:VEVENT
DTSTART;TZID=Europe/Lisbon:20190601T130000
DTEND;TZID=Europe/Lisbon:20190601T010000
DTSTAMP:20260425T004519
CREATED:20190529T203847Z
LAST-MODIFIED:20190529T203847Z
UID:42874-1559394000-1559350800@diocesedeviseu.pt
SUMMARY:Conferência no Instituto Piaget de Viseu
DESCRIPTION:
URL:https://diocesedeviseu.pt/evento/conferencia-no-instituto-piaget-de-viseu/
LOCATION:Instituto Piaget – Viseu
CATEGORIES:Bispo
END:VEVENT
BEGIN:VEVENT
DTSTART;TZID=Europe/Lisbon:20190601T180000
DTEND;TZID=Europe/Lisbon:20190601T180000
DTSTAMP:20260425T004519
CREATED:20190529T203947Z
LAST-MODIFIED:20190529T204219Z
UID:42877-1559412000-1559412000@diocesedeviseu.pt
SUMMARY:Crisma na Igreja Paroquial de Sátão
DESCRIPTION:
URL:https://diocesedeviseu.pt/evento/crisma-na-igreja-paroquial-do-satao/
LOCATION:Igreja Paroquial de Sátão
CATEGORIES:Bispo
END:VEVENT
BEGIN:VEVENT
DTSTART;TZID=Europe/Lisbon:20190604T190000
DTEND;TZID=Europe/Lisbon:20190604T190000
DTSTAMP:20260425T004519
CREATED:20190529T204454Z
LAST-MODIFIED:20190529T204454Z
UID:42887-1559674800-1559674800@diocesedeviseu.pt
SUMMARY:Eucaristia
DESCRIPTION:
URL:https://diocesedeviseu.pt/evento/eucaristia-2/
LOCATION:Igreja Paroquial de Sátão
CATEGORIES:Bispo
END:VEVENT
BEGIN:VEVENT
DTSTART;TZID=Europe/Lisbon:20190604T220000
DTEND;TZID=Europe/Lisbon:20190604T220000
DTSTAMP:20260425T004519
CREATED:20190529T204337Z
LAST-MODIFIED:20190529T204337Z
UID:42884-1559685600-1559685600@diocesedeviseu.pt
SUMMARY:Conferência sobre o tema "A missão da paróquia"
DESCRIPTION:
URL:https://diocesedeviseu.pt/evento/conferencia-sobre-o-tema-a-missao-da-paroquia/
CATEGORIES:Bispo
END:VEVENT
BEGIN:VEVENT
DTSTART;TZID=Europe/Lisbon:20190606T110000
DTEND;TZID=Europe/Lisbon:20190606T010000
DTSTAMP:20260425T004519
CREATED:20190605T125743Z
LAST-MODIFIED:20190605T125743Z
UID:42999-1559818800-1559782800@diocesedeviseu.pt
SUMMARY:Reunião com o Clero do Arciprestado da Beira Alta
DESCRIPTION:
URL:https://diocesedeviseu.pt/evento/reuniao-com-o-clero-do-arciprestado-da-beira-alta/
CATEGORIES:Bispo,Clero, Vocações e Vida Consagrada
END:VEVENT
BEGIN:VEVENT
DTSTART;TZID=Europe/Lisbon:20190607T180000
DTEND;TZID=Europe/Lisbon:20190607T180000
DTSTAMP:20260425T004519
CREATED:20190605T125840Z
LAST-MODIFIED:20190605T125840Z
UID:43001-1559930400-1559930400@diocesedeviseu.pt
SUMMARY:Encontro com os Cursilhos de Cristandade
DESCRIPTION:
URL:https://diocesedeviseu.pt/evento/encontro-com-os-cursilhos-de-cristandade/
LOCATION:Casa Episcopal – Viseu
CATEGORIES:Bispo
END:VEVENT
BEGIN:VEVENT
DTSTART;TZID=Europe/Lisbon:20190608T123000
DTEND;TZID=Europe/Lisbon:20190608T010000
DTSTAMP:20260425T004519
CREATED:20190605T125943Z
LAST-MODIFIED:20190605T125943Z
UID:43003-1559997000-1559955600@diocesedeviseu.pt
SUMMARY:Encontro com os militares do Hospital Militar de Nampula\, Moçambique
DESCRIPTION:
URL:https://diocesedeviseu.pt/evento/encontro-com-os-militares-do-hospital-militar-de-nampula-mocambique/
LOCATION:Igreja dos Terceiros – Viseu
CATEGORIES:Bispo
END:VEVENT
BEGIN:VEVENT
DTSTART;TZID=Europe/Lisbon:20190608T193000
DTEND;TZID=Europe/Lisbon:20190608T193000
DTSTAMP:20260425T004519
CREATED:20190605T133251Z
LAST-MODIFIED:20190605T133251Z
UID:43006-1560022200-1560022200@diocesedeviseu.pt
SUMMARY:Celebração do Crisma em Santos Evos
DESCRIPTION:
URL:https://diocesedeviseu.pt/evento/celebracao-do-crisma-em-santos-evos/
LOCATION:Santos Evos
CATEGORIES:Bispo
END:VEVENT
BEGIN:VEVENT
DTSTART;TZID=Europe/Lisbon:20190609T120000
DTEND;TZID=Europe/Lisbon:20190609T010000
DTSTAMP:20260425T004520
CREATED:20190605T133345Z
LAST-MODIFIED:20190605T133345Z
UID:43009-1560081600-1560042000@diocesedeviseu.pt
SUMMARY:Celebração da Solenidade do Pentecostes e Crisma - Catedral
DESCRIPTION:
URL:https://diocesedeviseu.pt/evento/celebracao-da-solenidade-do-pentecostes-e-crisma-catedral/
LOCATION:Catedral de Viseu
CATEGORIES:Bispo,Lembretes
END:VEVENT
BEGIN:VEVENT
DTSTART;TZID=Europe/Lisbon:20190609T180000
DTEND;TZID=Europe/Lisbon:20190609T010000
DTSTAMP:20260425T004520
CREATED:20190605T133448Z
LAST-MODIFIED:20190605T133448Z
UID:43011-1560103200-1560042000@diocesedeviseu.pt
SUMMARY:Celebração do Crisma para o concelho de Santa Comba Dão em S. Joaninho
DESCRIPTION:
URL:https://diocesedeviseu.pt/evento/celebracao-do-crisma-para-o-concelho-de-santa-comba-dao-em-s-joaninho/
LOCATION:São Joaninho – S. Comba Dão
CATEGORIES:Bispo,Lembretes
END:VEVENT
BEGIN:VEVENT
DTSTART;TZID=Europe/Lisbon:20190610T180000
DTEND;TZID=Europe/Lisbon:20190610T180000
DTSTAMP:20260425T004520
CREATED:20190605T133657Z
LAST-MODIFIED:20190605T133657Z
UID:43014-1560189600-1560189600@diocesedeviseu.pt
SUMMARY:Celebração do Crisma para o concelho de São Pedro do Sul
DESCRIPTION:
URL:https://diocesedeviseu.pt/evento/celebracao-do-crisma-para-o-concelho-de-sao-pedro-do-sul/
LOCATION:Igreja do Convento – São Pedro do Sul
CATEGORIES:Bispo,Lembretes
END:VEVENT
BEGIN:VEVENT
DTSTART;VALUE=DATE:20190612
DTEND;VALUE=DATE:20190615
DTSTAMP:20260425T004520
CREATED:20190605T133904Z
LAST-MODIFIED:20190605T133904Z
UID:43020-1560301200-1560473999@diocesedeviseu.pt
SUMMARY:Presidência da peregrinação aniversária de junho - Fátima
DESCRIPTION:
URL:https://diocesedeviseu.pt/evento/presidencia-da-peregrinacao-aniversaria-de-junho-fatima/
LOCATION:Fátima\, Fátima\, Fátima\, Portugal
CATEGORIES:Bispo
END:VEVENT
BEGIN:VEVENT
DTSTART;TZID=Europe/Lisbon:20190612T110000
DTEND;TZID=Europe/Lisbon:20190612T010000
DTSTAMP:20260425T004520
CREATED:20190605T133800Z
LAST-MODIFIED:20190605T133800Z
UID:43017-1560337200-1560301200@diocesedeviseu.pt
SUMMARY:Reunião com o Clero do Arciprestado de Lafões
DESCRIPTION:
URL:https://diocesedeviseu.pt/evento/reuniao-com-o-clero-do-arciprestado-de-lafoes/
LOCATION:OIiveira de Frades
CATEGORIES:Bispo,Clero, Vocações e Vida Consagrada
END:VEVENT
BEGIN:VEVENT
DTSTART;VALUE=DATE:20190614
DTEND;VALUE=DATE:20190616
DTSTAMP:20260425T004520
CREATED:20190613T080910Z
LAST-MODIFIED:20190613T081137Z
UID:43137-1560474000-1560560399@diocesedeviseu.pt
SUMMARY:Reunião do Clero do Arciprestado de Besteiros
DESCRIPTION:
URL:https://diocesedeviseu.pt/evento/reuniao-do-clero-do-arciprestado-de-besteiros-3/
LOCATION:Cabanas de Viriato
CATEGORIES:Bispo,Clero, Vocações e Vida Consagrada
END:VEVENT
BEGIN:VEVENT
DTSTART;TZID=Europe/Lisbon:20190615T190000
DTEND;TZID=Europe/Lisbon:20190615T190000
DTSTAMP:20260425T004520
CREATED:20190613T081457Z
LAST-MODIFIED:20190613T081457Z
UID:43142-1560625200-1560625200@diocesedeviseu.pt
SUMMARY:Celebração do Crisma para parte das paróquias do Arciprestado Viseu Rural - Lordosa
DESCRIPTION:
URL:https://diocesedeviseu.pt/evento/celebracao-do-crisma-para-parte-das-paroquias-do-arciprestado-viseu-rural-lordosa/
LOCATION:Lordosa
CATEGORIES:Bispo,Lembretes
END:VEVENT
BEGIN:VEVENT
DTSTART;TZID=Europe/Lisbon:20190616T150000
DTEND;TZID=Europe/Lisbon:20190616T150000
DTSTAMP:20260425T004520
CREATED:20190613T081901Z
LAST-MODIFIED:20190613T082039Z
UID:43145-1560697200-1560697200@diocesedeviseu.pt
SUMMARY:Celebração da Festa de Nosso Senhor dos Caminhos
DESCRIPTION:
URL:https://diocesedeviseu.pt/evento/celebracao-da-festa-de-nosso-senhor-dos-caminhos/
LOCATION:Santuário\, Rãs
CATEGORIES:Bispo,Lembretes
END:VEVENT
BEGIN:VEVENT
DTSTART;VALUE=DATE:20190617
DTEND;VALUE=DATE:20190621
DTSTAMP:20260425T004520
CREATED:20190613T082304Z
LAST-MODIFIED:20190613T082315Z
UID:43148-1560733200-1560992399@diocesedeviseu.pt
SUMMARY:Encontro de Formação para o Episcopado
DESCRIPTION:
URL:https://diocesedeviseu.pt/evento/encontro-de-formacao-para-o-episcopado/
LOCATION:Fátima\, Fátima\, Fátima\, Portugal
CATEGORIES:Bispo
END:VEVENT
BEGIN:VEVENT
DTSTART;TZID=Europe/Lisbon:20190620T120000
DTEND;TZID=Europe/Lisbon:20190620T120000
DTSTAMP:20260425T004520
CREATED:20190613T082416Z
LAST-MODIFIED:20190613T082416Z
UID:43150-1561032000-1561032000@diocesedeviseu.pt
SUMMARY:Eucaristia da Solenidade do Santíssimo Corpo e Sangue de Jesus
DESCRIPTION:
URL:https://diocesedeviseu.pt/evento/eucaristia-da-solenidade-do-santissimo-corpo-e-sangue-de-jesus/
LOCATION:Catedral de Viseu
CATEGORIES:Bispo,Lembretes
END:VEVENT
BEGIN:VEVENT
DTSTART;TZID=Europe/Lisbon:20190620T180000
DTEND;TZID=Europe/Lisbon:20190620T180000
DTSTAMP:20260425T004520
CREATED:20190613T082517Z
LAST-MODIFIED:20190613T082517Z
UID:43152-1561053600-1561053600@diocesedeviseu.pt
SUMMARY:Procissão Eucarística\, pelas ruas da cidade de Viseu
DESCRIPTION:
URL:https://diocesedeviseu.pt/evento/procissao-eucaristica-pelas-ruas-da-cidade-de-viseu/
LOCATION:Catedral de Viseu
CATEGORIES:Bispo,Lembretes
END:VEVENT
BEGIN:VEVENT
DTSTART;TZID=Europe/Lisbon:20190622T180000
DTEND;TZID=Europe/Lisbon:20190622T180000
DTSTAMP:20260425T004520
CREATED:20190619T170734Z
LAST-MODIFIED:20190619T170734Z
UID:43243-1561226400-1561226400@diocesedeviseu.pt
SUMMARY:Celebração do Crisma na Igreja de Oliveira do Conde para o concelho de Carregal do Sal
DESCRIPTION:
URL:https://diocesedeviseu.pt/evento/celebracao-do-crisma-na-igreja-de-oliveira-do-conde-para-o-concelho-de-carregal-do-sal/
LOCATION:Oliveira do Conde
CATEGORIES:Bispo,Lembretes
END:VEVENT
BEGIN:VEVENT
DTSTART;TZID=Europe/Lisbon:20190623T120000
DTEND;TZID=Europe/Lisbon:20190623T010000
DTSTAMP:20260425T004520
CREATED:20190618T204411Z
LAST-MODIFIED:20190618T204411Z
UID:43235-1561291200-1561251600@diocesedeviseu.pt
SUMMARY:Celebração do Crisma na Paróquia de Campo de Madalena
DESCRIPTION:
URL:https://diocesedeviseu.pt/evento/celebracao-do-crisma-na-paroquia-de-campo-de-madalena/
LOCATION:Igreja Paroquial de Campo de Madalena
CATEGORIES:Bispo,Lembretes
END:VEVENT
BEGIN:VEVENT
DTSTART;TZID=Europe/Lisbon:20190623T180000
DTEND;TZID=Europe/Lisbon:20190623T180000
DTSTAMP:20260425T004520
CREATED:20190619T170820Z
LAST-MODIFIED:20190619T170845Z
UID:43246-1561312800-1561312800@diocesedeviseu.pt
SUMMARY:Celebração do Crisma na Igreja de Vouzela
DESCRIPTION:
URL:https://diocesedeviseu.pt/evento/crisma-na-igreja-de-vouzela/
CATEGORIES:Bispo,Lembretes
END:VEVENT
BEGIN:VEVENT
DTSTART;TZID=Europe/Lisbon:20190629T113000
DTEND;TZID=Europe/Lisbon:20190629T113000
DTSTAMP:20260425T004520
CREATED:20190626T211445Z
LAST-MODIFIED:20190626T211940Z
UID:43324-1561807800-1561807800@diocesedeviseu.pt
SUMMARY:Festa de São Pedro em Manhouce
DESCRIPTION:
URL:https://diocesedeviseu.pt/evento/festa-de-sao-pedro/
LOCATION:Manhouce
CATEGORIES:Bispo
END:VEVENT
BEGIN:VEVENT
DTSTART;TZID=Europe/Lisbon:20190629T190000
DTEND;TZID=Europe/Lisbon:20190629T190000
DTSTAMP:20260425T004520
CREATED:20190626T211539Z
LAST-MODIFIED:20190626T211611Z
UID:43327-1561834800-1561834800@diocesedeviseu.pt
SUMMARY:Celebração do Crisma na Paróquia de Coração de Jesus
DESCRIPTION:
URL:https://diocesedeviseu.pt/evento/celebracao-do-crisma/
CATEGORIES:Bispo
END:VEVENT
BEGIN:VEVENT
DTSTART;TZID=Europe/Lisbon:20190630T120000
DTEND;TZID=Europe/Lisbon:20190630T120000
DTSTAMP:20260425T004520
CREATED:20190626T211721Z
LAST-MODIFIED:20190626T212247Z
UID:43332-1561896000-1561896000@diocesedeviseu.pt
SUMMARY:Celebração do Crisma na Paróquia de Vila Chã de Sá
DESCRIPTION:
URL:https://diocesedeviseu.pt/evento/celebracao-do-crisma-na-paroquia-de-vila-cha-de-sa/
LOCATION:Igreja Paroquial de Vila Chã de Sá
CATEGORIES:Bispo
END:VEVENT
BEGIN:VEVENT
DTSTART;TZID=Europe/Lisbon:20190630T180000
DTEND;TZID=Europe/Lisbon:20190630T010000
DTSTAMP:20260425T004520
CREATED:20190626T211833Z
LAST-MODIFIED:20190626T211833Z
UID:43336-1561917600-1561856400@diocesedeviseu.pt
SUMMARY:Celebração do Crisma na Paróquia de Oliveira de Frades
DESCRIPTION:
URL:https://diocesedeviseu.pt/evento/celebracao-do-crisma-na-paroquia-de-oliveira-de-frades/
CATEGORIES:Bispo
END:VEVENT
END:VCALENDAR