BEGIN:VCALENDAR
VERSION:2.0
PRODID:-//Diocese de Viseu - ECPv6.15.18//NONSGML v1.0//EN
CALSCALE:GREGORIAN
METHOD:PUBLISH
X-ORIGINAL-URL:https://diocesedeviseu.pt
X-WR-CALDESC:Eventos para Diocese de Viseu
REFRESH-INTERVAL;VALUE=DURATION:PT1H
X-Robots-Tag:noindex
X-PUBLISHED-TTL:PT1H
BEGIN:VTIMEZONE
TZID:Europe/Lisbon
BEGIN:DAYLIGHT
TZOFFSETFROM:+0000
TZOFFSETTO:+0100
TZNAME:WEST
DTSTART:20180325T010000
END:DAYLIGHT
BEGIN:STANDARD
TZOFFSETFROM:+0100
TZOFFSETTO:+0000
TZNAME:WET
DTSTART:20181028T010000
END:STANDARD
BEGIN:DAYLIGHT
TZOFFSETFROM:+0000
TZOFFSETTO:+0100
TZNAME:WEST
DTSTART:20190331T010000
END:DAYLIGHT
BEGIN:STANDARD
TZOFFSETFROM:+0100
TZOFFSETTO:+0000
TZNAME:WET
DTSTART:20191027T010000
END:STANDARD
BEGIN:DAYLIGHT
TZOFFSETFROM:+0000
TZOFFSETTO:+0100
TZNAME:WEST
DTSTART:20200329T010000
END:DAYLIGHT
BEGIN:STANDARD
TZOFFSETFROM:+0100
TZOFFSETTO:+0000
TZNAME:WET
DTSTART:20201025T010000
END:STANDARD
END:VTIMEZONE
BEGIN:VEVENT
DTSTART;VALUE=DATE:20190701
DTEND;VALUE=DATE:20190707
DTSTAMP:20260425T024539
CREATED:20190626T212120Z
LAST-MODIFIED:20190626T212607Z
UID:43340-1561942800-1562374799@diocesedeviseu.pt
SUMMARY:Retiro do Clero da Diocese de Viseu
DESCRIPTION:
URL:https://diocesedeviseu.pt/evento/retiro-do-clero-da-diocese-de-viseu/
LOCATION:Seminário Maior de Viseu
CATEGORIES:Bispo,Clero, Vocações e Vida Consagrada
END:VEVENT
BEGIN:VEVENT
DTSTART;VALUE=DATE:20190706
DTEND;VALUE=DATE:20190708
DTSTAMP:20260425T024539
CREATED:20190703T121715Z
LAST-MODIFIED:20190703T121715Z
UID:43436-1562374800-1562461199@diocesedeviseu.pt
SUMMARY:Passeio dos Consagrados da Diocese
DESCRIPTION:
URL:https://diocesedeviseu.pt/evento/passeio-dos-consagrados-da-diocese/
CATEGORIES:Bispo,Clero, Vocações e Vida Consagrada
END:VEVENT
BEGIN:VEVENT
DTSTART;TZID=Europe/Lisbon:20190707T103000
DTEND;TZID=Europe/Lisbon:20190707T010000
DTSTAMP:20260425T024539
CREATED:20190703T121828Z
LAST-MODIFIED:20190703T121828Z
UID:43438-1562495400-1562461200@diocesedeviseu.pt
SUMMARY:Celebração da Eucaristia e Crisma em Ranhados
DESCRIPTION:
URL:https://diocesedeviseu.pt/evento/celebracao-da-eucaristia-e-crisma-em-ranhados/
LOCATION:Igreja Paroquial de Ranhados
CATEGORIES:Bispo,Lembretes
END:VEVENT
BEGIN:VEVENT
DTSTART;TZID=Europe/Lisbon:20190707T130000
DTEND;TZID=Europe/Lisbon:20190707T010000
DTSTAMP:20260425T024539
CREATED:20190703T121923Z
LAST-MODIFIED:20190703T121923Z
UID:43441-1562504400-1562461200@diocesedeviseu.pt
SUMMARY:Eucaristia e Dedicação do novo Altar da Igreja do Carmo
DESCRIPTION:
URL:https://diocesedeviseu.pt/evento/eucaristia-e-dedicacao-do-novo-altar-da-igreja-do-carmo/
LOCATION:Igreja do Carmo – Viseu\, Igreja do Carmo\, Viseu\, Portugal
CATEGORIES:Bispo,Lembretes
END:VEVENT
BEGIN:VEVENT
DTSTART;TZID=Europe/Lisbon:20190707T190000
DTEND;TZID=Europe/Lisbon:20190707T190000
DTSTAMP:20260425T024539
CREATED:20190703T122032Z
LAST-MODIFIED:20190703T122032Z
UID:43443-1562526000-1562526000@diocesedeviseu.pt
SUMMARY:Eucaristia e Crisma em Castelo de Penalva
DESCRIPTION:
URL:https://diocesedeviseu.pt/evento/eucaristia-e-crisma-em-castelo-de-penalva/
LOCATION:Castelo de Penalva
CATEGORIES:Bispo,Lembretes
END:VEVENT
BEGIN:VEVENT
DTSTART;TZID=Europe/Lisbon:20190709T173000
DTEND;TZID=Europe/Lisbon:20190709T010000
DTSTAMP:20260425T024539
CREATED:20190703T122126Z
LAST-MODIFIED:20190703T122126Z
UID:43446-1562693400-1562634000@diocesedeviseu.pt
SUMMARY:Encontro com responsáveis das Reparadoras Eucarísticas
DESCRIPTION:
URL:https://diocesedeviseu.pt/evento/encontro-com-responsaveis-das-reparadoras-eucaristicas/
LOCATION:Centro Pastoral Diocesano
CATEGORIES:Bispo
END:VEVENT
BEGIN:VEVENT
DTSTART;TZID=Europe/Lisbon:20190709T220000
DTEND;TZID=Europe/Lisbon:20190709T220000
DTSTAMP:20260425T024539
CREATED:20190703T122213Z
LAST-MODIFIED:20190703T122213Z
UID:43448-1562709600-1562709600@diocesedeviseu.pt
SUMMARY:Encontro com os Neo Catecumenais
DESCRIPTION:
URL:https://diocesedeviseu.pt/evento/encontro-com-os-neo-catecumenais-2/
CATEGORIES:Bispo
END:VEVENT
BEGIN:VEVENT
DTSTART;TZID=Europe/Lisbon:20190710T200000
DTEND;TZID=Europe/Lisbon:20190710T200000
DTSTAMP:20260425T024539
CREATED:20190703T122323Z
LAST-MODIFIED:20190703T122323Z
UID:43450-1562788800-1562788800@diocesedeviseu.pt
SUMMARY:Encontro com o Pároco\, Crismados e colaboradores na Igreja da Madre Rita
DESCRIPTION:
URL:https://diocesedeviseu.pt/evento/encontro-com-o-paroco-crismados-e-colaboradores-na-igreja-da-madre-rita/
CATEGORIES:Bispo
END:VEVENT
BEGIN:VEVENT
DTSTART;TZID=Europe/Lisbon:20190713T120000
DTEND;TZID=Europe/Lisbon:20190712T123842
DTSTAMP:20260425T024539
CREATED:20190712T103842Z
LAST-MODIFIED:20190712T103842Z
UID:43572-1563019200-1562935122@diocesedeviseu.pt
SUMMARY:Celebração das bodas de ouro sacerdotais do padre António José Marques
DESCRIPTION:
URL:https://diocesedeviseu.pt/evento/celebracao-das-bodas-de-ouro-sacerdotais-do-padre-antonio-jose-marques/
CATEGORIES:Bispo,Clero, Vocações e Vida Consagrada,Lembretes
END:VEVENT
BEGIN:VEVENT
DTSTART;TZID=Europe/Lisbon:20190713T190000
DTEND;TZID=Europe/Lisbon:20190712T124216
DTSTAMP:20260425T024539
CREATED:20190712T104216Z
LAST-MODIFIED:20190712T104216Z
UID:43574-1563044400-1562935336@diocesedeviseu.pt
SUMMARY:Crismas para a unidade pastoral de Aguiar da Beira em Coruche
DESCRIPTION:
URL:https://diocesedeviseu.pt/evento/crismas-para-a-unidade-pastoral-de-aguiar-da-beira-em-coruche/
CATEGORIES:Bispo,Lembretes
END:VEVENT
BEGIN:VEVENT
DTSTART;TZID=Europe/Lisbon:20190714T113000
DTEND;TZID=Europe/Lisbon:20190712T124422
DTSTAMP:20260425T024539
CREATED:20190712T104421Z
LAST-MODIFIED:20190712T104421Z
UID:43576-1563103800-1562935462@diocesedeviseu.pt
SUMMARY:Eucaristia em Mões
DESCRIPTION:
URL:https://diocesedeviseu.pt/evento/eucaristia-em-moes/
CATEGORIES:Bispo
END:VEVENT
BEGIN:VEVENT
DTSTART;TZID=Europe/Lisbon:20190714T150000
DTEND;TZID=Europe/Lisbon:20190714T150000
DTSTAMP:20260425T024539
CREATED:20190712T104610Z
LAST-MODIFIED:20190712T105828Z
UID:43578-1563116400-1563116400@diocesedeviseu.pt
SUMMARY:Eucaristia de encerramento do 32 Curso de enfermeiros na Sé
DESCRIPTION:
URL:https://diocesedeviseu.pt/evento/eucaristia-de-encerramento-do-curso-de-enfermeiros-na-se/
CATEGORIES:Bispo
END:VEVENT
BEGIN:VEVENT
DTSTART;TZID=Europe/Lisbon:20190714T180000
DTEND;TZID=Europe/Lisbon:20190714T010000
DTSTAMP:20260425T024539
CREATED:20190712T104715Z
LAST-MODIFIED:20190712T104811Z
UID:43580-1563127200-1563066000@diocesedeviseu.pt
SUMMARY:Eucaristia e crismas no Guardão
DESCRIPTION:
URL:https://diocesedeviseu.pt/evento/eucaristia-e-crismas-no-guardao/
CATEGORIES:Bispo
END:VEVENT
BEGIN:VEVENT
DTSTART;TZID=Europe/Lisbon:20190715T110000
DTEND;TZID=Europe/Lisbon:20190712T125100
DTSTAMP:20260425T024539
CREATED:20190712T105100Z
LAST-MODIFIED:20190712T105100Z
UID:43582-1563188400-1562935860@diocesedeviseu.pt
SUMMARY:Reunião com os padres do arciprestado de Viseu urbano\, no Centro Pastoral
DESCRIPTION:
URL:https://diocesedeviseu.pt/evento/reuniao-com-os-padres-do-arciprestado-de-viseu-urbano-no-centro-pastoral/
CATEGORIES:Bispo,Clero, Vocações e Vida Consagrada
END:VEVENT
BEGIN:VEVENT
DTSTART;TZID=Europe/Lisbon:20190716T220000
DTEND;TZID=Europe/Lisbon:20190712T125304
DTSTAMP:20260425T024539
CREATED:20190712T105304Z
LAST-MODIFIED:20190712T105304Z
UID:43584-1563314400-1562935984@diocesedeviseu.pt
SUMMARY:Eucaristia e procissão da festa de nossa Senhora do Carmo\, na Igreja do Carmo
DESCRIPTION:
URL:https://diocesedeviseu.pt/evento/eucaristia-e-procissao-da-festa-de-nossa-senhora-do-carmo-na-igreja-do-carmo/
CATEGORIES:Bispo,Lembretes
END:VEVENT
BEGIN:VEVENT
DTSTART;VALUE=DATE:20190717
DTEND;VALUE=DATE:20190719
DTSTAMP:20260425T024539
CREATED:20190717T222141Z
LAST-MODIFIED:20190717T222141Z
UID:43654-1563325200-1563411599@diocesedeviseu.pt
SUMMARY:Convívio com os padres do Arciprestado de Lafões
DESCRIPTION:
URL:https://diocesedeviseu.pt/evento/convivio-com-os-padres-do-arciprestado-de-lafoes/
CATEGORIES:Bispo,Clero, Vocações e Vida Consagrada
END:VEVENT
BEGIN:VEVENT
DTSTART;TZID=Europe/Lisbon:20190719T170000
DTEND;TZID=Europe/Lisbon:20190719T010000
DTSTAMP:20260425T024539
CREATED:20190717T222339Z
LAST-MODIFIED:20190717T222339Z
UID:43656-1563555600-1563498000@diocesedeviseu.pt
SUMMARY:Reunião com os Bispos e os membros da Equipa do Seminário Interdiocesano de São José
DESCRIPTION:
URL:https://diocesedeviseu.pt/evento/reuniao-com-os-bispos-e-os-membros-da-equipa-do-seminario-interdiocesano-de-sao-jose/
LOCATION:Casa Episcopal – Viseu
CATEGORIES:Bispo,Lembretes
END:VEVENT
BEGIN:VEVENT
DTSTART;TZID=Europe/Lisbon:20190721T180000
DTEND;TZID=Europe/Lisbon:20190721T180000
DTSTAMP:20260425T024539
CREATED:20190717T222713Z
LAST-MODIFIED:20190717T222713Z
UID:43659-1563732000-1563732000@diocesedeviseu.pt
SUMMARY:Bênção da Capela de São José\, para o Agrupamento 1313 do CNE
DESCRIPTION:
URL:https://diocesedeviseu.pt/evento/bencao-da-capela-de-sao-jose-para-o-agrupamento-1313-do-cne/
CATEGORIES:Bispo,Lembretes
END:VEVENT
BEGIN:VEVENT
DTSTART;TZID=Europe/Lisbon:20190722T113000
DTEND;TZID=Europe/Lisbon:20190722T010000
DTSTAMP:20260425T024539
CREATED:20190717T222836Z
LAST-MODIFIED:20190717T222836Z
UID:43662-1563795000-1563757200@diocesedeviseu.pt
SUMMARY:Eucaristia da Festa de Santa Maria Madalena
DESCRIPTION:
URL:https://diocesedeviseu.pt/evento/eucaristia-da-festa-de-santa-maria-madalena/
CATEGORIES:Bispo,Lembretes
END:VEVENT
BEGIN:VEVENT
DTSTART;TZID=Europe/Lisbon:20190723T190000
DTEND;TZID=Europe/Lisbon:20190723T010000
DTSTAMP:20260425T024539
CREATED:20181020T145443Z
LAST-MODIFIED:20190717T223219Z
UID:38968-1563908400-1563843600@diocesedeviseu.pt
SUMMARY:Celebração da Solenidade da Dedicação da Catedral
DESCRIPTION:
URL:https://diocesedeviseu.pt/evento/aniversario-da-dedicacao-da-igreja-catedral/
LOCATION:Catedral de Viseu
CATEGORIES:Bispo,Lembretes
END:VEVENT
BEGIN:VEVENT
DTSTART;TZID=Europe/Lisbon:20190724T183000
DTEND;TZID=Europe/Lisbon:20190724T183000
DTSTAMP:20260425T024539
CREATED:20190717T223353Z
LAST-MODIFIED:20190717T223353Z
UID:43669-1563993000-1563993000@diocesedeviseu.pt
SUMMARY:Inauguração do novo Quartel dos Bombeiros Municipais de Viseu
DESCRIPTION:
URL:https://diocesedeviseu.pt/evento/inauguracao-do-novo-quartel-dos-bombeiros-municipais-de-viseu/
CATEGORIES:Bispo,Lembretes
END:VEVENT
BEGIN:VEVENT
DTSTART;VALUE=DATE:20190727
DTEND;VALUE=DATE:20190729
DTSTAMP:20260425T024539
CREATED:20190724T102741Z
LAST-MODIFIED:20190724T102741Z
UID:43737-1564189200-1564275599@diocesedeviseu.pt
SUMMARY:Peregrinação dos Missionários Combonianos\, em ação de graças também pelo primeiro seminário missionário construído na cidade de Viseu
DESCRIPTION:
URL:https://diocesedeviseu.pt/evento/peregrinacao-dos-missionarios-combonianos-em-acao-de-gracas-tambem-pelo-primeiro-seminario-missionario-construido-na-cidade-de-viseu/
LOCATION:Fátima\, Fátima\, Fátima\, Portugal
CATEGORIES:Bispo,Lembretes
END:VEVENT
BEGIN:VEVENT
DTSTART;TZID=Europe/Lisbon:20190728T160000
DTEND;TZID=Europe/Lisbon:20190728T010000
DTSTAMP:20260425T024539
CREATED:20190724T102921Z
LAST-MODIFIED:20190724T102921Z
UID:43739-1564329600-1564275600@diocesedeviseu.pt
SUMMARY:Eucaristia nas Bodas de Prata Sacerdotais do Padre Lúcio Manuel Oliveira da Cunha Marques
DESCRIPTION:
URL:https://diocesedeviseu.pt/evento/eucaristia-nas-bodas-de-prata-sacerdotais-do-padre-lucio-manuel-oliveira-da-cunha-marques/
LOCATION:Igreja Paroquial de Couto de Baixo
CATEGORIES:Bispo,Clero, Vocações e Vida Consagrada,Lembretes
END:VEVENT
END:VCALENDAR