BEGIN:VCALENDAR
VERSION:2.0
PRODID:-//Diocese de Viseu - ECPv6.15.18//NONSGML v1.0//EN
CALSCALE:GREGORIAN
METHOD:PUBLISH
X-ORIGINAL-URL:https://diocesedeviseu.pt
X-WR-CALDESC:Eventos para Diocese de Viseu
REFRESH-INTERVAL;VALUE=DURATION:PT1H
X-Robots-Tag:noindex
X-PUBLISHED-TTL:PT1H
BEGIN:VTIMEZONE
TZID:Europe/Lisbon
BEGIN:DAYLIGHT
TZOFFSETFROM:+0000
TZOFFSETTO:+0100
TZNAME:WEST
DTSTART:20180325T010000
END:DAYLIGHT
BEGIN:STANDARD
TZOFFSETFROM:+0100
TZOFFSETTO:+0000
TZNAME:WET
DTSTART:20181028T010000
END:STANDARD
BEGIN:DAYLIGHT
TZOFFSETFROM:+0000
TZOFFSETTO:+0100
TZNAME:WEST
DTSTART:20190331T010000
END:DAYLIGHT
BEGIN:STANDARD
TZOFFSETFROM:+0100
TZOFFSETTO:+0000
TZNAME:WET
DTSTART:20191027T010000
END:STANDARD
BEGIN:DAYLIGHT
TZOFFSETFROM:+0000
TZOFFSETTO:+0100
TZNAME:WEST
DTSTART:20200329T010000
END:DAYLIGHT
BEGIN:STANDARD
TZOFFSETFROM:+0100
TZOFFSETTO:+0000
TZNAME:WET
DTSTART:20201025T010000
END:STANDARD
END:VTIMEZONE
BEGIN:VEVENT
DTSTART;TZID=Europe/Lisbon:20190601T110000
DTEND;TZID=Europe/Lisbon:20190601T180000
DTSTAMP:20260425T004849
CREATED:20190529T203742Z
LAST-MODIFIED:20190529T203742Z
UID:42871-1559386800-1559412000@diocesedeviseu.pt
SUMMARY:Concentração do Corpo Nacional de Escutas Regional e Celebração da Eucaristia
DESCRIPTION:
URL:https://diocesedeviseu.pt/evento/concentracao-do-corpo-nacional-de-escutas-regional-e-celebracao-da-eucaristia/
LOCATION:Rio de Loba
CATEGORIES:Bispo,Lembretes
END:VEVENT
BEGIN:VEVENT
DTSTART;TZID=Europe/Lisbon:20190601T130000
DTEND;TZID=Europe/Lisbon:20190601T010000
DTSTAMP:20260425T004849
CREATED:20190529T203847Z
LAST-MODIFIED:20190529T203847Z
UID:42874-1559394000-1559350800@diocesedeviseu.pt
SUMMARY:Conferência no Instituto Piaget de Viseu
DESCRIPTION:
URL:https://diocesedeviseu.pt/evento/conferencia-no-instituto-piaget-de-viseu/
LOCATION:Instituto Piaget – Viseu
CATEGORIES:Bispo
END:VEVENT
BEGIN:VEVENT
DTSTART;TZID=Europe/Lisbon:20190601T180000
DTEND;TZID=Europe/Lisbon:20190601T180000
DTSTAMP:20260425T004849
CREATED:20190529T203947Z
LAST-MODIFIED:20190529T204219Z
UID:42877-1559412000-1559412000@diocesedeviseu.pt
SUMMARY:Crisma na Igreja Paroquial de Sátão
DESCRIPTION:
URL:https://diocesedeviseu.pt/evento/crisma-na-igreja-paroquial-do-satao/
LOCATION:Igreja Paroquial de Sátão
CATEGORIES:Bispo
END:VEVENT
END:VCALENDAR