BEGIN:VCALENDAR
VERSION:2.0
PRODID:-//Diocese de Viseu - ECPv6.15.18//NONSGML v1.0//EN
CALSCALE:GREGORIAN
METHOD:PUBLISH
X-ORIGINAL-URL:https://diocesedeviseu.pt
X-WR-CALDESC:Eventos para Diocese de Viseu
REFRESH-INTERVAL;VALUE=DURATION:PT1H
X-Robots-Tag:noindex
X-PUBLISHED-TTL:PT1H
BEGIN:VTIMEZONE
TZID:Europe/Lisbon
BEGIN:DAYLIGHT
TZOFFSETFROM:+0000
TZOFFSETTO:+0100
TZNAME:WEST
DTSTART:20180325T010000
END:DAYLIGHT
BEGIN:STANDARD
TZOFFSETFROM:+0100
TZOFFSETTO:+0000
TZNAME:WET
DTSTART:20181028T010000
END:STANDARD
BEGIN:DAYLIGHT
TZOFFSETFROM:+0000
TZOFFSETTO:+0100
TZNAME:WEST
DTSTART:20190331T010000
END:DAYLIGHT
BEGIN:STANDARD
TZOFFSETFROM:+0100
TZOFFSETTO:+0000
TZNAME:WET
DTSTART:20191027T010000
END:STANDARD
BEGIN:DAYLIGHT
TZOFFSETFROM:+0000
TZOFFSETTO:+0100
TZNAME:WEST
DTSTART:20200329T010000
END:DAYLIGHT
BEGIN:STANDARD
TZOFFSETFROM:+0100
TZOFFSETTO:+0000
TZNAME:WET
DTSTART:20201025T010000
END:STANDARD
END:VTIMEZONE
BEGIN:VEVENT
DTSTART;TZID=Europe/Lisbon:20190630T120000
DTEND;TZID=Europe/Lisbon:20190630T120000
DTSTAMP:20260425T004904
CREATED:20190626T211721Z
LAST-MODIFIED:20190626T212247Z
UID:43332-1561896000-1561896000@diocesedeviseu.pt
SUMMARY:Celebração do Crisma na Paróquia de Vila Chã de Sá
DESCRIPTION:
URL:https://diocesedeviseu.pt/evento/celebracao-do-crisma-na-paroquia-de-vila-cha-de-sa/
LOCATION:Igreja Paroquial de Vila Chã de Sá
CATEGORIES:Bispo
END:VEVENT
BEGIN:VEVENT
DTSTART;TZID=Europe/Lisbon:20190630T180000
DTEND;TZID=Europe/Lisbon:20190630T010000
DTSTAMP:20260425T004904
CREATED:20190626T211833Z
LAST-MODIFIED:20190626T211833Z
UID:43336-1561917600-1561856400@diocesedeviseu.pt
SUMMARY:Celebração do Crisma na Paróquia de Oliveira de Frades
DESCRIPTION:
URL:https://diocesedeviseu.pt/evento/celebracao-do-crisma-na-paroquia-de-oliveira-de-frades/
CATEGORIES:Bispo
END:VEVENT
END:VCALENDAR