BEGIN:VCALENDAR
VERSION:2.0
PRODID:-//Diocese de Viseu - ECPv6.15.18//NONSGML v1.0//EN
CALSCALE:GREGORIAN
METHOD:PUBLISH
X-ORIGINAL-URL:https://diocesedeviseu.pt
X-WR-CALDESC:Eventos para Diocese de Viseu
REFRESH-INTERVAL;VALUE=DURATION:PT1H
X-Robots-Tag:noindex
X-PUBLISHED-TTL:PT1H
BEGIN:VTIMEZONE
TZID:Europe/Lisbon
BEGIN:DAYLIGHT
TZOFFSETFROM:+0000
TZOFFSETTO:+0100
TZNAME:WEST
DTSTART:20180325T010000
END:DAYLIGHT
BEGIN:STANDARD
TZOFFSETFROM:+0100
TZOFFSETTO:+0000
TZNAME:WET
DTSTART:20181028T010000
END:STANDARD
BEGIN:DAYLIGHT
TZOFFSETFROM:+0000
TZOFFSETTO:+0100
TZNAME:WEST
DTSTART:20190331T010000
END:DAYLIGHT
BEGIN:STANDARD
TZOFFSETFROM:+0100
TZOFFSETTO:+0000
TZNAME:WET
DTSTART:20191027T010000
END:STANDARD
BEGIN:DAYLIGHT
TZOFFSETFROM:+0000
TZOFFSETTO:+0100
TZNAME:WEST
DTSTART:20200329T010000
END:DAYLIGHT
BEGIN:STANDARD
TZOFFSETFROM:+0100
TZOFFSETTO:+0000
TZNAME:WET
DTSTART:20201025T010000
END:STANDARD
END:VTIMEZONE
BEGIN:VEVENT
DTSTART;TZID=Europe/Lisbon:20190908T120000
DTEND;TZID=Europe/Lisbon:20190908T010000
DTSTAMP:20260425T211246
CREATED:20190904T215936Z
LAST-MODIFIED:20190904T215936Z
UID:44280-1567944000-1567904400@diocesedeviseu.pt
SUMMARY:Eucaristia da Festa de Nossa Senhora do Castelo
DESCRIPTION:
URL:https://diocesedeviseu.pt/evento/eucaristia-da-festa-de-nossa-senhora-do-castelo/
LOCATION:Senhora do Castelo – Mangualde
CATEGORIES:Bispo
END:VEVENT
BEGIN:VEVENT
DTSTART;TZID=Europe/Lisbon:20190908T160000
DTEND;TZID=Europe/Lisbon:20190908T010000
DTSTAMP:20260425T211246
CREATED:20190904T220118Z
LAST-MODIFIED:20190904T220118Z
UID:44283-1567958400-1567904400@diocesedeviseu.pt
SUMMARY:Eucaristia da Festa de Nossa Senhora da Esperança
DESCRIPTION:
URL:https://diocesedeviseu.pt/evento/eucaristia-da-festa-de-nossa-senhora-da-esperanca-2/
LOCATION:Santuário de Nossa Senhora da Esperança\, Abrunhosa\, S. Miguel de Vila Boa
CATEGORIES:Bispo
END:VEVENT
END:VCALENDAR