BEGIN:VCALENDAR
VERSION:2.0
PRODID:-//Diocese de Viseu - ECPv6.15.18//NONSGML v1.0//EN
CALSCALE:GREGORIAN
METHOD:PUBLISH
X-ORIGINAL-URL:https://diocesedeviseu.pt
X-WR-CALDESC:Eventos para Diocese de Viseu
REFRESH-INTERVAL;VALUE=DURATION:PT1H
X-Robots-Tag:noindex
X-PUBLISHED-TTL:PT1H
BEGIN:VTIMEZONE
TZID:Europe/Lisbon
BEGIN:DAYLIGHT
TZOFFSETFROM:+0000
TZOFFSETTO:+0100
TZNAME:WEST
DTSTART:20180325T010000
END:DAYLIGHT
BEGIN:STANDARD
TZOFFSETFROM:+0100
TZOFFSETTO:+0000
TZNAME:WET
DTSTART:20181028T010000
END:STANDARD
BEGIN:DAYLIGHT
TZOFFSETFROM:+0000
TZOFFSETTO:+0100
TZNAME:WEST
DTSTART:20190331T010000
END:DAYLIGHT
BEGIN:STANDARD
TZOFFSETFROM:+0100
TZOFFSETTO:+0000
TZNAME:WET
DTSTART:20191027T010000
END:STANDARD
BEGIN:DAYLIGHT
TZOFFSETFROM:+0000
TZOFFSETTO:+0100
TZNAME:WEST
DTSTART:20200329T010000
END:DAYLIGHT
BEGIN:STANDARD
TZOFFSETFROM:+0100
TZOFFSETTO:+0000
TZNAME:WET
DTSTART:20201025T010000
END:STANDARD
END:VTIMEZONE
BEGIN:VEVENT
DTSTART;TZID=Europe/Lisbon:20190921T100000
DTEND;TZID=Europe/Lisbon:20190921T010000
DTSTAMP:20260424T122344
CREATED:20190918T191534Z
LAST-MODIFIED:20190918T191534Z
UID:44516-1569060000-1569027600@diocesedeviseu.pt
SUMMARY:Eucaristia da Festa de São Mateus\, seguida de Procissão
DESCRIPTION:
URL:https://diocesedeviseu.pt/evento/eucaristia-da-festa-de-sao-mateus-seguida-de-procissao/
LOCATION:Igreja Paroquial de São José
CATEGORIES:Bispo,Lembretes
END:VEVENT
BEGIN:VEVENT
DTSTART;TZID=Europe/Lisbon:20190921T123000
DTEND;TZID=Europe/Lisbon:20190921T010000
DTSTAMP:20260424T122344
CREATED:20190918T191646Z
LAST-MODIFIED:20190918T191646Z
UID:44519-1569069000-1569027600@diocesedeviseu.pt
SUMMARY:Eucaristia no Encontro Anual dos Antigos Alunos dos Seminários
DESCRIPTION:
URL:https://diocesedeviseu.pt/evento/eucaristia-no-encontro-anual-dos-antigos-alunos-dos-seminarios/
LOCATION:Igreja do Seminário Maior de Viseu
CATEGORIES:Bispo,Lembretes
END:VEVENT
END:VCALENDAR