BEGIN:VCALENDAR
VERSION:2.0
PRODID:-//Diocese de Viseu - ECPv6.15.18//NONSGML v1.0//EN
CALSCALE:GREGORIAN
METHOD:PUBLISH
X-ORIGINAL-URL:https://diocesedeviseu.pt
X-WR-CALDESC:Eventos para Diocese de Viseu
REFRESH-INTERVAL;VALUE=DURATION:PT1H
X-Robots-Tag:noindex
X-PUBLISHED-TTL:PT1H
BEGIN:VTIMEZONE
TZID:Europe/Lisbon
BEGIN:DAYLIGHT
TZOFFSETFROM:+0000
TZOFFSETTO:+0100
TZNAME:WEST
DTSTART:20180325T010000
END:DAYLIGHT
BEGIN:STANDARD
TZOFFSETFROM:+0100
TZOFFSETTO:+0000
TZNAME:WET
DTSTART:20181028T010000
END:STANDARD
BEGIN:DAYLIGHT
TZOFFSETFROM:+0000
TZOFFSETTO:+0100
TZNAME:WEST
DTSTART:20190331T010000
END:DAYLIGHT
BEGIN:STANDARD
TZOFFSETFROM:+0100
TZOFFSETTO:+0000
TZNAME:WET
DTSTART:20191027T010000
END:STANDARD
BEGIN:DAYLIGHT
TZOFFSETFROM:+0000
TZOFFSETTO:+0100
TZNAME:WEST
DTSTART:20200329T010000
END:DAYLIGHT
BEGIN:STANDARD
TZOFFSETFROM:+0100
TZOFFSETTO:+0000
TZNAME:WET
DTSTART:20201025T010000
END:STANDARD
END:VTIMEZONE
BEGIN:VEVENT
DTSTART;TZID=Europe/Lisbon:20190928T110000
DTEND;TZID=Europe/Lisbon:20190928T010000
DTSTAMP:20260424T221517
CREATED:20190925T074132Z
LAST-MODIFIED:20190925T074132Z
UID:44625-1569668400-1569632400@diocesedeviseu.pt
SUMMARY:Encontro com membros femininos do Opus Dei
DESCRIPTION:
URL:https://diocesedeviseu.pt/evento/encontro-com-membros-femininos-do-opus-dei/
LOCATION:Clube do Moinho
CATEGORIES:Bispo
END:VEVENT
BEGIN:VEVENT
DTSTART;TZID=Europe/Lisbon:20190928T190000
DTEND;TZID=Europe/Lisbon:20190928T010000
DTSTAMP:20260424T221517
CREATED:20190925T074239Z
LAST-MODIFIED:20190925T074239Z
UID:44628-1569697200-1569632400@diocesedeviseu.pt
SUMMARY:Eucaristia no Encontro da Pastoral Laical – Mangualde
DESCRIPTION:
URL:https://diocesedeviseu.pt/evento/eucaristia-no-encontro-da-pastoral-laical-mangualde/
CATEGORIES:Bispo,Lembretes
END:VEVENT
END:VCALENDAR