BEGIN:VCALENDAR
VERSION:2.0
PRODID:-//Diocese de Viseu - ECPv6.15.18//NONSGML v1.0//EN
CALSCALE:GREGORIAN
METHOD:PUBLISH
X-WR-CALNAME:Diocese de Viseu
X-ORIGINAL-URL:https://diocesedeviseu.pt
X-WR-CALDESC:Eventos para Diocese de Viseu
REFRESH-INTERVAL;VALUE=DURATION:PT1H
X-Robots-Tag:noindex
X-PUBLISHED-TTL:PT1H
BEGIN:VTIMEZONE
TZID:Europe/Lisbon
BEGIN:DAYLIGHT
TZOFFSETFROM:+0000
TZOFFSETTO:+0100
TZNAME:WEST
DTSTART:20180325T010000
END:DAYLIGHT
BEGIN:STANDARD
TZOFFSETFROM:+0100
TZOFFSETTO:+0000
TZNAME:WET
DTSTART:20181028T010000
END:STANDARD
BEGIN:DAYLIGHT
TZOFFSETFROM:+0000
TZOFFSETTO:+0100
TZNAME:WEST
DTSTART:20190331T010000
END:DAYLIGHT
BEGIN:STANDARD
TZOFFSETFROM:+0100
TZOFFSETTO:+0000
TZNAME:WET
DTSTART:20191027T010000
END:STANDARD
BEGIN:DAYLIGHT
TZOFFSETFROM:+0000
TZOFFSETTO:+0100
TZNAME:WEST
DTSTART:20200329T010000
END:DAYLIGHT
BEGIN:STANDARD
TZOFFSETFROM:+0100
TZOFFSETTO:+0000
TZNAME:WET
DTSTART:20201025T010000
END:STANDARD
END:VTIMEZONE
BEGIN:VEVENT
DTSTART;TZID=Europe/Lisbon:20191005T100000
DTEND;TZID=Europe/Lisbon:20191005T183000
DTSTAMP:20260421T180022
CREATED:20190912T104719Z
LAST-MODIFIED:20190925T080133Z
UID:44409-1570269600-1570300200@diocesedeviseu.pt
SUMMARY:Início do Ano Pastoral - Encontro de Agentes da Pastoral
DESCRIPTION:Abertura do Ano Pastoral \n5 DE OUTUBRO – CENTRO SÓCIO-PASTORAL DE VISEU \nNeste Ano Pastoral 2019-2020 a Semana Bíblica tem lugar já no início de outubro (1 a 4) no Seminário Maior de Viseu (Largo de S. Cristina) das 20H30 às 22H30. \nAs inscrições podem ser feitas através do site já divulgado (www.sdec.diocesedeviseu.pt) ou na modalidade dos anos anteriores\, enviando-nos a respetiva ficha de inscrição por email sdecviseu@gmail.com)\, correio ou por telefone (961490804) com a brevidade possível. \nNo dia 5 de outubro será o Encontro Diocesano de Agentes da Pastoral no Centro Pastoral de Viseu com início às 9H00 e a terminar com a Eucaristia às 16H30 na Catedral de Viseu\, presidida pelo Sr. D. António Luciano. \nDado que inclui almoço e é necessário comunicar ao restaurante o número de pessoas envolvidas\, agradecemos o envio das inscrições com brevidade. (com almoço 10\,00€ / sem almoço 5\,00€). \nTermino com as palavras do nosso Bispo\, D. António Luciano: \n«Convido todo o povo de Deus: sacerdotes\, consagrados\, leigos\, jovens\, acólitos\, responsáveis de movimentos e leigos empenhados na vida das paróquias a estarmos presentes em Viseu como consta do programa para iniciarmos como batizados e em Igreja…» \nPelo SDEC\, Ir. Mª Arminda \n  \nPROGRAMA \n09h00 – Acolhimento e distribuição de informação. \n09h30 – Introdução ao Encontro. Momento de Oração. \n10h00 – Os ministérios ao serviço da missão\, Paulo Almeida – Serviço Nacional de Acólitos. \n11h00 – Intervalo. \n11h30 – Apresentação do Ano Pastoral 2019-2020\, D. António Luciano\, Bispo de Viseu. \n12h00 – Encontro por sectores: Liturgia – Ensaio dos cânticos para a Eucaristia; SDEC – Partilha de novos projetos; Escola da Fé – Avaliação do projeto. \n13h00 – Almoço. \n14h30 – Mesa Redonda. Batizados e enviados – Mês Missionário Extraordinário; Apresentação do projeto “Say Yes” (JMJ 2022). \n16h00 – Saída para a Sé. \n16h30 – Eucaristia presidida pelo Sr. D. António Luciano com a entrega dos Diplomas aos alunos da Escola da Fé.
URL:https://diocesedeviseu.pt/evento/inicio-do-ano-pastoral-encontro-de-agentes-da-pastoral/
LOCATION:Centro Pastoral Diocesano
CATEGORIES:Bispo,Lembretes,Vigararia da Pastoral
ATTACH;FMTTYPE=image/jpeg:https://diocesedeviseu.pt/wp-content/uploads/2019/09/5outubro.jpg
END:VEVENT
BEGIN:VEVENT
DTSTART;TZID=Europe/Lisbon:20191005T173000
DTEND;TZID=Europe/Lisbon:20191005T010000
DTSTAMP:20260421T180022
CREATED:20191002T194025Z
LAST-MODIFIED:20191002T194025Z
UID:44788-1570296600-1570237200@diocesedeviseu.pt
SUMMARY:Eucaristia na Sé - Abertura do Ano Pastoral
DESCRIPTION:
URL:https://diocesedeviseu.pt/evento/eucaristia-na-se-abertura-do-ano-pastoral/
LOCATION:Catedral de Viseu
CATEGORIES:Bispo,Evangelização, Culto e Cultura,Lembretes,Vigararia da Pastoral
END:VEVENT
END:VCALENDAR