BEGIN:VCALENDAR
VERSION:2.0
PRODID:-//Diocese de Viseu - ECPv6.15.18//NONSGML v1.0//EN
CALSCALE:GREGORIAN
METHOD:PUBLISH
X-ORIGINAL-URL:https://diocesedeviseu.pt
X-WR-CALDESC:Eventos para Diocese de Viseu
REFRESH-INTERVAL;VALUE=DURATION:PT1H
X-Robots-Tag:noindex
X-PUBLISHED-TTL:PT1H
BEGIN:VTIMEZONE
TZID:Europe/Lisbon
BEGIN:DAYLIGHT
TZOFFSETFROM:+0000
TZOFFSETTO:+0100
TZNAME:WEST
DTSTART:20180325T010000
END:DAYLIGHT
BEGIN:STANDARD
TZOFFSETFROM:+0100
TZOFFSETTO:+0000
TZNAME:WET
DTSTART:20181028T010000
END:STANDARD
BEGIN:DAYLIGHT
TZOFFSETFROM:+0000
TZOFFSETTO:+0100
TZNAME:WEST
DTSTART:20190331T010000
END:DAYLIGHT
BEGIN:STANDARD
TZOFFSETFROM:+0100
TZOFFSETTO:+0000
TZNAME:WET
DTSTART:20191027T010000
END:STANDARD
BEGIN:DAYLIGHT
TZOFFSETFROM:+0000
TZOFFSETTO:+0100
TZNAME:WEST
DTSTART:20200329T010000
END:DAYLIGHT
BEGIN:STANDARD
TZOFFSETFROM:+0100
TZOFFSETTO:+0000
TZNAME:WET
DTSTART:20201025T010000
END:STANDARD
END:VTIMEZONE
BEGIN:VEVENT
DTSTART;VALUE=DATE:20191019
DTEND;VALUE=DATE:20191021
DTSTAMP:20260422T012047
CREATED:20191016T160057Z
LAST-MODIFIED:20191016T160057Z
UID:44947-1571446800-1571533199@diocesedeviseu.pt
SUMMARY:Participação nas Jornadas para celebrar os 175 anos do Apostolado da Oração
DESCRIPTION:
URL:https://diocesedeviseu.pt/evento/participacao-nas-jornadas-para-celebrar-os-175-anos-do-apostolado-da-oracao/
LOCATION:Santuário de Fátima
CATEGORIES:Bispo
END:VEVENT
BEGIN:VEVENT
DTSTART;VALUE=DATE:20191020
DTEND;VALUE=DATE:20191022
DTSTAMP:20260422T012047
CREATED:20191016T161017Z
LAST-MODIFIED:20191016T161017Z
UID:44949-1571533200-1571619599@diocesedeviseu.pt
SUMMARY:Participação na celebração no Dia Mundial das Missões e encerramento do Ano Missionário
DESCRIPTION:
URL:https://diocesedeviseu.pt/evento/participacao-na-celebracao-no-dia-mundial-das-missoes-e-encerramento-do-ano-missionario/
LOCATION:Santuário de Fátima
CATEGORIES:Bispo
END:VEVENT
BEGIN:VEVENT
DTSTART;TZID=Europe/Lisbon:20191020T170000
DTEND;TZID=Europe/Lisbon:20191020T170000
DTSTAMP:20260422T012047
CREATED:20191019T141753Z
LAST-MODIFIED:20191019T152014Z
UID:44982-1571590800-1571590800@diocesedeviseu.pt
SUMMARY:Funeral do Padre António dos Aidos Ferreira
DESCRIPTION:
URL:https://diocesedeviseu.pt/evento/funeral-do-padre-antonio-dos-aidos-igreja-de-oliveira-de-frades/
LOCATION:Igreja de Oliveira de Frades
CATEGORIES:Bispo,Clero, Vocações e Vida Consagrada,Lembretes
END:VEVENT
END:VCALENDAR