BEGIN:VCALENDAR
VERSION:2.0
PRODID:-//Diocese de Viseu - ECPv6.15.18//NONSGML v1.0//EN
CALSCALE:GREGORIAN
METHOD:PUBLISH
X-WR-CALNAME:Diocese de Viseu
X-ORIGINAL-URL:https://diocesedeviseu.pt
X-WR-CALDESC:Eventos para Diocese de Viseu
REFRESH-INTERVAL;VALUE=DURATION:PT1H
X-Robots-Tag:noindex
X-PUBLISHED-TTL:PT1H
BEGIN:VTIMEZONE
TZID:Europe/Lisbon
BEGIN:DAYLIGHT
TZOFFSETFROM:+0000
TZOFFSETTO:+0100
TZNAME:WEST
DTSTART:20240331T010000
END:DAYLIGHT
BEGIN:STANDARD
TZOFFSETFROM:+0100
TZOFFSETTO:+0000
TZNAME:WET
DTSTART:20241027T010000
END:STANDARD
BEGIN:DAYLIGHT
TZOFFSETFROM:+0000
TZOFFSETTO:+0100
TZNAME:WEST
DTSTART:20250330T010000
END:DAYLIGHT
BEGIN:STANDARD
TZOFFSETFROM:+0100
TZOFFSETTO:+0000
TZNAME:WET
DTSTART:20251026T010000
END:STANDARD
BEGIN:DAYLIGHT
TZOFFSETFROM:+0000
TZOFFSETTO:+0100
TZNAME:WEST
DTSTART:20260329T010000
END:DAYLIGHT
BEGIN:STANDARD
TZOFFSETFROM:+0100
TZOFFSETTO:+0000
TZNAME:WET
DTSTART:20261025T010000
END:STANDARD
END:VTIMEZONE
BEGIN:VEVENT
DTSTART;TZID=Europe/Lisbon:20251116T090000
DTEND;TZID=Europe/Lisbon:20251116T090000
DTSTAMP:20260422T063140
CREATED:20251112T231020Z
LAST-MODIFIED:20251112T232142Z
UID:74622-1763283600-1763283600@diocesedeviseu.pt
SUMMARY:Celebração da Eucaristia do início do Ministério do Padre Constantino Hembe como pároco da paróquia de Mesquitela
DESCRIPTION:
URL:https://diocesedeviseu.pt/evento/celebracao-da-eucaristia-do-inicio-do-ministerio-do-padre-constantino-hembe-como-paroco-da-paroquia-da-mesquitela/
LOCATION:Igreja Paroquial de Mesquitela\, Mangualde\, Mangualde\, Mangualde\, Portugal
CATEGORIES:Bispo,Clero, Vocações e Vida Consagrada
END:VEVENT
BEGIN:VEVENT
DTSTART;TZID=Europe/Lisbon:20251116T103000
DTEND;TZID=Europe/Lisbon:20251116T103000
DTSTAMP:20260422T063140
CREATED:20251112T231142Z
LAST-MODIFIED:20251112T232104Z
UID:74624-1763289000-1763289000@diocesedeviseu.pt
SUMMARY:Celebração da Eucaristia do início do Ministério do Padre Constantino Hembe como pároco da paróquia de Cunha Baixa
DESCRIPTION:
URL:https://diocesedeviseu.pt/evento/celebracao-da-eucaristia-do-inicio-do-ministerio-do-padre-constantino-hembe-como-paroco-da-paroquia-de-cunha-baixa/
LOCATION:Igreja Paroquial de Cunha Baixa
CATEGORIES:Bispo,Clero, Vocações e Vida Consagrada
END:VEVENT
END:VCALENDAR