BEGIN:VCALENDAR
VERSION:2.0
PRODID:-//Diocese de Viseu - ECPv6.15.18//NONSGML v1.0//EN
CALSCALE:GREGORIAN
METHOD:PUBLISH
X-ORIGINAL-URL:https://diocesedeviseu.pt
X-WR-CALDESC:Eventos para Diocese de Viseu
REFRESH-INTERVAL;VALUE=DURATION:PT1H
X-Robots-Tag:noindex
X-PUBLISHED-TTL:PT1H
BEGIN:VTIMEZONE
TZID:Europe/Lisbon
BEGIN:DAYLIGHT
TZOFFSETFROM:+0000
TZOFFSETTO:+0100
TZNAME:WEST
DTSTART:20220327T010000
END:DAYLIGHT
BEGIN:STANDARD
TZOFFSETFROM:+0100
TZOFFSETTO:+0000
TZNAME:WET
DTSTART:20221030T010000
END:STANDARD
BEGIN:DAYLIGHT
TZOFFSETFROM:+0000
TZOFFSETTO:+0100
TZNAME:WEST
DTSTART:20230326T010000
END:DAYLIGHT
BEGIN:STANDARD
TZOFFSETFROM:+0100
TZOFFSETTO:+0000
TZNAME:WET
DTSTART:20231029T010000
END:STANDARD
BEGIN:DAYLIGHT
TZOFFSETFROM:+0000
TZOFFSETTO:+0100
TZNAME:WEST
DTSTART:20240331T010000
END:DAYLIGHT
BEGIN:STANDARD
TZOFFSETFROM:+0100
TZOFFSETTO:+0000
TZNAME:WET
DTSTART:20241027T010000
END:STANDARD
END:VTIMEZONE
BEGIN:VEVENT
DTSTART;VALUE=DATE:20230126
DTEND;VALUE=DATE:20230203
DTSTAMP:20260422T143226
CREATED:20230109T231000Z
LAST-MODIFIED:20230109T231000Z
UID:53885-1674691200-1675382399@diocesedeviseu.pt
SUMMARY:Semana do Consagrado
DESCRIPTION:
URL:https://diocesedeviseu.pt/evento/semana-do-consagrado-2/
CATEGORIES:Clero, Vocações e Vida Consagrada,Lembretes
END:VEVENT
BEGIN:VEVENT
DTSTART;VALUE=DATE:20230202
DTEND;VALUE=DATE:20230203
DTSTAMP:20260422T143226
CREATED:20230109T231044Z
LAST-MODIFIED:20230109T231044Z
UID:53887-1675296000-1675382399@diocesedeviseu.pt
SUMMARY:Dia do Consagrado
DESCRIPTION:
URL:https://diocesedeviseu.pt/evento/dia-do-consagrado-3/
CATEGORIES:Clero, Vocações e Vida Consagrada,Lembretes
END:VEVENT
BEGIN:VEVENT
DTSTART;TZID=Europe/Lisbon:20230202T180000
DTEND;TZID=Europe/Lisbon:20230202T180000
DTSTAMP:20260422T143226
CREATED:20230126T000316Z
LAST-MODIFIED:20230126T000316Z
UID:53969-1675360800-1675360800@diocesedeviseu.pt
SUMMARY:Festa da Apresentação do Senhor\, Dia do Consagrado\, com os consagrados\, movimentos MEC e Esperança e Vida
DESCRIPTION:
URL:https://diocesedeviseu.pt/evento/festa-da-apresentacao-do-senhor-dia-do-consagrado-com-os-consagrados-movimentos-mec-e-esperanca-e-vida/
LOCATION:Catedral de Viseu
CATEGORIES:Bispo,Clero, Vocações e Vida Consagrada,Lembretes
END:VEVENT
BEGIN:VEVENT
DTSTART;VALUE=DATE:20230204
DTEND;VALUE=DATE:20230205
DTSTAMP:20260422T143226
CREATED:20230109T232019Z
LAST-MODIFIED:20230109T232019Z
UID:53903-1675468800-1675555199@diocesedeviseu.pt
SUMMARY:Encontro do Pré-Seminário
DESCRIPTION:
URL:https://diocesedeviseu.pt/evento/encontro-do-pre-seminario-3/
CATEGORIES:Clero, Vocações e Vida Consagrada,Lembretes
END:VEVENT
BEGIN:VEVENT
DTSTART;VALUE=DATE:20230205
DTEND;VALUE=DATE:20230206
DTSTAMP:20260422T143226
CREATED:20230130T095306Z
LAST-MODIFIED:20230130T095306Z
UID:53984-1675555200-1675641599@diocesedeviseu.pt
SUMMARY:Ofertório para a Universidade Católica
DESCRIPTION:
URL:https://diocesedeviseu.pt/evento/ofertorio-para-a-universidade-catolica-5/
CATEGORIES:Lembretes
END:VEVENT
BEGIN:VEVENT
DTSTART;VALUE=DATE:20230206
DTEND;VALUE=DATE:20230210
DTSTAMP:20260422T143226
CREATED:20230123T230927Z
LAST-MODIFIED:20230123T230927Z
UID:53947-1675641600-1675987199@diocesedeviseu.pt
SUMMARY:Retiro Espiritual do Clero
DESCRIPTION:
URL:https://diocesedeviseu.pt/evento/retiro-espiritual-do-clero/
LOCATION:Seminário Maior de Viseu
CATEGORIES:Clero, Vocações e Vida Consagrada,Lembretes
END:VEVENT
BEGIN:VEVENT
DTSTART;VALUE=DATE:20230211
DTEND;VALUE=DATE:20230212
DTSTAMP:20260422T143226
CREATED:20230109T231142Z
LAST-MODIFIED:20230109T231142Z
UID:53889-1676073600-1676159999@diocesedeviseu.pt
SUMMARY:Dia Mundial do Doente
DESCRIPTION:
URL:https://diocesedeviseu.pt/evento/dia-mundial-do-doente-3/
CATEGORIES:Lembretes
END:VEVENT
BEGIN:VEVENT
DTSTART;VALUE=DATE:20230218
DTEND;VALUE=DATE:20230219
DTSTAMP:20260422T143226
CREATED:20230109T231311Z
LAST-MODIFIED:20230109T231311Z
UID:53891-1676678400-1676764799@diocesedeviseu.pt
SUMMARY:Solenidade de São Teotónio
DESCRIPTION:
URL:https://diocesedeviseu.pt/evento/solenidade-de-sao-teotonio/
CATEGORIES:Lembretes
END:VEVENT
BEGIN:VEVENT
DTSTART;TZID=Europe/Lisbon:20230218T090000
DTEND;TZID=Europe/Lisbon:20230218T173000
DTSTAMP:20260422T143226
CREATED:20230130T094624Z
LAST-MODIFIED:20230211T111944Z
UID:53975-1676710800-1676741400@diocesedeviseu.pt
SUMMARY:Encontro Diocesano de Acólitos
DESCRIPTION:
URL:https://diocesedeviseu.pt/evento/encontro-diocesano-de-acolitos/
LOCATION:Seminário Maior de Viseu
CATEGORIES:Lembretes
ATTACH;FMTTYPE=image/jpeg:https://diocesedeviseu.pt/wp-content/uploads/2023/01/cartaz_EDA23-1.jpg
END:VEVENT
BEGIN:VEVENT
DTSTART;TZID=Europe/Lisbon:20230218T100000
DTEND;TZID=Europe/Lisbon:20230218T100000
DTSTAMP:20260422T143226
CREATED:20230209T150830Z
LAST-MODIFIED:20230216T095358Z
UID:54083-1676714400-1676714400@diocesedeviseu.pt
SUMMARY:Apresentação e colocação do retrato de D. Ilídio Pinto Leandro na galeria dos bispos
DESCRIPTION:
URL:https://diocesedeviseu.pt/evento/apresentacao-do-retrato-de-d-ilidio-pinto-leandro/
CATEGORIES:Lembretes
END:VEVENT
BEGIN:VEVENT
DTSTART;TZID=Europe/Lisbon:20230218T110000
DTEND;TZID=Europe/Lisbon:20230218T110000
DTSTAMP:20260422T143226
CREATED:20230209T151028Z
LAST-MODIFIED:20230216T095513Z
UID:54086-1676718000-1676718000@diocesedeviseu.pt
SUMMARY:Missa Solene evocativa de São Teotónio e renovação das promessas pelos diáconos permanentes
DESCRIPTION:
URL:https://diocesedeviseu.pt/evento/missa-solene-evocativa-de-sao-teotonio/
LOCATION:Catedral de Viseu
CATEGORIES:Lembretes
END:VEVENT
BEGIN:VEVENT
DTSTART;TZID=Europe/Lisbon:20230218T121500
DTEND;TZID=Europe/Lisbon:20230218T121500
DTSTAMP:20260422T143226
CREATED:20230209T151237Z
LAST-MODIFIED:20230209T151237Z
UID:54088-1676722500-1676722500@diocesedeviseu.pt
SUMMARY:Inauguração da exposição Presenças Privadas no Museu
DESCRIPTION:
URL:https://diocesedeviseu.pt/evento/inauguracao-da-exposicao-presencas-privadas-no-museu/
LOCATION:Tesouro da Catedral de Viseu
CATEGORIES:Lembretes
END:VEVENT
BEGIN:VEVENT
DTSTART;TZID=Europe/Lisbon:20230218T210000
DTEND;TZID=Europe/Lisbon:20230218T210000
DTSTAMP:20260422T143226
CREATED:20230209T151416Z
LAST-MODIFIED:20230211T112159Z
UID:54090-1676754000-1676754000@diocesedeviseu.pt
SUMMARY:Concerto Evocativo de São Teotónio
DESCRIPTION:
URL:https://diocesedeviseu.pt/evento/concerto-evocativo-de-sao-teotonio/
LOCATION:Igreja do Seminário Maior de Viseu
CATEGORIES:Lembretes
END:VEVENT
BEGIN:VEVENT
DTSTART;TZID=Europe/Lisbon:20230219T103000
DTEND;TZID=Europe/Lisbon:20230219T103000
DTSTAMP:20260422T143226
CREATED:20230216T095738Z
LAST-MODIFIED:20230216T095738Z
UID:54122-1676802600-1676802600@diocesedeviseu.pt
SUMMARY:Celebração da Eucaristia
DESCRIPTION:
URL:https://diocesedeviseu.pt/evento/celebracao-da-eucaristia-4/
CATEGORIES:Bispo,Lembretes
END:VEVENT
BEGIN:VEVENT
DTSTART;TZID=Europe/Lisbon:20230220T193000
DTEND;TZID=Europe/Lisbon:20230220T193000
DTSTAMP:20260422T143226
CREATED:20230216T095856Z
LAST-MODIFIED:20230216T095856Z
UID:54124-1676921400-1676921400@diocesedeviseu.pt
SUMMARY:Conferência-Jantar da ACEPS
DESCRIPTION:
URL:https://diocesedeviseu.pt/evento/conferencia-jantar-da-aceps/
LOCATION:Hotel Grão Vasco
CATEGORIES:Bispo,Lembretes
END:VEVENT
BEGIN:VEVENT
DTSTART;TZID=Europe/Lisbon:20230221T093000
DTEND;TZID=Europe/Lisbon:20230221T170000
DTSTAMP:20260422T143226
CREATED:20230216T095957Z
LAST-MODIFIED:20230216T095957Z
UID:54127-1676971800-1676998800@diocesedeviseu.pt
SUMMARY:Encontro de formação para os Capelães Hospitalares e Assistentes Espirituais
DESCRIPTION:
URL:https://diocesedeviseu.pt/evento/encontro-de-formacao-para-os-capelaes-hospitalares-e-assistentes-espirituais/
LOCATION:Fátima\, Fátima\, Fátima\, Portugal
CATEGORIES:Bispo,Clero, Vocações e Vida Consagrada,Lembretes
END:VEVENT
BEGIN:VEVENT
DTSTART;VALUE=DATE:20230222
DTEND;VALUE=DATE:20230223
DTSTAMP:20260422T143226
CREATED:20230109T231350Z
LAST-MODIFIED:20230109T231350Z
UID:53893-1677024000-1677110399@diocesedeviseu.pt
SUMMARY:Quarta Feira de Cinzas
DESCRIPTION:
URL:https://diocesedeviseu.pt/evento/quarta-feira-de-cinzas-3/
CATEGORIES:Lembretes
END:VEVENT
BEGIN:VEVENT
DTSTART;TZID=Europe/Lisbon:20230222T100000
DTEND;TZID=Europe/Lisbon:20230222T140000
DTSTAMP:20260422T143226
CREATED:20230130T094846Z
LAST-MODIFIED:20230130T094846Z
UID:53977-1677060000-1677074400@diocesedeviseu.pt
SUMMARY:Recoleção da Quaresma para o Clero
DESCRIPTION:
URL:https://diocesedeviseu.pt/evento/recolecao-da-quaresma-para-o-clero/
LOCATION:Seminário Maior de Viseu
CATEGORIES:Clero, Vocações e Vida Consagrada,Lembretes
END:VEVENT
BEGIN:VEVENT
DTSTART;TZID=Europe/Lisbon:20230222T120000
DTEND;TZID=Europe/Lisbon:20230222T120000
DTSTAMP:20260422T143226
CREATED:20230216T100156Z
LAST-MODIFIED:20230216T100156Z
UID:54129-1677067200-1677067200@diocesedeviseu.pt
SUMMARY:Assembleia da Fraternidade Sacerdotal
DESCRIPTION:
URL:https://diocesedeviseu.pt/evento/assembleia-da-fraternidade-sacerdotal-2/
CATEGORIES:Bispo,Clero, Vocações e Vida Consagrada,Lembretes
END:VEVENT
BEGIN:VEVENT
DTSTART;TZID=Europe/Lisbon:20230222T183000
DTEND;TZID=Europe/Lisbon:20230222T183000
DTSTAMP:20260422T143226
CREATED:20230216T100307Z
LAST-MODIFIED:20230216T100307Z
UID:54131-1677090600-1677090600@diocesedeviseu.pt
SUMMARY:Eucaristia e imposição das cinzas
DESCRIPTION:
URL:https://diocesedeviseu.pt/evento/eucaristia-e-imposicao-das-cinzas/
LOCATION:Catedral de Viseu
CATEGORIES:Bispo,Lembretes
END:VEVENT
BEGIN:VEVENT
DTSTART;TZID=Europe/Lisbon:20230223T210000
DTEND;TZID=Europe/Lisbon:20230223T210000
DTSTAMP:20260422T143226
CREATED:20230130T095013Z
LAST-MODIFIED:20230130T095013Z
UID:53979-1677186000-1677186000@diocesedeviseu.pt
SUMMARY:Marco23 – A caminho da JMJ Lisboa 2023
DESCRIPTION:
URL:https://diocesedeviseu.pt/evento/marco23-a-caminho-da-jmj-lisboa-2023/
LOCATION:On-line
CATEGORIES:Evangelização, Culto e Cultura,Lembretes
END:VEVENT
BEGIN:VEVENT
DTSTART;TZID=Europe/Lisbon:20230228T210000
DTEND;TZID=Europe/Lisbon:20230228T210000
DTSTAMP:20260422T143226
CREATED:20221017T212712Z
LAST-MODIFIED:20221017T212712Z
UID:53678-1677618000-1677618000@diocesedeviseu.pt
SUMMARY:Oração de Taizé
DESCRIPTION:
URL:https://diocesedeviseu.pt/evento/oracao-de-taize-5/
LOCATION:Igreja dos Terceiros – Viseu
CATEGORIES:Lembretes
END:VEVENT
END:VCALENDAR