BEGIN:VCALENDAR
VERSION:2.0
PRODID:-//Diocese de Viseu - ECPv6.15.18//NONSGML v1.0//EN
CALSCALE:GREGORIAN
METHOD:PUBLISH
X-WR-CALNAME:Diocese de Viseu
X-ORIGINAL-URL:https://diocesedeviseu.pt
X-WR-CALDESC:Eventos para Diocese de Viseu
REFRESH-INTERVAL;VALUE=DURATION:PT1H
X-Robots-Tag:noindex
X-PUBLISHED-TTL:PT1H
BEGIN:VTIMEZONE
TZID:Europe/Lisbon
BEGIN:DAYLIGHT
TZOFFSETFROM:+0000
TZOFFSETTO:+0100
TZNAME:WEST
DTSTART:20220327T010000
END:DAYLIGHT
BEGIN:STANDARD
TZOFFSETFROM:+0100
TZOFFSETTO:+0000
TZNAME:WET
DTSTART:20221030T010000
END:STANDARD
BEGIN:DAYLIGHT
TZOFFSETFROM:+0000
TZOFFSETTO:+0100
TZNAME:WEST
DTSTART:20230326T010000
END:DAYLIGHT
BEGIN:STANDARD
TZOFFSETFROM:+0100
TZOFFSETTO:+0000
TZNAME:WET
DTSTART:20231029T010000
END:STANDARD
BEGIN:DAYLIGHT
TZOFFSETFROM:+0000
TZOFFSETTO:+0100
TZNAME:WEST
DTSTART:20240331T010000
END:DAYLIGHT
BEGIN:STANDARD
TZOFFSETFROM:+0100
TZOFFSETTO:+0000
TZNAME:WET
DTSTART:20241027T010000
END:STANDARD
END:VTIMEZONE
BEGIN:VEVENT
DTSTART;TZID=Europe/Lisbon:20230909T110000
DTEND;TZID=Europe/Lisbon:20230909T110000
DTSTAMP:20260425T035425
CREATED:20230906T180204Z
LAST-MODIFIED:20230906T180204Z
UID:57327-1694257200-1694257200@diocesedeviseu.pt
SUMMARY:Eucaristia da Festa anual da Liga dos Servos de Jesus\, fundada por D. João de Oliveira Matos\, Bispo Auxiliar da Guarda
DESCRIPTION:
URL:https://diocesedeviseu.pt/evento/eucaristia-da-festa-anual-da-liga-dos-servos-de-jesus-fundada-por-d-joao-de-oliveira-matos-bispo-auxiliar-da-guarda/
LOCATION:Sé da Guarda\, Guarda\, Portugal
CATEGORIES:Lembretes
END:VEVENT
BEGIN:VEVENT
DTSTART;TZID=Europe/Lisbon:20230921T093000
DTEND;TZID=Europe/Lisbon:20230921T093000
DTSTAMP:20260425T035425
CREATED:20230913T145437Z
LAST-MODIFIED:20230913T145455Z
UID:57443-1695288600-1695288600@diocesedeviseu.pt
SUMMARY:Missa da Festa de S. Mateus
DESCRIPTION:
URL:https://diocesedeviseu.pt/evento/missa-da-festa-de-s-mateus/
LOCATION:Igreja de São José\, em Viseu
CATEGORIES:Bispo,Lembretes
END:VEVENT
END:VCALENDAR