BEGIN:VCALENDAR
VERSION:2.0
PRODID:-//Diocese de Viseu - ECPv6.15.18//NONSGML v1.0//EN
CALSCALE:GREGORIAN
METHOD:PUBLISH
X-WR-CALNAME:Diocese de Viseu
X-ORIGINAL-URL:https://diocesedeviseu.pt
X-WR-CALDESC:Eventos para Diocese de Viseu
REFRESH-INTERVAL;VALUE=DURATION:PT1H
X-Robots-Tag:noindex
X-PUBLISHED-TTL:PT1H
BEGIN:VTIMEZONE
TZID:Europe/Lisbon
BEGIN:DAYLIGHT
TZOFFSETFROM:+0000
TZOFFSETTO:+0100
TZNAME:WEST
DTSTART:20220327T010000
END:DAYLIGHT
BEGIN:STANDARD
TZOFFSETFROM:+0100
TZOFFSETTO:+0000
TZNAME:WET
DTSTART:20221030T010000
END:STANDARD
BEGIN:DAYLIGHT
TZOFFSETFROM:+0000
TZOFFSETTO:+0100
TZNAME:WEST
DTSTART:20230326T010000
END:DAYLIGHT
BEGIN:STANDARD
TZOFFSETFROM:+0100
TZOFFSETTO:+0000
TZNAME:WET
DTSTART:20231029T010000
END:STANDARD
BEGIN:DAYLIGHT
TZOFFSETFROM:+0000
TZOFFSETTO:+0100
TZNAME:WEST
DTSTART:20240331T010000
END:DAYLIGHT
BEGIN:STANDARD
TZOFFSETFROM:+0100
TZOFFSETTO:+0000
TZNAME:WET
DTSTART:20241027T010000
END:STANDARD
END:VTIMEZONE
BEGIN:VEVENT
DTSTART;VALUE=DATE:20231208
DTEND;VALUE=DATE:20231209
DTSTAMP:20260422T234406
CREATED:20230506T142131Z
LAST-MODIFIED:20230506T142131Z
UID:55272-1701993600-1702079999@diocesedeviseu.pt
SUMMARY:Solenidade da Imaculada Conceição da Virgem Santa Maria
DESCRIPTION:
URL:https://diocesedeviseu.pt/evento/solenidade-da-imaculada-conceicao-da-virgem-santa-maria-2/
CATEGORIES:Lembretes
END:VEVENT
BEGIN:VEVENT
DTSTART;TZID=Europe/Lisbon:20231212T210000
DTEND;TZID=Europe/Lisbon:20231212T210000
DTSTAMP:20260422T234406
CREATED:20231008T204521Z
LAST-MODIFIED:20231008T204521Z
UID:57895-1702414800-1702414800@diocesedeviseu.pt
SUMMARY:Oração de Taizé
DESCRIPTION:
URL:https://diocesedeviseu.pt/evento/oracao-de-taize-12/
LOCATION:Igreja dos Terceiros – Viseu
CATEGORIES:Lembretes
END:VEVENT
BEGIN:VEVENT
DTSTART;VALUE=DATE:20231225
DTEND;VALUE=DATE:20231226
DTSTAMP:20260422T234406
CREATED:20230506T142226Z
LAST-MODIFIED:20230506T142226Z
UID:55274-1703462400-1703548799@diocesedeviseu.pt
SUMMARY:Natal do Senhor
DESCRIPTION:
URL:https://diocesedeviseu.pt/evento/natal-do-senhor-5/
CATEGORIES:Lembretes
END:VEVENT
END:VCALENDAR