BEGIN:VCALENDAR
VERSION:2.0
PRODID:-//Diocese de Viseu - ECPv6.15.18//NONSGML v1.0//EN
CALSCALE:GREGORIAN
METHOD:PUBLISH
X-WR-CALNAME:Diocese de Viseu
X-ORIGINAL-URL:https://diocesedeviseu.pt
X-WR-CALDESC:Eventos para Diocese de Viseu
REFRESH-INTERVAL;VALUE=DURATION:PT1H
X-Robots-Tag:noindex
X-PUBLISHED-TTL:PT1H
BEGIN:VTIMEZONE
TZID:Europe/Lisbon
BEGIN:DAYLIGHT
TZOFFSETFROM:+0000
TZOFFSETTO:+0100
TZNAME:WEST
DTSTART:20230326T010000
END:DAYLIGHT
BEGIN:STANDARD
TZOFFSETFROM:+0100
TZOFFSETTO:+0000
TZNAME:WET
DTSTART:20231029T010000
END:STANDARD
BEGIN:DAYLIGHT
TZOFFSETFROM:+0000
TZOFFSETTO:+0100
TZNAME:WEST
DTSTART:20240331T010000
END:DAYLIGHT
BEGIN:STANDARD
TZOFFSETFROM:+0100
TZOFFSETTO:+0000
TZNAME:WET
DTSTART:20241027T010000
END:STANDARD
BEGIN:DAYLIGHT
TZOFFSETFROM:+0000
TZOFFSETTO:+0100
TZNAME:WEST
DTSTART:20250330T010000
END:DAYLIGHT
BEGIN:STANDARD
TZOFFSETFROM:+0100
TZOFFSETTO:+0000
TZNAME:WET
DTSTART:20251026T010000
END:STANDARD
END:VTIMEZONE
BEGIN:VEVENT
DTSTART;VALUE=DATE:20240126
DTEND;VALUE=DATE:20240203
DTSTAMP:20260422T173447
CREATED:20240111T114208Z
LAST-MODIFIED:20240111T114208Z
UID:59976-1706227200-1706918399@diocesedeviseu.pt
SUMMARY:Semana do Consagrado
DESCRIPTION:
URL:https://diocesedeviseu.pt/evento/semana-do-consagrado-3/
CATEGORIES:Clero, Vocações e Vida Consagrada,Lembretes
END:VEVENT
BEGIN:VEVENT
DTSTART;VALUE=DATE:20240130
DTEND;VALUE=DATE:20240202
DTSTAMP:20260422T173447
CREATED:20231008T204138Z
LAST-MODIFIED:20231008T204138Z
UID:57889-1706572800-1706831999@diocesedeviseu.pt
SUMMARY:Formação permanente do Clero
DESCRIPTION:
URL:https://diocesedeviseu.pt/evento/formacao-permanente-do-clero/
LOCATION:Fátima\, Fátima\, Fátima\, Portugal
CATEGORIES:Bispo,Clero, Vocações e Vida Consagrada,Lembretes
END:VEVENT
BEGIN:VEVENT
DTSTART;VALUE=DATE:20240202
DTEND;VALUE=DATE:20240203
DTSTAMP:20260422T173447
CREATED:20240111T114320Z
LAST-MODIFIED:20240111T114320Z
UID:59978-1706832000-1706918399@diocesedeviseu.pt
SUMMARY:Festa da Apresentação do Senhor – Dia do Consagrado
DESCRIPTION:
URL:https://diocesedeviseu.pt/evento/festa-da-apresentacao-do-senhor-dia-do-consagrado/
CATEGORIES:Clero, Vocações e Vida Consagrada,Lembretes
END:VEVENT
BEGIN:VEVENT
DTSTART;VALUE=DATE:20240204
DTEND;VALUE=DATE:20240205
DTSTAMP:20260422T173447
CREATED:20240111T114408Z
LAST-MODIFIED:20240111T114408Z
UID:59980-1707004800-1707091199@diocesedeviseu.pt
SUMMARY:Ofertório para a Universidade Católica
DESCRIPTION:
URL:https://diocesedeviseu.pt/evento/ofertorio-para-a-universidade-catolica-6/
CATEGORIES:Lembretes
END:VEVENT
BEGIN:VEVENT
DTSTART;VALUE=DATE:20240211
DTEND;VALUE=DATE:20240212
DTSTAMP:20260422T173447
CREATED:20240111T114513Z
LAST-MODIFIED:20240111T114513Z
UID:59982-1707609600-1707695999@diocesedeviseu.pt
SUMMARY:Dia Mundial do Doente
DESCRIPTION:
URL:https://diocesedeviseu.pt/evento/dia-mundial-do-doente-4/
CATEGORIES:Lembretes,Pastoral Social e Familiar
END:VEVENT
BEGIN:VEVENT
DTSTART;VALUE=DATE:20240214
DTEND;VALUE=DATE:20240215
DTSTAMP:20260422T173447
CREATED:20240111T114605Z
LAST-MODIFIED:20240111T114605Z
UID:59984-1707868800-1707955199@diocesedeviseu.pt
SUMMARY:Quarta-Feira de Cinzas
DESCRIPTION:
URL:https://diocesedeviseu.pt/evento/quarta-feira-de-cinzas-4/
CATEGORIES:Lembretes
END:VEVENT
BEGIN:VEVENT
DTSTART;VALUE=DATE:20240219
DTEND;VALUE=DATE:20240220
DTSTAMP:20260422T173447
CREATED:20240111T114708Z
LAST-MODIFIED:20240111T114708Z
UID:59988-1708300800-1708387199@diocesedeviseu.pt
SUMMARY:S. Teotónio\, Padroeiro Principal da Diocese
DESCRIPTION:
URL:https://diocesedeviseu.pt/evento/s-teotonio-padroeiro-principal-da-diocese/
CATEGORIES:Lembretes
END:VEVENT
BEGIN:VEVENT
DTSTART;TZID=Europe/Lisbon:20240220T210000
DTEND;TZID=Europe/Lisbon:20240220T210000
DTSTAMP:20260422T173447
CREATED:20231008T204721Z
LAST-MODIFIED:20231008T204721Z
UID:57899-1708462800-1708462800@diocesedeviseu.pt
SUMMARY:Oração de Taizé
DESCRIPTION:
URL:https://diocesedeviseu.pt/evento/oracao-de-taize-14/
LOCATION:Igreja dos Terceiros – Viseu
CATEGORIES:Lembretes
END:VEVENT
END:VCALENDAR