BEGIN:VCALENDAR
VERSION:2.0
PRODID:-//Diocese de Viseu - ECPv6.15.18//NONSGML v1.0//EN
CALSCALE:GREGORIAN
METHOD:PUBLISH
X-WR-CALNAME:Diocese de Viseu
X-ORIGINAL-URL:https://diocesedeviseu.pt
X-WR-CALDESC:Eventos para Diocese de Viseu
REFRESH-INTERVAL;VALUE=DURATION:PT1H
X-Robots-Tag:noindex
X-PUBLISHED-TTL:PT1H
BEGIN:VTIMEZONE
TZID:Europe/Lisbon
BEGIN:DAYLIGHT
TZOFFSETFROM:+0000
TZOFFSETTO:+0100
TZNAME:WEST
DTSTART:20230326T010000
END:DAYLIGHT
BEGIN:STANDARD
TZOFFSETFROM:+0100
TZOFFSETTO:+0000
TZNAME:WET
DTSTART:20231029T010000
END:STANDARD
BEGIN:DAYLIGHT
TZOFFSETFROM:+0000
TZOFFSETTO:+0100
TZNAME:WEST
DTSTART:20240331T010000
END:DAYLIGHT
BEGIN:STANDARD
TZOFFSETFROM:+0100
TZOFFSETTO:+0000
TZNAME:WET
DTSTART:20241027T010000
END:STANDARD
BEGIN:DAYLIGHT
TZOFFSETFROM:+0000
TZOFFSETTO:+0100
TZNAME:WEST
DTSTART:20250330T010000
END:DAYLIGHT
BEGIN:STANDARD
TZOFFSETFROM:+0100
TZOFFSETTO:+0000
TZNAME:WET
DTSTART:20251026T010000
END:STANDARD
END:VTIMEZONE
BEGIN:VEVENT
DTSTART;VALUE=DATE:20240721
DTEND;VALUE=DATE:20240722
DTSTAMP:20260421T172248
CREATED:20240401T181852Z
LAST-MODIFIED:20240401T181852Z
UID:61848-1721520000-1721606399@diocesedeviseu.pt
SUMMARY:Aniversário da tomada de posse de D. António Luciano
DESCRIPTION:
URL:https://diocesedeviseu.pt/evento/aniversario-da-tomada-de-posse-de-d-antonio-luciano-2/
CATEGORIES:Bispo,Lembretes
END:VEVENT
BEGIN:VEVENT
DTSTART;VALUE=DATE:20240722
DTEND;VALUE=DATE:20240723
DTSTAMP:20260421T172248
CREATED:20240401T181942Z
LAST-MODIFIED:20240401T181942Z
UID:61850-1721606400-1721692799@diocesedeviseu.pt
SUMMARY:Aniversário da entrada solene de D. António Luciano
DESCRIPTION:
URL:https://diocesedeviseu.pt/evento/aniversario-da-entrada-solene-de-d-antonio-luciano-2/
CATEGORIES:Bispo,Lembretes
END:VEVENT
BEGIN:VEVENT
DTSTART;TZID=Europe/Lisbon:20240723T183000
DTEND;TZID=Europe/Lisbon:20240723T183000
DTSTAMP:20260421T172248
CREATED:20240401T182040Z
LAST-MODIFIED:20240718T095125Z
UID:61852-1721759400-1721759400@diocesedeviseu.pt
SUMMARY:Celebração da Eucaristia da Dedicação da Catedral e Instituição do Ministério de Leitor e Acólito de dois seminaristas
DESCRIPTION:
URL:https://diocesedeviseu.pt/evento/aniversario-da-dedicacao-da-igreja-catedral-3/
LOCATION:Sé de Viseu\, Sé\, Viseu\, 3500-163\, Portugal
CATEGORIES:Lembretes
END:VEVENT
BEGIN:VEVENT
DTSTART;VALUE=DATE:20240728
DTEND;VALUE=DATE:20240729
DTSTAMP:20260421T172248
CREATED:20240401T182132Z
LAST-MODIFIED:20240401T182132Z
UID:61854-1722124800-1722211199@diocesedeviseu.pt
SUMMARY:Dia Mundial dos Avós e dos Idosos
DESCRIPTION:
URL:https://diocesedeviseu.pt/evento/dia-mundial-dos-avos-e-dos-idosos-3/
CATEGORIES:Lembretes
END:VEVENT
BEGIN:VEVENT
DTSTART;VALUE=DATE:20240728
DTEND;VALUE=DATE:20240729
DTSTAMP:20260421T172248
CREATED:20240401T182225Z
LAST-MODIFIED:20240401T182225Z
UID:61856-1722124800-1722211199@diocesedeviseu.pt
SUMMARY:Ofertório anual para a Diocese
DESCRIPTION:
URL:https://diocesedeviseu.pt/evento/ofertorio-anual-para-a-diocese/
CATEGORIES:Lembretes
END:VEVENT
END:VCALENDAR