BEGIN:VCALENDAR
VERSION:2.0
PRODID:-//Diocese de Viseu - ECPv6.15.18//NONSGML v1.0//EN
CALSCALE:GREGORIAN
METHOD:PUBLISH
X-WR-CALNAME:Diocese de Viseu
X-ORIGINAL-URL:https://diocesedeviseu.pt
X-WR-CALDESC:Eventos para Diocese de Viseu
REFRESH-INTERVAL;VALUE=DURATION:PT1H
X-Robots-Tag:noindex
X-PUBLISHED-TTL:PT1H
BEGIN:VTIMEZONE
TZID:Europe/Lisbon
BEGIN:DAYLIGHT
TZOFFSETFROM:+0000
TZOFFSETTO:+0100
TZNAME:WEST
DTSTART:20230326T010000
END:DAYLIGHT
BEGIN:STANDARD
TZOFFSETFROM:+0100
TZOFFSETTO:+0000
TZNAME:WET
DTSTART:20231029T010000
END:STANDARD
BEGIN:DAYLIGHT
TZOFFSETFROM:+0000
TZOFFSETTO:+0100
TZNAME:WEST
DTSTART:20240331T010000
END:DAYLIGHT
BEGIN:STANDARD
TZOFFSETFROM:+0100
TZOFFSETTO:+0000
TZNAME:WET
DTSTART:20241027T010000
END:STANDARD
BEGIN:DAYLIGHT
TZOFFSETFROM:+0000
TZOFFSETTO:+0100
TZNAME:WEST
DTSTART:20250330T010000
END:DAYLIGHT
BEGIN:STANDARD
TZOFFSETFROM:+0100
TZOFFSETTO:+0000
TZNAME:WET
DTSTART:20251026T010000
END:STANDARD
END:VTIMEZONE
BEGIN:VEVENT
DTSTART;VALUE=DATE:20241101
DTEND;VALUE=DATE:20241102
DTSTAMP:20260422T042501
CREATED:20240401T183142Z
LAST-MODIFIED:20240401T183142Z
UID:61872-1730419200-1730505599@diocesedeviseu.pt
SUMMARY:Todos os Santos
DESCRIPTION:
URL:https://diocesedeviseu.pt/evento/todos-os-santos-2/
CATEGORIES:Lembretes
END:VEVENT
BEGIN:VEVENT
DTSTART;VALUE=DATE:20241102
DTEND;VALUE=DATE:20241103
DTSTAMP:20260422T042501
CREATED:20240401T183239Z
LAST-MODIFIED:20240401T183239Z
UID:61874-1730505600-1730591999@diocesedeviseu.pt
SUMMARY:Comemoração de Todos os Fiéis Defuntos
DESCRIPTION:
URL:https://diocesedeviseu.pt/evento/comemoracao-de-todos-os-fieis-defuntos-3/
CATEGORIES:Lembretes
END:VEVENT
BEGIN:VEVENT
DTSTART;VALUE=DATE:20241110
DTEND;VALUE=DATE:20241111
DTSTAMP:20260422T042501
CREATED:20240401T183333Z
LAST-MODIFIED:20240401T183333Z
UID:61876-1731196800-1731283199@diocesedeviseu.pt
SUMMARY:Ofertório para o Seminário Diocesano
DESCRIPTION:
URL:https://diocesedeviseu.pt/evento/ofertorio-para-o-seminario-diocesano/
CATEGORIES:Clero, Vocações e Vida Consagrada,Lembretes
END:VEVENT
BEGIN:VEVENT
DTSTART;VALUE=DATE:20241117
DTEND;VALUE=DATE:20241118
DTSTAMP:20260422T042501
CREATED:20240401T183423Z
LAST-MODIFIED:20240401T183423Z
UID:61878-1731801600-1731887999@diocesedeviseu.pt
SUMMARY:Dia Mundial dos Pobres
DESCRIPTION:
URL:https://diocesedeviseu.pt/evento/dia-mundial-dos-pobres-3/
CATEGORIES:Lembretes
END:VEVENT
BEGIN:VEVENT
DTSTART;VALUE=DATE:20241124
DTEND;VALUE=DATE:20241125
DTSTAMP:20260422T042501
CREATED:20240401T183512Z
LAST-MODIFIED:20240401T183512Z
UID:61880-1732406400-1732492799@diocesedeviseu.pt
SUMMARY:Nosso Senhor Jesus Cristo\, Rei do Universo
DESCRIPTION:
URL:https://diocesedeviseu.pt/evento/nosso-senhor-jesus-cristo-rei-do-universo-3/
CATEGORIES:Lembretes
END:VEVENT
END:VCALENDAR