BEGIN:VCALENDAR
VERSION:2.0
PRODID:-//Diocese de Viseu - ECPv6.15.18//NONSGML v1.0//EN
CALSCALE:GREGORIAN
METHOD:PUBLISH
X-ORIGINAL-URL:https://diocesedeviseu.pt
X-WR-CALDESC:Eventos para Diocese de Viseu
REFRESH-INTERVAL;VALUE=DURATION:PT1H
X-Robots-Tag:noindex
X-PUBLISHED-TTL:PT1H
BEGIN:VTIMEZONE
TZID:Europe/Lisbon
BEGIN:DAYLIGHT
TZOFFSETFROM:+0000
TZOFFSETTO:+0100
TZNAME:WEST
DTSTART:20240331T010000
END:DAYLIGHT
BEGIN:STANDARD
TZOFFSETFROM:+0100
TZOFFSETTO:+0000
TZNAME:WET
DTSTART:20241027T010000
END:STANDARD
BEGIN:DAYLIGHT
TZOFFSETFROM:+0000
TZOFFSETTO:+0100
TZNAME:WEST
DTSTART:20250330T010000
END:DAYLIGHT
BEGIN:STANDARD
TZOFFSETFROM:+0100
TZOFFSETTO:+0000
TZNAME:WET
DTSTART:20251026T010000
END:STANDARD
BEGIN:DAYLIGHT
TZOFFSETFROM:+0000
TZOFFSETTO:+0100
TZNAME:WEST
DTSTART:20260329T010000
END:DAYLIGHT
BEGIN:STANDARD
TZOFFSETFROM:+0100
TZOFFSETTO:+0000
TZNAME:WET
DTSTART:20261025T010000
END:STANDARD
END:VTIMEZONE
BEGIN:VEVENT
DTSTART;VALUE=DATE:20250601
DTEND;VALUE=DATE:20250602
DTSTAMP:20260421T155120
CREATED:20250312T111353Z
LAST-MODIFIED:20250312T111353Z
UID:69300-1748736000-1748822399@diocesedeviseu.pt
SUMMARY:Ofertório para a Pastoral dos Meios de Comunicação Social
DESCRIPTION:
URL:https://diocesedeviseu.pt/evento/ofertorio-para-a-pastoral-dos-meios-de-comunicacao-social/
CATEGORIES:Lembretes
END:VEVENT
BEGIN:VEVENT
DTSTART;VALUE=DATE:20250608
DTEND;VALUE=DATE:20250609
DTSTAMP:20260421T155120
CREATED:20250312T111436Z
LAST-MODIFIED:20250312T111436Z
UID:69302-1749340800-1749427199@diocesedeviseu.pt
SUMMARY:Ofertório para o Apostolado dos Leigos
DESCRIPTION:
URL:https://diocesedeviseu.pt/evento/ofertorio-para-o-apostolado-dos-leigos-6/
CATEGORIES:Lembretes
END:VEVENT
BEGIN:VEVENT
DTSTART;TZID=Europe/Lisbon:20250621T150000
DTEND;TZID=Europe/Lisbon:20250621T150000
DTSTAMP:20260421T155120
CREATED:20250619T132654Z
LAST-MODIFIED:20250619T132654Z
UID:71487-1750518000-1750518000@diocesedeviseu.pt
SUMMARY:Celebração da Eucaristia e do Crisma
DESCRIPTION:
URL:https://diocesedeviseu.pt/evento/celebracao-da-eucaristia-e-do-crisma-7/
LOCATION:Igreja Paroquial de Sátão
CATEGORIES:Bispo,Lembretes
END:VEVENT
BEGIN:VEVENT
DTSTART;TZID=Europe/Lisbon:20250621T173000
DTEND;TZID=Europe/Lisbon:20250621T173000
DTSTAMP:20260421T155120
CREATED:20250619T132911Z
LAST-MODIFIED:20250619T132935Z
UID:71489-1750527000-1750527000@diocesedeviseu.pt
SUMMARY:Encontro com a Equipa da Comissão Diocesana de Justiça e Paz
DESCRIPTION:
URL:https://diocesedeviseu.pt/evento/encontro-com-a-equipa-da-comissao-diocesana-de-justica-e-paz/
LOCATION:Sátão
CATEGORIES:Bispo,Lembretes
END:VEVENT
BEGIN:VEVENT
DTSTART;TZID=Europe/Lisbon:20250622T093000
DTEND;TZID=Europe/Lisbon:20250622T093000
DTSTAMP:20260421T155120
CREATED:20250619T133304Z
LAST-MODIFIED:20250619T133304Z
UID:71491-1750584600-1750584600@diocesedeviseu.pt
SUMMARY:Celebração da Eucaristia na Capela do Centro Sócio-Pastoral
DESCRIPTION:
URL:https://diocesedeviseu.pt/evento/celebracao-da-eucaristia-na-capela-do-centro-socio-pastoral/
LOCATION:Centro Pastoral Diocesano – Viseu
CATEGORIES:Bispo,Lembretes
END:VEVENT
BEGIN:VEVENT
DTSTART;TZID=Europe/Lisbon:20250623T103000
DTEND;TZID=Europe/Lisbon:20250623T103000
DTSTAMP:20260421T155120
CREATED:20250619T133416Z
LAST-MODIFIED:20250619T133416Z
UID:71493-1750674600-1750674600@diocesedeviseu.pt
SUMMARY:Reunião dos Bispos do Centro
DESCRIPTION:
URL:https://diocesedeviseu.pt/evento/reuniao-dos-bispos-do-centro-13/
LOCATION:Casa Episcopal de Aveiro\, Aveiro\, Aveiro\, Portugal
CATEGORIES:Bispo,Lembretes
END:VEVENT
BEGIN:VEVENT
DTSTART;TZID=Europe/Lisbon:20250626T090000
DTEND;TZID=Europe/Lisbon:20250626T090000
DTSTAMP:20260421T155120
CREATED:20250619T133537Z
LAST-MODIFIED:20250619T133555Z
UID:71495-1750928400-1750928400@diocesedeviseu.pt
SUMMARY:Reunião do Conselho Presbiteral
DESCRIPTION:
URL:https://diocesedeviseu.pt/evento/reuniao-do-conselho-presbiteral-8/
LOCATION:Seminário Maior de Viseu
CATEGORIES:Bispo,Clero, Vocações e Vida Consagrada,Lembretes
END:VEVENT
BEGIN:VEVENT
DTSTART;VALUE=DATE:20250629
DTEND;VALUE=DATE:20250630
DTSTAMP:20260421T155120
CREATED:20250312T111517Z
LAST-MODIFIED:20250512T225614Z
UID:69304-1751155200-1751241599@diocesedeviseu.pt
SUMMARY:Ofertório para a Santa Sé (Óbolo de São Pedro)
DESCRIPTION:
URL:https://diocesedeviseu.pt/evento/ofertorio-para-a-santa-se-obolo-de-sao-pedro/
CATEGORIES:Lembretes
END:VEVENT
END:VCALENDAR