BEGIN:VCALENDAR
VERSION:2.0
PRODID:-//Diocese de Viseu - ECPv6.15.18//NONSGML v1.0//EN
CALSCALE:GREGORIAN
METHOD:PUBLISH
X-ORIGINAL-URL:https://diocesedeviseu.pt
X-WR-CALDESC:Eventos para Diocese de Viseu
REFRESH-INTERVAL;VALUE=DURATION:PT1H
X-Robots-Tag:noindex
X-PUBLISHED-TTL:PT1H
BEGIN:VTIMEZONE
TZID:Europe/Lisbon
BEGIN:DAYLIGHT
TZOFFSETFROM:+0000
TZOFFSETTO:+0100
TZNAME:WEST
DTSTART:20240331T010000
END:DAYLIGHT
BEGIN:STANDARD
TZOFFSETFROM:+0100
TZOFFSETTO:+0000
TZNAME:WET
DTSTART:20241027T010000
END:STANDARD
BEGIN:DAYLIGHT
TZOFFSETFROM:+0000
TZOFFSETTO:+0100
TZNAME:WEST
DTSTART:20250330T010000
END:DAYLIGHT
BEGIN:STANDARD
TZOFFSETFROM:+0100
TZOFFSETTO:+0000
TZNAME:WET
DTSTART:20251026T010000
END:STANDARD
BEGIN:DAYLIGHT
TZOFFSETFROM:+0000
TZOFFSETTO:+0100
TZNAME:WEST
DTSTART:20260329T010000
END:DAYLIGHT
BEGIN:STANDARD
TZOFFSETFROM:+0100
TZOFFSETTO:+0000
TZNAME:WET
DTSTART:20261025T010000
END:STANDARD
END:VTIMEZONE
BEGIN:VEVENT
DTSTART;VALUE=DATE:20251109
DTEND;VALUE=DATE:20251110
DTSTAMP:20260421T060046
CREATED:20250312T111842Z
LAST-MODIFIED:20250312T111842Z
UID:69312-1762646400-1762732799@diocesedeviseu.pt
SUMMARY:Ofertório para o Seminário Diocesano
DESCRIPTION:
URL:https://diocesedeviseu.pt/evento/ofertorio-para-o-seminario-diocesano-2/
CATEGORIES:Lembretes
END:VEVENT
BEGIN:VEVENT
DTSTART;TZID=Europe/Lisbon:20251123T143000
DTEND;TZID=Europe/Lisbon:20251123T180000
DTSTAMP:20260421T060046
CREATED:20251112T231514Z
LAST-MODIFIED:20251112T231522Z
UID:74631-1763908200-1763920800@diocesedeviseu.pt
SUMMARY:Encontro de formação para coordenadores paroquiais do serviço de leitores\, salmistas e coros.
DESCRIPTION:
URL:https://diocesedeviseu.pt/evento/encontro-de-formacao-para-coordenadores-paroquiais-do-servico-de-leitores-salmistas-e-coros/
LOCATION:Centro Pastoral Diocesano
CATEGORIES:Evangelização, Culto e Cultura,Lembretes
END:VEVENT
END:VCALENDAR