BEGIN:VCALENDAR
VERSION:2.0
PRODID:-//Diocese de Viseu - ECPv6.15.18//NONSGML v1.0//EN
CALSCALE:GREGORIAN
METHOD:PUBLISH
X-WR-CALNAME:Diocese de Viseu
X-ORIGINAL-URL:https://diocesedeviseu.pt
X-WR-CALDESC:Eventos para Diocese de Viseu
REFRESH-INTERVAL;VALUE=DURATION:PT1H
X-Robots-Tag:noindex
X-PUBLISHED-TTL:PT1H
BEGIN:VTIMEZONE
TZID:Europe/Lisbon
BEGIN:DAYLIGHT
TZOFFSETFROM:+0000
TZOFFSETTO:+0100
TZNAME:WEST
DTSTART:20220327T010000
END:DAYLIGHT
BEGIN:STANDARD
TZOFFSETFROM:+0100
TZOFFSETTO:+0000
TZNAME:WET
DTSTART:20221030T010000
END:STANDARD
BEGIN:DAYLIGHT
TZOFFSETFROM:+0000
TZOFFSETTO:+0100
TZNAME:WEST
DTSTART:20230326T010000
END:DAYLIGHT
BEGIN:STANDARD
TZOFFSETFROM:+0100
TZOFFSETTO:+0000
TZNAME:WET
DTSTART:20231029T010000
END:STANDARD
BEGIN:DAYLIGHT
TZOFFSETFROM:+0000
TZOFFSETTO:+0100
TZNAME:WEST
DTSTART:20240331T010000
END:DAYLIGHT
BEGIN:STANDARD
TZOFFSETFROM:+0100
TZOFFSETTO:+0000
TZNAME:WET
DTSTART:20241027T010000
END:STANDARD
END:VTIMEZONE
BEGIN:VEVENT
DTSTART;VALUE=DATE:20230528
DTEND;VALUE=DATE:20230529
DTSTAMP:20260422T093018
CREATED:20230506T093854Z
LAST-MODIFIED:20230506T093854Z
UID:55226-1685232000-1685318399@diocesedeviseu.pt
SUMMARY:Ofertório para o Apostolado dos Leigos
DESCRIPTION:
URL:https://diocesedeviseu.pt/evento/ofertorio-para-o-apostolado-dos-leigos-4/
CATEGORIES:Lembretes
END:VEVENT
BEGIN:VEVENT
DTSTART;VALUE=DATE:20230528
DTEND;VALUE=DATE:20230529
DTSTAMP:20260422T093018
CREATED:20230513T122230Z
LAST-MODIFIED:20230514T114113Z
UID:55413-1685232000-1685318399@diocesedeviseu.pt
SUMMARY:Dia Diocesano da Família
DESCRIPTION:
URL:https://diocesedeviseu.pt/evento/dia-diocesano-da-familia-2/
LOCATION:Catedral de Viseu
CATEGORIES:Evangelização, Culto e Cultura,Lembretes
END:VEVENT
BEGIN:VEVENT
DTSTART;TZID=Europe/Lisbon:20230528T150000
DTEND;TZID=Europe/Lisbon:20230528T180000
DTSTAMP:20260422T093019
CREATED:20230131T113845Z
LAST-MODIFIED:20230525T071154Z
UID:54021-1685286000-1685296800@diocesedeviseu.pt
SUMMARY:Celebração do Dia da Diocese
DESCRIPTION:
URL:https://diocesedeviseu.pt/evento/dia-da-diocese-5/
LOCATION:Adro da Sé de Viseu
CATEGORIES:Bispo,Lembretes,Vigararia da Pastoral
END:VEVENT
END:VCALENDAR