BEGIN:VCALENDAR
VERSION:2.0
PRODID:-//Diocese de Viseu - ECPv6.15.18//NONSGML v1.0//EN
CALSCALE:GREGORIAN
METHOD:PUBLISH
X-WR-CALNAME:Diocese de Viseu
X-ORIGINAL-URL:https://diocesedeviseu.pt
X-WR-CALDESC:Eventos para Diocese de Viseu
REFRESH-INTERVAL;VALUE=DURATION:PT1H
X-Robots-Tag:noindex
X-PUBLISHED-TTL:PT1H
BEGIN:VTIMEZONE
TZID:Europe/Lisbon
BEGIN:DAYLIGHT
TZOFFSETFROM:+0000
TZOFFSETTO:+0100
TZNAME:WEST
DTSTART:20240331T010000
END:DAYLIGHT
BEGIN:STANDARD
TZOFFSETFROM:+0100
TZOFFSETTO:+0000
TZNAME:WET
DTSTART:20241027T010000
END:STANDARD
BEGIN:DAYLIGHT
TZOFFSETFROM:+0000
TZOFFSETTO:+0100
TZNAME:WEST
DTSTART:20250330T010000
END:DAYLIGHT
BEGIN:STANDARD
TZOFFSETFROM:+0100
TZOFFSETTO:+0000
TZNAME:WET
DTSTART:20251026T010000
END:STANDARD
BEGIN:DAYLIGHT
TZOFFSETFROM:+0000
TZOFFSETTO:+0100
TZNAME:WEST
DTSTART:20260329T010000
END:DAYLIGHT
BEGIN:STANDARD
TZOFFSETFROM:+0100
TZOFFSETTO:+0000
TZNAME:WET
DTSTART:20261025T010000
END:STANDARD
END:VTIMEZONE
BEGIN:VEVENT
DTSTART;TZID=Europe/Lisbon:20250913T180000
DTEND;TZID=Europe/Lisbon:20250913T190000
DTSTAMP:20260421T180220
CREATED:20250911T211507Z
LAST-MODIFIED:20250911T211534Z
UID:73261-1757786400-1757790000@diocesedeviseu.pt
SUMMARY:Celebração da Eucaristia e administração do sacramento do Crisma\, na tomada de posse do novo pároco Padre Eduardo José Rodrigues Abrantes
DESCRIPTION:
URL:https://diocesedeviseu.pt/evento/celebracao-da-eucaristia-e-administracao-do-sacramento-do-crisma-na-tomada-de-posse-do-novo-paroco-padre-eduardo-jose-rodrigues-abrantes/
LOCATION:Igreja Paroquial de Carvalhais
CATEGORIES:Bispo,Lembretes
END:VEVENT
END:VCALENDAR