BEGIN:VCALENDAR
VERSION:2.0
PRODID:-//Diocese de Viseu - ECPv6.15.18//NONSGML v1.0//EN
CALSCALE:GREGORIAN
METHOD:PUBLISH
X-WR-CALNAME:Diocese de Viseu
X-ORIGINAL-URL:https://diocesedeviseu.pt
X-WR-CALDESC:Eventos para Diocese de Viseu
REFRESH-INTERVAL;VALUE=DURATION:PT1H
X-Robots-Tag:noindex
X-PUBLISHED-TTL:PT1H
BEGIN:VTIMEZONE
TZID:Europe/Lisbon
BEGIN:STANDARD
TZOFFSETFROM:+0100
TZOFFSETTO:+0000
TZNAME:WET
DTSTART:19760926T000000
END:STANDARD
BEGIN:DAYLIGHT
TZOFFSETFROM:+0000
TZOFFSETTO:+0100
TZNAME:WEST
DTSTART:19770327T000000
END:DAYLIGHT
BEGIN:STANDARD
TZOFFSETFROM:+0100
TZOFFSETTO:+0000
TZNAME:WET
DTSTART:19770925T000000
END:STANDARD
BEGIN:DAYLIGHT
TZOFFSETFROM:+0000
TZOFFSETTO:+0100
TZNAME:WEST
DTSTART:19780402T010000
END:DAYLIGHT
BEGIN:STANDARD
TZOFFSETFROM:+0100
TZOFFSETTO:+0000
TZNAME:WET
DTSTART:19781001T010000
END:STANDARD
BEGIN:DAYLIGHT
TZOFFSETFROM:+0000
TZOFFSETTO:+0100
TZNAME:WEST
DTSTART:19790401T010000
END:DAYLIGHT
BEGIN:STANDARD
TZOFFSETFROM:+0100
TZOFFSETTO:+0000
TZNAME:WET
DTSTART:19790930T010000
END:STANDARD
BEGIN:DAYLIGHT
TZOFFSETFROM:+0000
TZOFFSETTO:+0100
TZNAME:WEST
DTSTART:19800406T010000
END:DAYLIGHT
BEGIN:STANDARD
TZOFFSETFROM:+0100
TZOFFSETTO:+0000
TZNAME:WET
DTSTART:19800928T010000
END:STANDARD
BEGIN:DAYLIGHT
TZOFFSETFROM:+0000
TZOFFSETTO:+0100
TZNAME:WEST
DTSTART:19810329T000000
END:DAYLIGHT
BEGIN:STANDARD
TZOFFSETFROM:+0100
TZOFFSETTO:+0000
TZNAME:WET
DTSTART:19810927T000000
END:STANDARD
BEGIN:DAYLIGHT
TZOFFSETFROM:+0000
TZOFFSETTO:+0100
TZNAME:WEST
DTSTART:19820328T000000
END:DAYLIGHT
BEGIN:STANDARD
TZOFFSETFROM:+0100
TZOFFSETTO:+0000
TZNAME:WET
DTSTART:19820926T000000
END:STANDARD
BEGIN:DAYLIGHT
TZOFFSETFROM:+0000
TZOFFSETTO:+0100
TZNAME:WEST
DTSTART:19830327T000000
END:DAYLIGHT
BEGIN:STANDARD
TZOFFSETFROM:+0100
TZOFFSETTO:+0000
TZNAME:WET
DTSTART:19830925T000000
END:STANDARD
BEGIN:DAYLIGHT
TZOFFSETFROM:+0000
TZOFFSETTO:+0100
TZNAME:WEST
DTSTART:19840325T000000
END:DAYLIGHT
BEGIN:STANDARD
TZOFFSETFROM:+0100
TZOFFSETTO:+0000
TZNAME:WET
DTSTART:19840930T000000
END:STANDARD
BEGIN:DAYLIGHT
TZOFFSETFROM:+0000
TZOFFSETTO:+0100
TZNAME:WEST
DTSTART:19850331T000000
END:DAYLIGHT
BEGIN:STANDARD
TZOFFSETFROM:+0100
TZOFFSETTO:+0000
TZNAME:WET
DTSTART:19850929T000000
END:STANDARD
BEGIN:STANDARD
TZOFFSETFROM:+0000
TZOFFSETTO:+0000
TZNAME:WET
DTSTART:19860101T000000
END:STANDARD
BEGIN:DAYLIGHT
TZOFFSETFROM:+0000
TZOFFSETTO:+0100
TZNAME:WEST
DTSTART:19860330T010000
END:DAYLIGHT
BEGIN:STANDARD
TZOFFSETFROM:+0100
TZOFFSETTO:+0000
TZNAME:WET
DTSTART:19860928T010000
END:STANDARD
BEGIN:DAYLIGHT
TZOFFSETFROM:+0000
TZOFFSETTO:+0100
TZNAME:WEST
DTSTART:19870329T010000
END:DAYLIGHT
BEGIN:STANDARD
TZOFFSETFROM:+0100
TZOFFSETTO:+0000
TZNAME:WET
DTSTART:19870927T010000
END:STANDARD
BEGIN:DAYLIGHT
TZOFFSETFROM:+0000
TZOFFSETTO:+0100
TZNAME:WEST
DTSTART:19880327T010000
END:DAYLIGHT
BEGIN:STANDARD
TZOFFSETFROM:+0100
TZOFFSETTO:+0000
TZNAME:WET
DTSTART:19880925T010000
END:STANDARD
BEGIN:DAYLIGHT
TZOFFSETFROM:+0000
TZOFFSETTO:+0100
TZNAME:WEST
DTSTART:19890326T010000
END:DAYLIGHT
BEGIN:STANDARD
TZOFFSETFROM:+0100
TZOFFSETTO:+0000
TZNAME:WET
DTSTART:19890924T010000
END:STANDARD
BEGIN:DAYLIGHT
TZOFFSETFROM:+0000
TZOFFSETTO:+0100
TZNAME:WEST
DTSTART:19900325T010000
END:DAYLIGHT
BEGIN:STANDARD
TZOFFSETFROM:+0100
TZOFFSETTO:+0000
TZNAME:WET
DTSTART:19900930T010000
END:STANDARD
BEGIN:DAYLIGHT
TZOFFSETFROM:+0000
TZOFFSETTO:+0100
TZNAME:WEST
DTSTART:19910331T010000
END:DAYLIGHT
BEGIN:STANDARD
TZOFFSETFROM:+0100
TZOFFSETTO:+0000
TZNAME:WET
DTSTART:19910929T010000
END:STANDARD
BEGIN:DAYLIGHT
TZOFFSETFROM:+0000
TZOFFSETTO:+0100
TZNAME:WEST
DTSTART:19920329T010000
END:DAYLIGHT
BEGIN:STANDARD
TZOFFSETFROM:+0100
TZOFFSETTO:+0100
TZNAME:CET
DTSTART:19920927T010000
END:STANDARD
BEGIN:DAYLIGHT
TZOFFSETFROM:+0100
TZOFFSETTO:+0200
TZNAME:CEST
DTSTART:19930328T010000
END:DAYLIGHT
BEGIN:STANDARD
TZOFFSETFROM:+0200
TZOFFSETTO:+0100
TZNAME:CET
DTSTART:19930926T010000
END:STANDARD
BEGIN:DAYLIGHT
TZOFFSETFROM:+0100
TZOFFSETTO:+0200
TZNAME:CEST
DTSTART:19940327T010000
END:DAYLIGHT
BEGIN:STANDARD
TZOFFSETFROM:+0200
TZOFFSETTO:+0100
TZNAME:CET
DTSTART:19940925T010000
END:STANDARD
BEGIN:DAYLIGHT
TZOFFSETFROM:+0100
TZOFFSETTO:+0200
TZNAME:CEST
DTSTART:19950326T010000
END:DAYLIGHT
BEGIN:STANDARD
TZOFFSETFROM:+0200
TZOFFSETTO:+0100
TZNAME:CET
DTSTART:19950924T010000
END:STANDARD
BEGIN:DAYLIGHT
TZOFFSETFROM:+0100
TZOFFSETTO:+0100
TZNAME:WEST
DTSTART:19960331T010000
END:DAYLIGHT
BEGIN:STANDARD
TZOFFSETFROM:+0100
TZOFFSETTO:+0000
TZNAME:WET
DTSTART:19961027T010000
END:STANDARD
BEGIN:DAYLIGHT
TZOFFSETFROM:+0000
TZOFFSETTO:+0100
TZNAME:WEST
DTSTART:19970330T010000
END:DAYLIGHT
BEGIN:STANDARD
TZOFFSETFROM:+0100
TZOFFSETTO:+0000
TZNAME:WET
DTSTART:19971026T010000
END:STANDARD
BEGIN:DAYLIGHT
TZOFFSETFROM:+0000
TZOFFSETTO:+0100
TZNAME:WEST
DTSTART:19980329T010000
END:DAYLIGHT
BEGIN:STANDARD
TZOFFSETFROM:+0100
TZOFFSETTO:+0000
TZNAME:WET
DTSTART:19981025T010000
END:STANDARD
BEGIN:DAYLIGHT
TZOFFSETFROM:+0000
TZOFFSETTO:+0100
TZNAME:WEST
DTSTART:19990328T010000
END:DAYLIGHT
BEGIN:STANDARD
TZOFFSETFROM:+0100
TZOFFSETTO:+0000
TZNAME:WET
DTSTART:19991031T010000
END:STANDARD
BEGIN:DAYLIGHT
TZOFFSETFROM:+0000
TZOFFSETTO:+0100
TZNAME:WEST
DTSTART:20000326T010000
END:DAYLIGHT
BEGIN:STANDARD
TZOFFSETFROM:+0100
TZOFFSETTO:+0000
TZNAME:WET
DTSTART:20001029T010000
END:STANDARD
BEGIN:DAYLIGHT
TZOFFSETFROM:+0000
TZOFFSETTO:+0100
TZNAME:WEST
DTSTART:20010325T010000
END:DAYLIGHT
BEGIN:STANDARD
TZOFFSETFROM:+0100
TZOFFSETTO:+0000
TZNAME:WET
DTSTART:20011028T010000
END:STANDARD
BEGIN:DAYLIGHT
TZOFFSETFROM:+0000
TZOFFSETTO:+0100
TZNAME:WEST
DTSTART:20020331T010000
END:DAYLIGHT
BEGIN:STANDARD
TZOFFSETFROM:+0100
TZOFFSETTO:+0000
TZNAME:WET
DTSTART:20021027T010000
END:STANDARD
BEGIN:DAYLIGHT
TZOFFSETFROM:+0000
TZOFFSETTO:+0100
TZNAME:WEST
DTSTART:20030330T010000
END:DAYLIGHT
BEGIN:STANDARD
TZOFFSETFROM:+0100
TZOFFSETTO:+0000
TZNAME:WET
DTSTART:20031026T010000
END:STANDARD
BEGIN:DAYLIGHT
TZOFFSETFROM:+0000
TZOFFSETTO:+0100
TZNAME:WEST
DTSTART:20040328T010000
END:DAYLIGHT
BEGIN:STANDARD
TZOFFSETFROM:+0100
TZOFFSETTO:+0000
TZNAME:WET
DTSTART:20041031T010000
END:STANDARD
BEGIN:DAYLIGHT
TZOFFSETFROM:+0000
TZOFFSETTO:+0100
TZNAME:WEST
DTSTART:20050327T010000
END:DAYLIGHT
BEGIN:STANDARD
TZOFFSETFROM:+0100
TZOFFSETTO:+0000
TZNAME:WET
DTSTART:20051030T010000
END:STANDARD
BEGIN:DAYLIGHT
TZOFFSETFROM:+0000
TZOFFSETTO:+0100
TZNAME:WEST
DTSTART:20060326T010000
END:DAYLIGHT
BEGIN:STANDARD
TZOFFSETFROM:+0100
TZOFFSETTO:+0000
TZNAME:WET
DTSTART:20061029T010000
END:STANDARD
BEGIN:DAYLIGHT
TZOFFSETFROM:+0000
TZOFFSETTO:+0100
TZNAME:WEST
DTSTART:20070325T010000
END:DAYLIGHT
BEGIN:STANDARD
TZOFFSETFROM:+0100
TZOFFSETTO:+0000
TZNAME:WET
DTSTART:20071028T010000
END:STANDARD
BEGIN:DAYLIGHT
TZOFFSETFROM:+0000
TZOFFSETTO:+0100
TZNAME:WEST
DTSTART:20080330T010000
END:DAYLIGHT
BEGIN:STANDARD
TZOFFSETFROM:+0100
TZOFFSETTO:+0000
TZNAME:WET
DTSTART:20081026T010000
END:STANDARD
BEGIN:DAYLIGHT
TZOFFSETFROM:+0000
TZOFFSETTO:+0100
TZNAME:WEST
DTSTART:20090329T010000
END:DAYLIGHT
BEGIN:STANDARD
TZOFFSETFROM:+0100
TZOFFSETTO:+0000
TZNAME:WET
DTSTART:20091025T010000
END:STANDARD
BEGIN:DAYLIGHT
TZOFFSETFROM:+0000
TZOFFSETTO:+0100
TZNAME:WEST
DTSTART:20100328T010000
END:DAYLIGHT
BEGIN:STANDARD
TZOFFSETFROM:+0100
TZOFFSETTO:+0000
TZNAME:WET
DTSTART:20101031T010000
END:STANDARD
BEGIN:DAYLIGHT
TZOFFSETFROM:+0000
TZOFFSETTO:+0100
TZNAME:WEST
DTSTART:20110327T010000
END:DAYLIGHT
BEGIN:STANDARD
TZOFFSETFROM:+0100
TZOFFSETTO:+0000
TZNAME:WET
DTSTART:20111030T010000
END:STANDARD
BEGIN:DAYLIGHT
TZOFFSETFROM:+0000
TZOFFSETTO:+0100
TZNAME:WEST
DTSTART:20120325T010000
END:DAYLIGHT
BEGIN:STANDARD
TZOFFSETFROM:+0100
TZOFFSETTO:+0000
TZNAME:WET
DTSTART:20121028T010000
END:STANDARD
BEGIN:DAYLIGHT
TZOFFSETFROM:+0000
TZOFFSETTO:+0100
TZNAME:WEST
DTSTART:20130331T010000
END:DAYLIGHT
BEGIN:STANDARD
TZOFFSETFROM:+0100
TZOFFSETTO:+0000
TZNAME:WET
DTSTART:20131027T010000
END:STANDARD
BEGIN:DAYLIGHT
TZOFFSETFROM:+0000
TZOFFSETTO:+0100
TZNAME:WEST
DTSTART:20140330T010000
END:DAYLIGHT
BEGIN:STANDARD
TZOFFSETFROM:+0100
TZOFFSETTO:+0000
TZNAME:WET
DTSTART:20141026T010000
END:STANDARD
BEGIN:DAYLIGHT
TZOFFSETFROM:+0000
TZOFFSETTO:+0100
TZNAME:WEST
DTSTART:20150329T010000
END:DAYLIGHT
BEGIN:STANDARD
TZOFFSETFROM:+0100
TZOFFSETTO:+0000
TZNAME:WET
DTSTART:20151025T010000
END:STANDARD
BEGIN:DAYLIGHT
TZOFFSETFROM:+0000
TZOFFSETTO:+0100
TZNAME:WEST
DTSTART:20160327T010000
END:DAYLIGHT
BEGIN:STANDARD
TZOFFSETFROM:+0100
TZOFFSETTO:+0000
TZNAME:WET
DTSTART:20161030T010000
END:STANDARD
BEGIN:DAYLIGHT
TZOFFSETFROM:+0000
TZOFFSETTO:+0100
TZNAME:WEST
DTSTART:20170326T010000
END:DAYLIGHT
BEGIN:STANDARD
TZOFFSETFROM:+0100
TZOFFSETTO:+0000
TZNAME:WET
DTSTART:20171029T010000
END:STANDARD
BEGIN:DAYLIGHT
TZOFFSETFROM:+0000
TZOFFSETTO:+0100
TZNAME:WEST
DTSTART:20180325T010000
END:DAYLIGHT
BEGIN:STANDARD
TZOFFSETFROM:+0100
TZOFFSETTO:+0000
TZNAME:WET
DTSTART:20181028T010000
END:STANDARD
BEGIN:DAYLIGHT
TZOFFSETFROM:+0000
TZOFFSETTO:+0100
TZNAME:WEST
DTSTART:20190331T010000
END:DAYLIGHT
BEGIN:STANDARD
TZOFFSETFROM:+0100
TZOFFSETTO:+0000
TZNAME:WET
DTSTART:20191027T010000
END:STANDARD
BEGIN:DAYLIGHT
TZOFFSETFROM:+0000
TZOFFSETTO:+0100
TZNAME:WEST
DTSTART:20200329T010000
END:DAYLIGHT
BEGIN:STANDARD
TZOFFSETFROM:+0100
TZOFFSETTO:+0000
TZNAME:WET
DTSTART:20201025T010000
END:STANDARD
BEGIN:DAYLIGHT
TZOFFSETFROM:+0000
TZOFFSETTO:+0100
TZNAME:WEST
DTSTART:20210328T010000
END:DAYLIGHT
BEGIN:STANDARD
TZOFFSETFROM:+0100
TZOFFSETTO:+0000
TZNAME:WET
DTSTART:20211031T010000
END:STANDARD
BEGIN:DAYLIGHT
TZOFFSETFROM:+0000
TZOFFSETTO:+0100
TZNAME:WEST
DTSTART:20220327T010000
END:DAYLIGHT
BEGIN:STANDARD
TZOFFSETFROM:+0100
TZOFFSETTO:+0000
TZNAME:WET
DTSTART:20221030T010000
END:STANDARD
BEGIN:DAYLIGHT
TZOFFSETFROM:+0000
TZOFFSETTO:+0100
TZNAME:WEST
DTSTART:20230326T010000
END:DAYLIGHT
BEGIN:STANDARD
TZOFFSETFROM:+0100
TZOFFSETTO:+0000
TZNAME:WET
DTSTART:20231029T010000
END:STANDARD
BEGIN:DAYLIGHT
TZOFFSETFROM:+0000
TZOFFSETTO:+0100
TZNAME:WEST
DTSTART:20240331T010000
END:DAYLIGHT
BEGIN:STANDARD
TZOFFSETFROM:+0100
TZOFFSETTO:+0000
TZNAME:WET
DTSTART:20241027T010000
END:STANDARD
BEGIN:DAYLIGHT
TZOFFSETFROM:+0000
TZOFFSETTO:+0100
TZNAME:WEST
DTSTART:20250330T010000
END:DAYLIGHT
BEGIN:STANDARD
TZOFFSETFROM:+0100
TZOFFSETTO:+0000
TZNAME:WET
DTSTART:20251026T010000
END:STANDARD
BEGIN:DAYLIGHT
TZOFFSETFROM:+0000
TZOFFSETTO:+0100
TZNAME:WEST
DTSTART:20260329T010000
END:DAYLIGHT
BEGIN:STANDARD
TZOFFSETFROM:+0100
TZOFFSETTO:+0000
TZNAME:WET
DTSTART:20261025T010000
END:STANDARD
END:VTIMEZONE
BEGIN:VEVENT
DTSTART;TZID=Europe/Lisbon:20260424T193337
DTEND;TZID=Europe/Lisbon:20250102T152944
DTSTAMP:20260424T193337
CREATED:20250102T152944Z
LAST-MODIFIED:20250102T152944Z
UID:67640-0-1735831784@diocesedeviseu.pt
SUMMARY:Celebração da Eucaristia do aniversário da PSP
DESCRIPTION:
URL:https://diocesedeviseu.pt/evento/celebracao-da-eucaristia-do-aniversario-da-psp/
LOCATION:Sé de Viseu\, Sé\, Viseu\, 3500-163\, Portugal
END:VEVENT
BEGIN:VEVENT
DTSTART;TZID=Europe/Lisbon:20260424T193337
DTEND;TZID=Europe/Lisbon:20251023T110705
DTSTAMP:20260424T193337
CREATED:20251023T110704Z
LAST-MODIFIED:20251023T110704Z
UID:74144-0-1761217625@diocesedeviseu.pt
SUMMARY:Reunião do Arciprestado da Beira Alta
DESCRIPTION:
URL:https://diocesedeviseu.pt/evento/reuniao-do-arciprestado-da-beira-alta-9/
LOCATION:Complexo Paroquial de Mangualde\, Mangualde\, Mangualde\, Portugal
END:VEVENT
BEGIN:VEVENT
DTSTART;VALUE=DATE:20230619
DTEND;VALUE=DATE:20230622
DTSTAMP:20260424T193337
CREATED:20230615T082908Z
LAST-MODIFIED:20230615T082908Z
UID:55986-1687132800-1687391999@diocesedeviseu.pt
SUMMARY:Jornadas Episcopais e Assembleia da CEP
DESCRIPTION:
URL:https://diocesedeviseu.pt/evento/jornadas-episcopais-e-assembleia-da-cep/
LOCATION:Fátima\, Fátima\, Fátima\, Portugal
CATEGORIES:Bispo
END:VEVENT
BEGIN:VEVENT
DTSTART;TZID=Europe/Lisbon:20230620T210000
DTEND;TZID=Europe/Lisbon:20230620T210000
DTSTAMP:20260424T193337
CREATED:20221017T213019Z
LAST-MODIFIED:20221017T213019Z
UID:53687-1687294800-1687294800@diocesedeviseu.pt
SUMMARY:Oração de Taizé
DESCRIPTION:
URL:https://diocesedeviseu.pt/evento/oracao-de-taize-9/
LOCATION:Igreja dos Terceiros – Viseu
CATEGORIES:Lembretes
END:VEVENT
BEGIN:VEVENT
DTSTART;TZID=Europe/Lisbon:20230621T210000
DTEND;TZID=Europe/Lisbon:20230621T210000
DTSTAMP:20260424T193337
CREATED:20230615T083102Z
LAST-MODIFIED:20230615T083102Z
UID:55988-1687381200-1687381200@diocesedeviseu.pt
SUMMARY:Sarau do Colégio da Via-Sacra
DESCRIPTION:
URL:https://diocesedeviseu.pt/evento/sarau-do-colegio-da-via-sacra/
LOCATION:Pavilhão Multiusos – Viseu
CATEGORIES:Bispo,Lembretes
END:VEVENT
BEGIN:VEVENT
DTSTART;TZID=Europe/Lisbon:20230622T093000
DTEND;TZID=Europe/Lisbon:20230622T170000
DTSTAMP:20260424T193337
CREATED:20230623T101456Z
LAST-MODIFIED:20230623T101456Z
UID:56125-1687426200-1687453200@diocesedeviseu.pt
SUMMARY:Reunião do Conselho Presbiteral
DESCRIPTION:
URL:https://diocesedeviseu.pt/evento/reuniao-do-conselho-presbiteral-4/
LOCATION:Seminário Maior de Viseu
CATEGORIES:Bispo,Clero, Vocações e Vida Consagrada
END:VEVENT
BEGIN:VEVENT
DTSTART;VALUE=DATE:20230624
DTEND;VALUE=DATE:20230625
DTSTAMP:20260424T193337
CREATED:20230506T094427Z
LAST-MODIFIED:20230506T094427Z
UID:55236-1687564800-1687651199@diocesedeviseu.pt
SUMMARY:Solenidade do Nascimento de S. João Batista
DESCRIPTION:
URL:https://diocesedeviseu.pt/evento/solenidade-do-nascimento-de-s-joao-batista/
CATEGORIES:Lembretes
END:VEVENT
BEGIN:VEVENT
DTSTART;VALUE=DATE:20230624
DTEND;VALUE=DATE:20230625
DTSTAMP:20260424T193337
CREATED:20230506T094506Z
LAST-MODIFIED:20230506T094506Z
UID:55238-1687564800-1687651199@diocesedeviseu.pt
SUMMARY:Dia Nacional do Cigano
DESCRIPTION:
URL:https://diocesedeviseu.pt/evento/dia-nacional-do-cigano-2/
CATEGORIES:Lembretes
END:VEVENT
BEGIN:VEVENT
DTSTART;TZID=Europe/Lisbon:20230624T160000
DTEND;TZID=Europe/Lisbon:20230624T170000
DTSTAMP:20260424T193337
CREATED:20230623T101627Z
LAST-MODIFIED:20230623T101627Z
UID:56127-1687622400-1687626000@diocesedeviseu.pt
SUMMARY:Celebração da Eucaristia e do Crisma
DESCRIPTION:
URL:https://diocesedeviseu.pt/evento/celebracao-da-eucaristia-e-do-crisma/
LOCATION:Figueiró da Granja
CATEGORIES:Bispo,Lembretes
END:VEVENT
BEGIN:VEVENT
DTSTART;VALUE=DATE:20230625
DTEND;VALUE=DATE:20230626
DTSTAMP:20260424T193337
CREATED:20230506T094604Z
LAST-MODIFIED:20230506T094604Z
UID:55240-1687651200-1687737599@diocesedeviseu.pt
SUMMARY:Ofertório para a Santa Sé ou Cadeira de São Pedro
DESCRIPTION:
URL:https://diocesedeviseu.pt/evento/ofertorio-para-a-santa-se-ou-cadeira-de-sao-pedro/
CATEGORIES:Lembretes
END:VEVENT
BEGIN:VEVENT
DTSTART;TZID=Europe/Lisbon:20230625T100000
DTEND;TZID=Europe/Lisbon:20230625T100000
DTSTAMP:20260424T193337
CREATED:20230623T101722Z
LAST-MODIFIED:20230623T101722Z
UID:56130-1687687200-1687687200@diocesedeviseu.pt
SUMMARY:Celebração da Eucaristia e Crisma
DESCRIPTION:
URL:https://diocesedeviseu.pt/evento/celebracao-da-eucaristia-e-crisma-8/
LOCATION:Igreja Paroquial de Abraveses
CATEGORIES:Bispo,Lembretes
END:VEVENT
BEGIN:VEVENT
DTSTART;TZID=Europe/Lisbon:20230625T160000
DTEND;TZID=Europe/Lisbon:20230625T170000
DTSTAMP:20260424T193337
CREATED:20230623T101812Z
LAST-MODIFIED:20230623T101812Z
UID:56132-1687708800-1687712400@diocesedeviseu.pt
SUMMARY:Eucaristia da entrada solene de D. Nuno Almeida como Bispo da Diocese de Bragança-Miranda
DESCRIPTION:
URL:https://diocesedeviseu.pt/evento/eucaristia-da-entrada-solene-de-d-nuno-almeida-como-bispo-da-diocese-de-braganca-miranda/
LOCATION:Catedral de Bragança
CATEGORIES:Bispo,Lembretes
END:VEVENT
BEGIN:VEVENT
DTSTART;TZID=Europe/Lisbon:20230626T180000
DTEND;TZID=Europe/Lisbon:20230626T180000
DTSTAMP:20260424T193337
CREATED:20230623T101858Z
LAST-MODIFIED:20230623T101858Z
UID:56135-1687802400-1687802400@diocesedeviseu.pt
SUMMARY:Celebração da Eucaristia na festa de São José Maria Escrivá
DESCRIPTION:
URL:https://diocesedeviseu.pt/evento/celebracao-da-eucaristia-na-festa-de-sao-jose-maria-escriva/
LOCATION:Igreja do Coração de Jesus – Viseu
CATEGORIES:Bispo
END:VEVENT
BEGIN:VEVENT
DTSTART;TZID=Europe/Lisbon:20230627T100000
DTEND;TZID=Europe/Lisbon:20230627T170000
DTSTAMP:20260424T193337
CREATED:20230623T102011Z
LAST-MODIFIED:20230623T102011Z
UID:56137-1687860000-1687885200@diocesedeviseu.pt
SUMMARY:Reunião com os Bispos e equipa do Seminário Interdiocesano
DESCRIPTION:
URL:https://diocesedeviseu.pt/evento/reuniao-com-os-bispos-e-equipa-do-seminario-interdiocesano/
LOCATION:Seminário de Lamego
CATEGORIES:Bispo
END:VEVENT
BEGIN:VEVENT
DTSTART;VALUE=DATE:20230629
DTEND;VALUE=DATE:20230630
DTSTAMP:20260424T193337
CREATED:20230506T094657Z
LAST-MODIFIED:20230506T094657Z
UID:55242-1687996800-1688083199@diocesedeviseu.pt
SUMMARY:Solenidade dos Santos Pedro e Paulo
DESCRIPTION:
URL:https://diocesedeviseu.pt/evento/solenidade-dos-santos-pedro-e-paulo/
CATEGORIES:Lembretes
END:VEVENT
BEGIN:VEVENT
DTSTART;VALUE=DATE:20230630
DTEND;VALUE=DATE:20230704
DTSTAMP:20260424T193337
CREATED:20230701T084832Z
LAST-MODIFIED:20230701T084832Z
UID:56260-1688083200-1688428799@diocesedeviseu.pt
SUMMARY:Celebrações de Crisma
DESCRIPTION:
URL:https://diocesedeviseu.pt/evento/celebracoes-de-crisma/
LOCATION:Inglaterra
CATEGORIES:Bispo
END:VEVENT
BEGIN:VEVENT
DTSTART;VALUE=DATE:20230703
DTEND;VALUE=DATE:20230706
DTSTAMP:20260424T193337
CREATED:20230701T132508Z
LAST-MODIFIED:20230701T132508Z
UID:56271-1688342400-1688601599@diocesedeviseu.pt
SUMMARY:XVI Clericus Cup
DESCRIPTION:
URL:https://diocesedeviseu.pt/evento/xvi-clericus-cup/
LOCATION:Mangualde\, Mangualde\, Mangualde\, Portugal
CATEGORIES:Clero, Vocações e Vida Consagrada,Lembretes
END:VEVENT
BEGIN:VEVENT
DTSTART;TZID=Europe/Lisbon:20230704T183000
DTEND;TZID=Europe/Lisbon:20230704T183000
DTSTAMP:20260424T193337
CREATED:20230701T085155Z
LAST-MODIFIED:20230701T085155Z
UID:56263-1688495400-1688495400@diocesedeviseu.pt
SUMMARY:Celebração da Eucaristia com os sacerdotes que participam no Clericus Cup
DESCRIPTION:
URL:https://diocesedeviseu.pt/evento/celebracao-da-eucaristia-com-os-sacerdotes-que-participam-no-clericus-cup/
LOCATION:Igreja de Nossa Senhora do Castelo em Mangualde
CATEGORIES:Bispo,Clero, Vocações e Vida Consagrada,Lembretes
END:VEVENT
BEGIN:VEVENT
DTSTART;TZID=Europe/Lisbon:20230708T110000
DTEND;TZID=Europe/Lisbon:20230708T110000
DTSTAMP:20260424T193337
CREATED:20230705T234920Z
LAST-MODIFIED:20230705T234920Z
UID:56334-1688814000-1688814000@diocesedeviseu.pt
SUMMARY:Eucaristia de Ação de Graças pelos 70 anos de sacerdócio do Senhor Padre Francisco Cunha Marques
DESCRIPTION:
URL:https://diocesedeviseu.pt/evento/eucaristia-de-acao-de-gracas-pelos-70-anos-de-sacerdocio-do-senhor-padre-francisco-cunha-marques/
LOCATION:Figueiredo das Donas
CATEGORIES:Lembretes
END:VEVENT
BEGIN:VEVENT
DTSTART;TZID=Europe/Lisbon:20230708T160000
DTEND;TZID=Europe/Lisbon:20230708T160000
DTSTAMP:20260424T193337
CREATED:20230705T235105Z
LAST-MODIFIED:20230705T235105Z
UID:56337-1688832000-1688832000@diocesedeviseu.pt
SUMMARY:Celebração do Sacramento do Crisma
DESCRIPTION:
URL:https://diocesedeviseu.pt/evento/celebracao-do-sacramento-do-crisma/
LOCATION:Penalva do Castelo
CATEGORIES:Lembretes
END:VEVENT
BEGIN:VEVENT
DTSTART;TZID=Europe/Lisbon:20230709T103000
DTEND;TZID=Europe/Lisbon:20230709T103000
DTSTAMP:20260424T193337
CREATED:20230705T235231Z
LAST-MODIFIED:20230705T235516Z
UID:56340-1688898600-1688898600@diocesedeviseu.pt
SUMMARY:Celebração da Eucaristia dos 25 anos de sacerdócio do Padre António Jorge Almeida e Crisma na Igreja Paroquial de Rio de Loba
DESCRIPTION:
URL:https://diocesedeviseu.pt/evento/celebracao-da-eucaristia-dos-25-anos-de-sacerdocio-do-padre-antonio-jorge-almeida-e-crisma-na-igreja-paroquial-de-rio-de-loba/
LOCATION:Igreja Paroquial de Rio de Loba
CATEGORIES:Bispo,Clero, Vocações e Vida Consagrada,Lembretes
END:VEVENT
BEGIN:VEVENT
DTSTART;TZID=Europe/Lisbon:20230709T180000
DTEND;TZID=Europe/Lisbon:20230709T180000
DTSTAMP:20260424T193337
CREATED:20230705T235420Z
LAST-MODIFIED:20230705T235420Z
UID:56343-1688925600-1688925600@diocesedeviseu.pt
SUMMARY:Celebração da Eucaristia e Sacramento do Crisma para as paróquias de Tondela
DESCRIPTION:
URL:https://diocesedeviseu.pt/evento/celebracao-da-eucaristia-e-sacramento-do-crisma-para-as-paroquias-de-tondela/
LOCATION:São Miguel do Outeiro
CATEGORIES:Bispo,Evangelização, Culto e Cultura,Lembretes
END:VEVENT
BEGIN:VEVENT
DTSTART;TZID=Europe/Lisbon:20230713T190000
DTEND;TZID=Europe/Lisbon:20230713T190000
DTSTAMP:20260424T193337
CREATED:20230712T225630Z
LAST-MODIFIED:20230712T225630Z
UID:56443-1689274800-1689274800@diocesedeviseu.pt
SUMMARY:Encontro com a Comissão de Proteção de Menores da Diocese de Viseu
DESCRIPTION:
URL:https://diocesedeviseu.pt/evento/encontro-com-a-comissao-de-protecao-de-menores-da-diocese-de-viseu/
LOCATION:Seminário Maior de Viseu
CATEGORIES:Bispo
END:VEVENT
BEGIN:VEVENT
DTSTART;TZID=Europe/Lisbon:20230715T173000
DTEND;TZID=Europe/Lisbon:20230715T173000
DTSTAMP:20260424T193337
CREATED:20230712T225811Z
LAST-MODIFIED:20230712T225811Z
UID:56445-1689442200-1689442200@diocesedeviseu.pt
SUMMARY:Eucaristia da festa de Nossa Senhora do Carmo\, seguida de Procissão
DESCRIPTION:
URL:https://diocesedeviseu.pt/evento/eucaristia-da-festa-de-nossa-senhora-do-carmo-seguida-de-procissao/
LOCATION:Igreja do Carmo – Viseu\, Igreja do Carmo\, Viseu\, Portugal
CATEGORIES:Bispo,Lembretes
END:VEVENT
BEGIN:VEVENT
DTSTART;TZID=Europe/Lisbon:20230716T103000
DTEND;TZID=Europe/Lisbon:20230716T103000
DTSTAMP:20260424T193337
CREATED:20230712T225931Z
LAST-MODIFIED:20230712T225931Z
UID:56447-1689503400-1689503400@diocesedeviseu.pt
SUMMARY:Eucaristia de Ação de Graças pelo jubileu sacerdotal de 50 anos\, do Padre Francisco de Matos Dias\, Missionário Comboniano
DESCRIPTION:
URL:https://diocesedeviseu.pt/evento/eucaristia-de-acao-de-gracas-pelo-jubileu-sacerdotal-de-50-anos-do-padre-francisco-de-matos-dias-missionario-comboniano/
LOCATION:Igreja de Barreiro de Besteiros
CATEGORIES:Bispo,Clero, Vocações e Vida Consagrada,Lembretes
END:VEVENT
BEGIN:VEVENT
DTSTART;TZID=Europe/Lisbon:20230716T160000
DTEND;TZID=Europe/Lisbon:20230716T160000
DTSTAMP:20260424T193337
CREATED:20230712T230051Z
LAST-MODIFIED:20230712T230051Z
UID:56450-1689523200-1689523200@diocesedeviseu.pt
SUMMARY:Celebração da Eucaristia da Ordenação Episcopal de D. Joaquim Dionísio\, Bispo Auxiliar do Porto
DESCRIPTION:
URL:https://diocesedeviseu.pt/evento/celebracao-da-eucaristia-da-ordenacao-episcopal-de-d-joaquim-dionisio-bispo-auxiliar-do-porto/
LOCATION:Sé de Lamego
CATEGORIES:Bispo,Clero, Vocações e Vida Consagrada,Lembretes
END:VEVENT
BEGIN:VEVENT
DTSTART;VALUE=DATE:20230721
DTEND;VALUE=DATE:20230722
DTSTAMP:20260424T193337
CREATED:20230506T094830Z
LAST-MODIFIED:20230506T094830Z
UID:55244-1689897600-1689983999@diocesedeviseu.pt
SUMMARY:Aniversário da Tomada de posse de D. António Luciano
DESCRIPTION:
URL:https://diocesedeviseu.pt/evento/aniversario-da-tomada-de-posse-de-d-antonio-luciano/
CATEGORIES:Bispo,Lembretes
END:VEVENT
BEGIN:VEVENT
DTSTART;VALUE=DATE:20230722
DTEND;VALUE=DATE:20230723
DTSTAMP:20260424T193337
CREATED:20230506T094923Z
LAST-MODIFIED:20230506T094923Z
UID:55246-1689984000-1690070399@diocesedeviseu.pt
SUMMARY:Aniversário da Entrada Solene de D. António Luciano
DESCRIPTION:
URL:https://diocesedeviseu.pt/evento/aniversario-da-entrada-solene-de-d-antonio-luciano/
CATEGORIES:Bispo,Lembretes
END:VEVENT
BEGIN:VEVENT
DTSTART;TZID=Europe/Lisbon:20230722T103000
DTEND;TZID=Europe/Lisbon:20230722T103000
DTSTAMP:20260424T193337
CREATED:20230719T134539Z
LAST-MODIFIED:20230719T134539Z
UID:56548-1690021800-1690021800@diocesedeviseu.pt
SUMMARY:Celebração da Eucaristia e do Crisma
DESCRIPTION:
URL:https://diocesedeviseu.pt/evento/celebracao-da-eucaristia-e-do-crisma-2/
LOCATION:Igreja Paroquial de Campo de Madalena
CATEGORIES:Bispo
END:VEVENT
BEGIN:VEVENT
DTSTART;TZID=Europe/Lisbon:20230722T170000
DTEND;TZID=Europe/Lisbon:20230722T170000
DTSTAMP:20260424T193337
CREATED:20230719T135033Z
LAST-MODIFIED:20230719T135103Z
UID:56550-1690045200-1690045200@diocesedeviseu.pt
SUMMARY:Celebração da Eucaristia e do Crisma
DESCRIPTION:
URL:https://diocesedeviseu.pt/evento/celebracao-da-eucaristia-e-do-crisma-3/
LOCATION:Igreja Paroquial de Tourigo
CATEGORIES:Bispo
END:VEVENT
END:VCALENDAR