BEGIN:VCALENDAR
VERSION:2.0
PRODID:-//Diocese de Viseu - ECPv6.15.18//NONSGML v1.0//EN
CALSCALE:GREGORIAN
METHOD:PUBLISH
X-WR-CALNAME:Diocese de Viseu
X-ORIGINAL-URL:https://diocesedeviseu.pt
X-WR-CALDESC:Eventos para Diocese de Viseu
REFRESH-INTERVAL;VALUE=DURATION:PT1H
X-Robots-Tag:noindex
X-PUBLISHED-TTL:PT1H
BEGIN:VTIMEZONE
TZID:Europe/Lisbon
BEGIN:STANDARD
TZOFFSETFROM:+0100
TZOFFSETTO:+0000
TZNAME:WET
DTSTART:19760926T000000
END:STANDARD
BEGIN:DAYLIGHT
TZOFFSETFROM:+0000
TZOFFSETTO:+0100
TZNAME:WEST
DTSTART:19770327T000000
END:DAYLIGHT
BEGIN:STANDARD
TZOFFSETFROM:+0100
TZOFFSETTO:+0000
TZNAME:WET
DTSTART:19770925T000000
END:STANDARD
BEGIN:DAYLIGHT
TZOFFSETFROM:+0000
TZOFFSETTO:+0100
TZNAME:WEST
DTSTART:19780402T010000
END:DAYLIGHT
BEGIN:STANDARD
TZOFFSETFROM:+0100
TZOFFSETTO:+0000
TZNAME:WET
DTSTART:19781001T010000
END:STANDARD
BEGIN:DAYLIGHT
TZOFFSETFROM:+0000
TZOFFSETTO:+0100
TZNAME:WEST
DTSTART:19790401T010000
END:DAYLIGHT
BEGIN:STANDARD
TZOFFSETFROM:+0100
TZOFFSETTO:+0000
TZNAME:WET
DTSTART:19790930T010000
END:STANDARD
BEGIN:DAYLIGHT
TZOFFSETFROM:+0000
TZOFFSETTO:+0100
TZNAME:WEST
DTSTART:19800406T010000
END:DAYLIGHT
BEGIN:STANDARD
TZOFFSETFROM:+0100
TZOFFSETTO:+0000
TZNAME:WET
DTSTART:19800928T010000
END:STANDARD
BEGIN:DAYLIGHT
TZOFFSETFROM:+0000
TZOFFSETTO:+0100
TZNAME:WEST
DTSTART:19810329T000000
END:DAYLIGHT
BEGIN:STANDARD
TZOFFSETFROM:+0100
TZOFFSETTO:+0000
TZNAME:WET
DTSTART:19810927T000000
END:STANDARD
BEGIN:DAYLIGHT
TZOFFSETFROM:+0000
TZOFFSETTO:+0100
TZNAME:WEST
DTSTART:19820328T000000
END:DAYLIGHT
BEGIN:STANDARD
TZOFFSETFROM:+0100
TZOFFSETTO:+0000
TZNAME:WET
DTSTART:19820926T000000
END:STANDARD
BEGIN:DAYLIGHT
TZOFFSETFROM:+0000
TZOFFSETTO:+0100
TZNAME:WEST
DTSTART:19830327T000000
END:DAYLIGHT
BEGIN:STANDARD
TZOFFSETFROM:+0100
TZOFFSETTO:+0000
TZNAME:WET
DTSTART:19830925T000000
END:STANDARD
BEGIN:DAYLIGHT
TZOFFSETFROM:+0000
TZOFFSETTO:+0100
TZNAME:WEST
DTSTART:19840325T000000
END:DAYLIGHT
BEGIN:STANDARD
TZOFFSETFROM:+0100
TZOFFSETTO:+0000
TZNAME:WET
DTSTART:19840930T000000
END:STANDARD
BEGIN:DAYLIGHT
TZOFFSETFROM:+0000
TZOFFSETTO:+0100
TZNAME:WEST
DTSTART:19850331T000000
END:DAYLIGHT
BEGIN:STANDARD
TZOFFSETFROM:+0100
TZOFFSETTO:+0000
TZNAME:WET
DTSTART:19850929T000000
END:STANDARD
BEGIN:STANDARD
TZOFFSETFROM:+0000
TZOFFSETTO:+0000
TZNAME:WET
DTSTART:19860101T000000
END:STANDARD
BEGIN:DAYLIGHT
TZOFFSETFROM:+0000
TZOFFSETTO:+0100
TZNAME:WEST
DTSTART:19860330T010000
END:DAYLIGHT
BEGIN:STANDARD
TZOFFSETFROM:+0100
TZOFFSETTO:+0000
TZNAME:WET
DTSTART:19860928T010000
END:STANDARD
BEGIN:DAYLIGHT
TZOFFSETFROM:+0000
TZOFFSETTO:+0100
TZNAME:WEST
DTSTART:19870329T010000
END:DAYLIGHT
BEGIN:STANDARD
TZOFFSETFROM:+0100
TZOFFSETTO:+0000
TZNAME:WET
DTSTART:19870927T010000
END:STANDARD
BEGIN:DAYLIGHT
TZOFFSETFROM:+0000
TZOFFSETTO:+0100
TZNAME:WEST
DTSTART:19880327T010000
END:DAYLIGHT
BEGIN:STANDARD
TZOFFSETFROM:+0100
TZOFFSETTO:+0000
TZNAME:WET
DTSTART:19880925T010000
END:STANDARD
BEGIN:DAYLIGHT
TZOFFSETFROM:+0000
TZOFFSETTO:+0100
TZNAME:WEST
DTSTART:19890326T010000
END:DAYLIGHT
BEGIN:STANDARD
TZOFFSETFROM:+0100
TZOFFSETTO:+0000
TZNAME:WET
DTSTART:19890924T010000
END:STANDARD
BEGIN:DAYLIGHT
TZOFFSETFROM:+0000
TZOFFSETTO:+0100
TZNAME:WEST
DTSTART:19900325T010000
END:DAYLIGHT
BEGIN:STANDARD
TZOFFSETFROM:+0100
TZOFFSETTO:+0000
TZNAME:WET
DTSTART:19900930T010000
END:STANDARD
BEGIN:DAYLIGHT
TZOFFSETFROM:+0000
TZOFFSETTO:+0100
TZNAME:WEST
DTSTART:19910331T010000
END:DAYLIGHT
BEGIN:STANDARD
TZOFFSETFROM:+0100
TZOFFSETTO:+0000
TZNAME:WET
DTSTART:19910929T010000
END:STANDARD
BEGIN:DAYLIGHT
TZOFFSETFROM:+0000
TZOFFSETTO:+0100
TZNAME:WEST
DTSTART:19920329T010000
END:DAYLIGHT
BEGIN:STANDARD
TZOFFSETFROM:+0100
TZOFFSETTO:+0100
TZNAME:CET
DTSTART:19920927T010000
END:STANDARD
BEGIN:DAYLIGHT
TZOFFSETFROM:+0100
TZOFFSETTO:+0200
TZNAME:CEST
DTSTART:19930328T010000
END:DAYLIGHT
BEGIN:STANDARD
TZOFFSETFROM:+0200
TZOFFSETTO:+0100
TZNAME:CET
DTSTART:19930926T010000
END:STANDARD
BEGIN:DAYLIGHT
TZOFFSETFROM:+0100
TZOFFSETTO:+0200
TZNAME:CEST
DTSTART:19940327T010000
END:DAYLIGHT
BEGIN:STANDARD
TZOFFSETFROM:+0200
TZOFFSETTO:+0100
TZNAME:CET
DTSTART:19940925T010000
END:STANDARD
BEGIN:DAYLIGHT
TZOFFSETFROM:+0100
TZOFFSETTO:+0200
TZNAME:CEST
DTSTART:19950326T010000
END:DAYLIGHT
BEGIN:STANDARD
TZOFFSETFROM:+0200
TZOFFSETTO:+0100
TZNAME:CET
DTSTART:19950924T010000
END:STANDARD
BEGIN:DAYLIGHT
TZOFFSETFROM:+0100
TZOFFSETTO:+0100
TZNAME:WEST
DTSTART:19960331T010000
END:DAYLIGHT
BEGIN:STANDARD
TZOFFSETFROM:+0100
TZOFFSETTO:+0000
TZNAME:WET
DTSTART:19961027T010000
END:STANDARD
BEGIN:DAYLIGHT
TZOFFSETFROM:+0000
TZOFFSETTO:+0100
TZNAME:WEST
DTSTART:19970330T010000
END:DAYLIGHT
BEGIN:STANDARD
TZOFFSETFROM:+0100
TZOFFSETTO:+0000
TZNAME:WET
DTSTART:19971026T010000
END:STANDARD
BEGIN:DAYLIGHT
TZOFFSETFROM:+0000
TZOFFSETTO:+0100
TZNAME:WEST
DTSTART:19980329T010000
END:DAYLIGHT
BEGIN:STANDARD
TZOFFSETFROM:+0100
TZOFFSETTO:+0000
TZNAME:WET
DTSTART:19981025T010000
END:STANDARD
BEGIN:DAYLIGHT
TZOFFSETFROM:+0000
TZOFFSETTO:+0100
TZNAME:WEST
DTSTART:19990328T010000
END:DAYLIGHT
BEGIN:STANDARD
TZOFFSETFROM:+0100
TZOFFSETTO:+0000
TZNAME:WET
DTSTART:19991031T010000
END:STANDARD
BEGIN:DAYLIGHT
TZOFFSETFROM:+0000
TZOFFSETTO:+0100
TZNAME:WEST
DTSTART:20000326T010000
END:DAYLIGHT
BEGIN:STANDARD
TZOFFSETFROM:+0100
TZOFFSETTO:+0000
TZNAME:WET
DTSTART:20001029T010000
END:STANDARD
BEGIN:DAYLIGHT
TZOFFSETFROM:+0000
TZOFFSETTO:+0100
TZNAME:WEST
DTSTART:20010325T010000
END:DAYLIGHT
BEGIN:STANDARD
TZOFFSETFROM:+0100
TZOFFSETTO:+0000
TZNAME:WET
DTSTART:20011028T010000
END:STANDARD
BEGIN:DAYLIGHT
TZOFFSETFROM:+0000
TZOFFSETTO:+0100
TZNAME:WEST
DTSTART:20020331T010000
END:DAYLIGHT
BEGIN:STANDARD
TZOFFSETFROM:+0100
TZOFFSETTO:+0000
TZNAME:WET
DTSTART:20021027T010000
END:STANDARD
BEGIN:DAYLIGHT
TZOFFSETFROM:+0000
TZOFFSETTO:+0100
TZNAME:WEST
DTSTART:20030330T010000
END:DAYLIGHT
BEGIN:STANDARD
TZOFFSETFROM:+0100
TZOFFSETTO:+0000
TZNAME:WET
DTSTART:20031026T010000
END:STANDARD
BEGIN:DAYLIGHT
TZOFFSETFROM:+0000
TZOFFSETTO:+0100
TZNAME:WEST
DTSTART:20040328T010000
END:DAYLIGHT
BEGIN:STANDARD
TZOFFSETFROM:+0100
TZOFFSETTO:+0000
TZNAME:WET
DTSTART:20041031T010000
END:STANDARD
BEGIN:DAYLIGHT
TZOFFSETFROM:+0000
TZOFFSETTO:+0100
TZNAME:WEST
DTSTART:20050327T010000
END:DAYLIGHT
BEGIN:STANDARD
TZOFFSETFROM:+0100
TZOFFSETTO:+0000
TZNAME:WET
DTSTART:20051030T010000
END:STANDARD
BEGIN:DAYLIGHT
TZOFFSETFROM:+0000
TZOFFSETTO:+0100
TZNAME:WEST
DTSTART:20060326T010000
END:DAYLIGHT
BEGIN:STANDARD
TZOFFSETFROM:+0100
TZOFFSETTO:+0000
TZNAME:WET
DTSTART:20061029T010000
END:STANDARD
BEGIN:DAYLIGHT
TZOFFSETFROM:+0000
TZOFFSETTO:+0100
TZNAME:WEST
DTSTART:20070325T010000
END:DAYLIGHT
BEGIN:STANDARD
TZOFFSETFROM:+0100
TZOFFSETTO:+0000
TZNAME:WET
DTSTART:20071028T010000
END:STANDARD
BEGIN:DAYLIGHT
TZOFFSETFROM:+0000
TZOFFSETTO:+0100
TZNAME:WEST
DTSTART:20080330T010000
END:DAYLIGHT
BEGIN:STANDARD
TZOFFSETFROM:+0100
TZOFFSETTO:+0000
TZNAME:WET
DTSTART:20081026T010000
END:STANDARD
BEGIN:DAYLIGHT
TZOFFSETFROM:+0000
TZOFFSETTO:+0100
TZNAME:WEST
DTSTART:20090329T010000
END:DAYLIGHT
BEGIN:STANDARD
TZOFFSETFROM:+0100
TZOFFSETTO:+0000
TZNAME:WET
DTSTART:20091025T010000
END:STANDARD
BEGIN:DAYLIGHT
TZOFFSETFROM:+0000
TZOFFSETTO:+0100
TZNAME:WEST
DTSTART:20100328T010000
END:DAYLIGHT
BEGIN:STANDARD
TZOFFSETFROM:+0100
TZOFFSETTO:+0000
TZNAME:WET
DTSTART:20101031T010000
END:STANDARD
BEGIN:DAYLIGHT
TZOFFSETFROM:+0000
TZOFFSETTO:+0100
TZNAME:WEST
DTSTART:20110327T010000
END:DAYLIGHT
BEGIN:STANDARD
TZOFFSETFROM:+0100
TZOFFSETTO:+0000
TZNAME:WET
DTSTART:20111030T010000
END:STANDARD
BEGIN:DAYLIGHT
TZOFFSETFROM:+0000
TZOFFSETTO:+0100
TZNAME:WEST
DTSTART:20120325T010000
END:DAYLIGHT
BEGIN:STANDARD
TZOFFSETFROM:+0100
TZOFFSETTO:+0000
TZNAME:WET
DTSTART:20121028T010000
END:STANDARD
BEGIN:DAYLIGHT
TZOFFSETFROM:+0000
TZOFFSETTO:+0100
TZNAME:WEST
DTSTART:20130331T010000
END:DAYLIGHT
BEGIN:STANDARD
TZOFFSETFROM:+0100
TZOFFSETTO:+0000
TZNAME:WET
DTSTART:20131027T010000
END:STANDARD
BEGIN:DAYLIGHT
TZOFFSETFROM:+0000
TZOFFSETTO:+0100
TZNAME:WEST
DTSTART:20140330T010000
END:DAYLIGHT
BEGIN:STANDARD
TZOFFSETFROM:+0100
TZOFFSETTO:+0000
TZNAME:WET
DTSTART:20141026T010000
END:STANDARD
BEGIN:DAYLIGHT
TZOFFSETFROM:+0000
TZOFFSETTO:+0100
TZNAME:WEST
DTSTART:20150329T010000
END:DAYLIGHT
BEGIN:STANDARD
TZOFFSETFROM:+0100
TZOFFSETTO:+0000
TZNAME:WET
DTSTART:20151025T010000
END:STANDARD
BEGIN:DAYLIGHT
TZOFFSETFROM:+0000
TZOFFSETTO:+0100
TZNAME:WEST
DTSTART:20160327T010000
END:DAYLIGHT
BEGIN:STANDARD
TZOFFSETFROM:+0100
TZOFFSETTO:+0000
TZNAME:WET
DTSTART:20161030T010000
END:STANDARD
BEGIN:DAYLIGHT
TZOFFSETFROM:+0000
TZOFFSETTO:+0100
TZNAME:WEST
DTSTART:20170326T010000
END:DAYLIGHT
BEGIN:STANDARD
TZOFFSETFROM:+0100
TZOFFSETTO:+0000
TZNAME:WET
DTSTART:20171029T010000
END:STANDARD
BEGIN:DAYLIGHT
TZOFFSETFROM:+0000
TZOFFSETTO:+0100
TZNAME:WEST
DTSTART:20180325T010000
END:DAYLIGHT
BEGIN:STANDARD
TZOFFSETFROM:+0100
TZOFFSETTO:+0000
TZNAME:WET
DTSTART:20181028T010000
END:STANDARD
BEGIN:DAYLIGHT
TZOFFSETFROM:+0000
TZOFFSETTO:+0100
TZNAME:WEST
DTSTART:20190331T010000
END:DAYLIGHT
BEGIN:STANDARD
TZOFFSETFROM:+0100
TZOFFSETTO:+0000
TZNAME:WET
DTSTART:20191027T010000
END:STANDARD
BEGIN:DAYLIGHT
TZOFFSETFROM:+0000
TZOFFSETTO:+0100
TZNAME:WEST
DTSTART:20200329T010000
END:DAYLIGHT
BEGIN:STANDARD
TZOFFSETFROM:+0100
TZOFFSETTO:+0000
TZNAME:WET
DTSTART:20201025T010000
END:STANDARD
BEGIN:DAYLIGHT
TZOFFSETFROM:+0000
TZOFFSETTO:+0100
TZNAME:WEST
DTSTART:20210328T010000
END:DAYLIGHT
BEGIN:STANDARD
TZOFFSETFROM:+0100
TZOFFSETTO:+0000
TZNAME:WET
DTSTART:20211031T010000
END:STANDARD
BEGIN:DAYLIGHT
TZOFFSETFROM:+0000
TZOFFSETTO:+0100
TZNAME:WEST
DTSTART:20220327T010000
END:DAYLIGHT
BEGIN:STANDARD
TZOFFSETFROM:+0100
TZOFFSETTO:+0000
TZNAME:WET
DTSTART:20221030T010000
END:STANDARD
BEGIN:DAYLIGHT
TZOFFSETFROM:+0000
TZOFFSETTO:+0100
TZNAME:WEST
DTSTART:20230326T010000
END:DAYLIGHT
BEGIN:STANDARD
TZOFFSETFROM:+0100
TZOFFSETTO:+0000
TZNAME:WET
DTSTART:20231029T010000
END:STANDARD
BEGIN:DAYLIGHT
TZOFFSETFROM:+0000
TZOFFSETTO:+0100
TZNAME:WEST
DTSTART:20240331T010000
END:DAYLIGHT
BEGIN:STANDARD
TZOFFSETFROM:+0100
TZOFFSETTO:+0000
TZNAME:WET
DTSTART:20241027T010000
END:STANDARD
BEGIN:DAYLIGHT
TZOFFSETFROM:+0000
TZOFFSETTO:+0100
TZNAME:WEST
DTSTART:20250330T010000
END:DAYLIGHT
BEGIN:STANDARD
TZOFFSETFROM:+0100
TZOFFSETTO:+0000
TZNAME:WET
DTSTART:20251026T010000
END:STANDARD
BEGIN:DAYLIGHT
TZOFFSETFROM:+0000
TZOFFSETTO:+0100
TZNAME:WEST
DTSTART:20260329T010000
END:DAYLIGHT
BEGIN:STANDARD
TZOFFSETFROM:+0100
TZOFFSETTO:+0000
TZNAME:WET
DTSTART:20261025T010000
END:STANDARD
END:VTIMEZONE
BEGIN:VEVENT
DTSTART;TZID=Europe/Lisbon:20260423T023348
DTEND;TZID=Europe/Lisbon:20250102T152944
DTSTAMP:20260423T023348
CREATED:20250102T152944Z
LAST-MODIFIED:20250102T152944Z
UID:67640-0-1735831784@diocesedeviseu.pt
SUMMARY:Celebração da Eucaristia do aniversário da PSP
DESCRIPTION:
URL:https://diocesedeviseu.pt/evento/celebracao-da-eucaristia-do-aniversario-da-psp/
LOCATION:Sé de Viseu\, Sé\, Viseu\, 3500-163\, Portugal
END:VEVENT
BEGIN:VEVENT
DTSTART;TZID=Europe/Lisbon:20260423T023348
DTEND;TZID=Europe/Lisbon:20251023T110705
DTSTAMP:20260423T023348
CREATED:20251023T110704Z
LAST-MODIFIED:20251023T110704Z
UID:74144-0-1761217625@diocesedeviseu.pt
SUMMARY:Reunião do Arciprestado da Beira Alta
DESCRIPTION:
URL:https://diocesedeviseu.pt/evento/reuniao-do-arciprestado-da-beira-alta-9/
LOCATION:Complexo Paroquial de Mangualde\, Mangualde\, Mangualde\, Portugal
END:VEVENT
BEGIN:VEVENT
DTSTART;VALUE=DATE:20231101
DTEND;VALUE=DATE:20231102
DTSTAMP:20260423T023348
CREATED:20230506T141656Z
LAST-MODIFIED:20230506T141656Z
UID:55266-1698796800-1698883199@diocesedeviseu.pt
SUMMARY:Solenidade de Todos os Santos
DESCRIPTION:
URL:https://diocesedeviseu.pt/evento/solenidade-de-todos-os-santos-3/
CATEGORIES:Lembretes
END:VEVENT
BEGIN:VEVENT
DTSTART;TZID=Europe/Lisbon:20231101T110000
DTEND;TZID=Europe/Lisbon:20231101T110000
DTSTAMP:20260423T023348
CREATED:20231025T084614Z
LAST-MODIFIED:20231025T084954Z
UID:58206-1698836400-1698836400@diocesedeviseu.pt
SUMMARY:Eucaristia da Solenidade de Todos os Santos
DESCRIPTION:
URL:https://diocesedeviseu.pt/evento/eucaristia-da-solenidade-de-todos-os-santos-2/
LOCATION:Catedral de Viseu
CATEGORIES:Bispo,Lembretes
END:VEVENT
BEGIN:VEVENT
DTSTART;TZID=Europe/Lisbon:20231102T183000
DTEND;TZID=Europe/Lisbon:20231102T183000
DTSTAMP:20260423T023348
CREATED:20231025T084656Z
LAST-MODIFIED:20231025T084656Z
UID:58208-1698949800-1698949800@diocesedeviseu.pt
SUMMARY:Eucaristia da Comemoração dos Fiéis Defuntos
DESCRIPTION:
URL:https://diocesedeviseu.pt/evento/eucaristia-da-comemoracao-dos-fieis-defuntos-2/
LOCATION:Catedral de Viseu
CATEGORIES:Bispo,Lembretes
END:VEVENT
BEGIN:VEVENT
DTSTART;VALUE=DATE:20231105
DTEND;VALUE=DATE:20231113
DTSTAMP:20260423T023348
CREATED:20230506T141835Z
LAST-MODIFIED:20230506T141835Z
UID:55268-1699142400-1699833599@diocesedeviseu.pt
SUMMARY:Semana do Seminários
DESCRIPTION:
URL:https://diocesedeviseu.pt/evento/semana-do-seminarios/
CATEGORIES:Lembretes
END:VEVENT
BEGIN:VEVENT
DTSTART;TZID=Europe/Lisbon:20231105T103000
DTEND;TZID=Europe/Lisbon:20231105T103000
DTSTAMP:20260423T023348
CREATED:20231102T120718Z
LAST-MODIFIED:20231102T120718Z
UID:58343-1699180200-1699180200@diocesedeviseu.pt
SUMMARY:Celebração da Eucaristia nos 75 Anos da Associação local\, inauguração das obras e bênção
DESCRIPTION:
URL:https://diocesedeviseu.pt/evento/celebracao-da-eucaristia-nos-75-anos-da-associacao-local-inauguracao-das-obras-e-bencao/
LOCATION:Igreja de Beijós
CATEGORIES:Bispo
END:VEVENT
BEGIN:VEVENT
DTSTART;TZID=Europe/Lisbon:20231107T143000
DTEND;TZID=Europe/Lisbon:20231107T143000
DTSTAMP:20260423T023348
CREATED:20231102T120830Z
LAST-MODIFIED:20231102T120830Z
UID:58346-1699367400-1699367400@diocesedeviseu.pt
SUMMARY:Celebração dos 44 anos do Instituto Politécnico de Viseu
DESCRIPTION:
URL:https://diocesedeviseu.pt/evento/celebracao-dos-44-anos-do-instituto-politecnico-de-viseu/
LOCATION:Aula Magna do IPV – Viseu
CATEGORIES:Bispo
END:VEVENT
BEGIN:VEVENT
DTSTART;TZID=Europe/Lisbon:20231107T210000
DTEND;TZID=Europe/Lisbon:20231107T210000
DTSTAMP:20260423T023348
CREATED:20231008T204433Z
LAST-MODIFIED:20231008T204433Z
UID:57893-1699390800-1699390800@diocesedeviseu.pt
SUMMARY:Oração de Taizé
DESCRIPTION:
URL:https://diocesedeviseu.pt/evento/oracao-de-taize-11/
LOCATION:Igreja dos Terceiros – Viseu
CATEGORIES:Lembretes
END:VEVENT
BEGIN:VEVENT
DTSTART;TZID=Europe/Lisbon:20231109T100000
DTEND;TZID=Europe/Lisbon:20231109T100000
DTSTAMP:20260423T023348
CREATED:20231102T120940Z
LAST-MODIFIED:20231102T120940Z
UID:58349-1699524000-1699524000@diocesedeviseu.pt
SUMMARY:Reunião do clero do arciprestado da Beira Alta
DESCRIPTION:
URL:https://diocesedeviseu.pt/evento/reuniao-do-clero-do-arciprestado-da-beira-alta/
LOCATION:Complexo Paroquial de Mangualde\, Mangualde\, Mangualde\, Portugal
CATEGORIES:Bispo,Clero, Vocações e Vida Consagrada,Lembretes
END:VEVENT
BEGIN:VEVENT
DTSTART;TZID=Europe/Lisbon:20231111T110000
DTEND;TZID=Europe/Lisbon:20231111T110000
DTSTAMP:20260423T023348
CREATED:20231111T110049Z
LAST-MODIFIED:20231110T141618Z
UID:58489-1699700400-1699700400@diocesedeviseu.pt
SUMMARY:Cerimónia de entrega de diplomas
DESCRIPTION:
URL:https://diocesedeviseu.pt/evento/cerimonia-de-entrega-de-diplomas/
LOCATION:Universidade Católica Portuguesa – Viseu\, Viseu
CATEGORIES:Bispo
END:VEVENT
BEGIN:VEVENT
DTSTART;TZID=Europe/Lisbon:20231111T210000
DTEND;TZID=Europe/Lisbon:20231111T210000
DTSTAMP:20260423T023348
CREATED:20231104T230453Z
LAST-MODIFIED:20231104T230453Z
UID:58402-1699736400-1699736400@diocesedeviseu.pt
SUMMARY:Vigília de Oração pelos Seminários
DESCRIPTION:
URL:https://diocesedeviseu.pt/evento/vigilia-de-oracao-pelos-seminarios/
LOCATION:Seminário Maior de Viseu
CATEGORIES:Bispo,Lembretes
END:VEVENT
BEGIN:VEVENT
DTSTART;VALUE=DATE:20231112
DTEND;VALUE=DATE:20231113
DTSTAMP:20260423T023348
CREATED:20230506T141954Z
LAST-MODIFIED:20230506T141954Z
UID:55270-1699747200-1699833599@diocesedeviseu.pt
SUMMARY:Ofertório para os Seminário Diocesano
DESCRIPTION:
URL:https://diocesedeviseu.pt/evento/ofertorio-para-os-seminario-diocesano/
CATEGORIES:Lembretes
END:VEVENT
BEGIN:VEVENT
DTSTART;TZID=Europe/Lisbon:20231112T110000
DTEND;TZID=Europe/Lisbon:20231112T110000
DTSTAMP:20260423T023348
CREATED:20231109T163246Z
LAST-MODIFIED:20231110T140915Z
UID:58491-1699786800-1699786800@diocesedeviseu.pt
SUMMARY:Celebração da Eucaristia no encerramento da Semana dos Seminários\, com a participação dos seminaristas de Viseu e inauguração das novas instalações da Junta de Freguesia
DESCRIPTION:
URL:https://diocesedeviseu.pt/evento/celebracao-da-eucaristia-no-encerramento-da-semana-dos-seminarios-com-a-participacao-dos-seminaristas-de-viseu-e-inauguracao-das-novas-instalacoes-da-junta-de-freguesia/
LOCATION:Pindo
CATEGORIES:Bispo
END:VEVENT
BEGIN:VEVENT
DTSTART;VALUE=DATE:20231113
DTEND;VALUE=DATE:20231117
DTSTAMP:20260423T023348
CREATED:20231109T163433Z
LAST-MODIFIED:20231109T163433Z
UID:58494-1699833600-1700179199@diocesedeviseu.pt
SUMMARY:Reunião da Conferência Episcopal Portuguesa
DESCRIPTION:
URL:https://diocesedeviseu.pt/evento/reuniao-da-conferencia-episcopal-portuguesa-2/
LOCATION:Fátima\, Fátima\, Fátima\, Portugal
CATEGORIES:Bispo
END:VEVENT
BEGIN:VEVENT
DTSTART;TZID=Europe/Lisbon:20231119T123000
DTEND;TZID=Europe/Lisbon:20231119T123000
DTSTAMP:20260423T023348
CREATED:20231114T152114Z
LAST-MODIFIED:20231114T152114Z
UID:58607-1700397000-1700397000@diocesedeviseu.pt
SUMMARY:Celebração da Eucaristia do Domingo “Dia Mundial dos Pobres”
DESCRIPTION:
URL:https://diocesedeviseu.pt/evento/celebracao-da-eucaristia-do-domingo-dia-mundial-dos-pobres/
LOCATION:Igreja da Misericórdia – Viseu
END:VEVENT
BEGIN:VEVENT
DTSTART;VALUE=DATE:20231120
DTEND;VALUE=DATE:20231125
DTSTAMP:20260423T023348
CREATED:20231114T152703Z
LAST-MODIFIED:20231114T152703Z
UID:58611-1700438400-1700870399@diocesedeviseu.pt
SUMMARY:Participação na Assembleia Plenária da Conferência Episcopal Espanhola
DESCRIPTION:
URL:https://diocesedeviseu.pt/evento/participacao-na-assembleia-plenaria-da-conferencia-episcopal-espanhola/
LOCATION:Madrid\, Espanha
END:VEVENT
BEGIN:VEVENT
DTSTART;TZID=Europe/Lisbon:20231120T103000
DTEND;TZID=Europe/Lisbon:20231120T103000
DTSTAMP:20260423T023348
CREATED:20231114T152448Z
LAST-MODIFIED:20231114T152448Z
UID:58609-1700476200-1700476200@diocesedeviseu.pt
SUMMARY:Encontro dos Bispos das Dioceses do Centro
DESCRIPTION:
URL:https://diocesedeviseu.pt/evento/encontro-dos-bispos-das-dioceses-do-centro/
LOCATION:Casa Episcopal – Viseu
END:VEVENT
BEGIN:VEVENT
DTSTART;TZID=Europe/Lisbon:20231125T160000
DTEND;TZID=Europe/Lisbon:20231125T160000
DTSTAMP:20260423T023348
CREATED:20231122T093047Z
LAST-MODIFIED:20231122T100622Z
UID:58782-1700928000-1700928000@diocesedeviseu.pt
SUMMARY:Celebração do Crisma
DESCRIPTION:
URL:https://diocesedeviseu.pt/evento/celebracao-do-crisma-4/
LOCATION:Igreja de São Joao de Lourosa\, Viseu\, Portugal
CATEGORIES:Bispo
END:VEVENT
BEGIN:VEVENT
DTSTART;TZID=Europe/Lisbon:20231126T110000
DTEND;TZID=Europe/Lisbon:20231126T110000
DTSTAMP:20260423T023348
CREATED:20231123T174046Z
LAST-MODIFIED:20231123T174046Z
UID:58823-1700996400-1700996400@diocesedeviseu.pt
SUMMARY:Celebração da Eucaristia no Solenidade de Cristo Rei
DESCRIPTION:
URL:https://diocesedeviseu.pt/evento/celebracao-da-eucaristia-no-solenidade-de-cristo-rei/
LOCATION:Sé Catedral de Viseu\, Adro Sé\, 3500-195 Viseu\, Portugal\, Viseu\, 3500-195\, Portugal
END:VEVENT
BEGIN:VEVENT
DTSTART;TZID=Europe/Lisbon:20231126T143000
DTEND;TZID=Europe/Lisbon:20231126T143000
DTSTAMP:20260423T023348
CREATED:20231114T151500Z
LAST-MODIFIED:20231114T151500Z
UID:58605-1701009000-1701009000@diocesedeviseu.pt
SUMMARY:Encontro Diocesano da Juventude
DESCRIPTION:
URL:https://diocesedeviseu.pt/evento/encontro-diocesano-da-juventude/
LOCATION:Colégio da Via Sacra
END:VEVENT
BEGIN:VEVENT
DTSTART;TZID=Europe/Lisbon:20231126T160000
DTEND;TZID=Europe/Lisbon:20231126T160000
DTSTAMP:20260423T023348
CREATED:20231114T170212Z
LAST-MODIFIED:20231114T170212Z
UID:58614-1701014400-1701014400@diocesedeviseu.pt
SUMMARY:Apresentação do Projeto Pastoral Diocesano 2023-2026
DESCRIPTION:
URL:https://diocesedeviseu.pt/evento/apresentacao-do-projeto-pastoral-diocesano-2023-2026/
LOCATION:Colégio da Via Sacra
ATTACH;FMTTYPE=image/png:https://diocesedeviseu.pt/wp-content/uploads/2023/11/Layout-diocese-de-Viseu-2.png
END:VEVENT
BEGIN:VEVENT
DTSTART;TZID=Europe/Lisbon:20231127T093000
DTEND;TZID=Europe/Lisbon:20231127T093000
DTSTAMP:20260423T023348
CREATED:20231122T093640Z
LAST-MODIFIED:20231124T012522Z
UID:58784-1701077400-1701077400@diocesedeviseu.pt
SUMMARY:Recoleção de Advento (Clero)
DESCRIPTION:
URL:https://diocesedeviseu.pt/evento/recolecao-de-advento/
LOCATION:Seminário de Viseu\, Viseu\, Viseu\, Portugal
CATEGORIES:Bispo,Clero, Vocações e Vida Consagrada,Evangelização, Culto e Cultura
END:VEVENT
BEGIN:VEVENT
DTSTART;TZID=Europe/Lisbon:20231128T100000
DTEND;TZID=Europe/Lisbon:20231128T100000
DTSTAMP:20260423T023348
CREATED:20231123T174706Z
LAST-MODIFIED:20231123T174706Z
UID:58826-1701165600-1701165600@diocesedeviseu.pt
SUMMARY:Encontro no Seminário Interdiocesano de São José
DESCRIPTION:
URL:https://diocesedeviseu.pt/evento/encontro-no-seminario-interdiocesano-de-sao-jose/
LOCATION:Seminário Interdiocesano em Braga
END:VEVENT
BEGIN:VEVENT
DTSTART;TZID=Europe/Lisbon:20231129T150000
DTEND;TZID=Europe/Lisbon:20231129T150000
DTSTAMP:20260423T023348
CREATED:20231122T094210Z
LAST-MODIFIED:20231124T012749Z
UID:58787-1701270000-1701270000@diocesedeviseu.pt
SUMMARY:Celebração da Eucaristia (Comando da GNR da Guarda)
DESCRIPTION:
URL:https://diocesedeviseu.pt/evento/celebracao-da-eucaristia-7/
LOCATION:na Igreja Paroquial de Fornos de Algodres
CATEGORIES:Bispo
END:VEVENT
BEGIN:VEVENT
DTSTART;TZID=Europe/Lisbon:20231129T173000
DTEND;TZID=Europe/Lisbon:20231129T173000
DTSTAMP:20260423T023348
CREATED:20231122T094851Z
LAST-MODIFIED:20231122T094851Z
UID:58791-1701279000-1701279000@diocesedeviseu.pt
SUMMARY:Celebração da Eucaristia nos 800 anos da Fundação da Ordem Franciscana
DESCRIPTION:
URL:https://diocesedeviseu.pt/evento/celebracao-da-eucaristia-nos-800-anos-da-fundacao-da-ordem-franciscana/
LOCATION:Igreja dos Terceiros – Viseu
CATEGORIES:Bispo,Evangelização, Culto e Cultura
END:VEVENT
BEGIN:VEVENT
DTSTART;TZID=Europe/Lisbon:20231129T203000
DTEND;TZID=Europe/Lisbon:20231129T203000
DTSTAMP:20260423T023348
CREATED:20231122T095500Z
LAST-MODIFIED:20231124T012608Z
UID:58794-1701289800-1701289800@diocesedeviseu.pt
SUMMARY:Início da Novena da Imaculada Conceição
DESCRIPTION:
URL:https://diocesedeviseu.pt/evento/novena-da-imaculada-conceicao/
LOCATION:Igreja Paroquial de Orgens\, Orgens\, Viseu\, Portugal
CATEGORIES:Bispo,Evangelização, Culto e Cultura
END:VEVENT
BEGIN:VEVENT
DTSTART;TZID=Europe/Lisbon:20231130T153000
DTEND;TZID=Europe/Lisbon:20231130T153000
DTSTAMP:20260423T023348
CREATED:20231122T100156Z
LAST-MODIFIED:20231122T100156Z
UID:58799-1701358200-1701358200@diocesedeviseu.pt
SUMMARY:Celebração da Eucaristia com os Bombeiros de Viseu
DESCRIPTION:
URL:https://diocesedeviseu.pt/evento/celebracao-da-eucaristia-com-os-bombeiros-de-viseu/
LOCATION:Sé Catedral de Viseu\, Adro Sé\, 3500-195 Viseu\, Portugal\, Viseu\, 3500-195\, Portugal
CATEGORIES:Bispo,Evangelização, Culto e Cultura
END:VEVENT
BEGIN:VEVENT
DTSTART;TZID=Europe/Lisbon:20231130T173000
DTEND;TZID=Europe/Lisbon:20231130T173000
DTSTAMP:20260423T023348
CREATED:20231129T155202Z
LAST-MODIFIED:20231129T155202Z
UID:58987-1701365400-1701365400@diocesedeviseu.pt
SUMMARY:Cerimónia de iluminação de Natal
DESCRIPTION:
URL:https://diocesedeviseu.pt/evento/cerimonia-de-iluminacao-de-natal/
LOCATION:Rossio de Viseu\, Casa Episcopal – Rua Nunes de Carvalho\, nº 12 – 3500-163 VISEU\, Viseu\, Portugal
END:VEVENT
BEGIN:VEVENT
DTSTART;TZID=Europe/Lisbon:20231201T103000
DTEND;TZID=Europe/Lisbon:20231201T103000
DTSTAMP:20260423T023348
CREATED:20231129T100412Z
LAST-MODIFIED:20231129T100412Z
UID:58951-1701426600-1701426600@diocesedeviseu.pt
SUMMARY:Missa de Sufrágio pela alma dos sócios da Fraternidade e Assembleia
DESCRIPTION:
URL:https://diocesedeviseu.pt/evento/missa-de-sufragio-pela-alma-dos-socios-da-fraternidade-e-assembleia/
LOCATION:Seminário de Viseu\, Viseu\, Viseu\, Portugal
END:VEVENT
END:VCALENDAR