BEGIN:VCALENDAR
VERSION:2.0
PRODID:-//Diocese de Viseu - ECPv6.15.18//NONSGML v1.0//EN
CALSCALE:GREGORIAN
METHOD:PUBLISH
X-WR-CALNAME:Diocese de Viseu
X-ORIGINAL-URL:https://diocesedeviseu.pt
X-WR-CALDESC:Eventos para Diocese de Viseu
REFRESH-INTERVAL;VALUE=DURATION:PT1H
X-Robots-Tag:noindex
X-PUBLISHED-TTL:PT1H
BEGIN:VTIMEZONE
TZID:Europe/Lisbon
BEGIN:STANDARD
TZOFFSETFROM:+0100
TZOFFSETTO:+0000
TZNAME:WET
DTSTART:19760926T000000
END:STANDARD
BEGIN:DAYLIGHT
TZOFFSETFROM:+0000
TZOFFSETTO:+0100
TZNAME:WEST
DTSTART:19770327T000000
END:DAYLIGHT
BEGIN:STANDARD
TZOFFSETFROM:+0100
TZOFFSETTO:+0000
TZNAME:WET
DTSTART:19770925T000000
END:STANDARD
BEGIN:DAYLIGHT
TZOFFSETFROM:+0000
TZOFFSETTO:+0100
TZNAME:WEST
DTSTART:19780402T010000
END:DAYLIGHT
BEGIN:STANDARD
TZOFFSETFROM:+0100
TZOFFSETTO:+0000
TZNAME:WET
DTSTART:19781001T010000
END:STANDARD
BEGIN:DAYLIGHT
TZOFFSETFROM:+0000
TZOFFSETTO:+0100
TZNAME:WEST
DTSTART:19790401T010000
END:DAYLIGHT
BEGIN:STANDARD
TZOFFSETFROM:+0100
TZOFFSETTO:+0000
TZNAME:WET
DTSTART:19790930T010000
END:STANDARD
BEGIN:DAYLIGHT
TZOFFSETFROM:+0000
TZOFFSETTO:+0100
TZNAME:WEST
DTSTART:19800406T010000
END:DAYLIGHT
BEGIN:STANDARD
TZOFFSETFROM:+0100
TZOFFSETTO:+0000
TZNAME:WET
DTSTART:19800928T010000
END:STANDARD
BEGIN:DAYLIGHT
TZOFFSETFROM:+0000
TZOFFSETTO:+0100
TZNAME:WEST
DTSTART:19810329T000000
END:DAYLIGHT
BEGIN:STANDARD
TZOFFSETFROM:+0100
TZOFFSETTO:+0000
TZNAME:WET
DTSTART:19810927T000000
END:STANDARD
BEGIN:DAYLIGHT
TZOFFSETFROM:+0000
TZOFFSETTO:+0100
TZNAME:WEST
DTSTART:19820328T000000
END:DAYLIGHT
BEGIN:STANDARD
TZOFFSETFROM:+0100
TZOFFSETTO:+0000
TZNAME:WET
DTSTART:19820926T000000
END:STANDARD
BEGIN:DAYLIGHT
TZOFFSETFROM:+0000
TZOFFSETTO:+0100
TZNAME:WEST
DTSTART:19830327T000000
END:DAYLIGHT
BEGIN:STANDARD
TZOFFSETFROM:+0100
TZOFFSETTO:+0000
TZNAME:WET
DTSTART:19830925T000000
END:STANDARD
BEGIN:DAYLIGHT
TZOFFSETFROM:+0000
TZOFFSETTO:+0100
TZNAME:WEST
DTSTART:19840325T000000
END:DAYLIGHT
BEGIN:STANDARD
TZOFFSETFROM:+0100
TZOFFSETTO:+0000
TZNAME:WET
DTSTART:19840930T000000
END:STANDARD
BEGIN:DAYLIGHT
TZOFFSETFROM:+0000
TZOFFSETTO:+0100
TZNAME:WEST
DTSTART:19850331T000000
END:DAYLIGHT
BEGIN:STANDARD
TZOFFSETFROM:+0100
TZOFFSETTO:+0000
TZNAME:WET
DTSTART:19850929T000000
END:STANDARD
BEGIN:STANDARD
TZOFFSETFROM:+0000
TZOFFSETTO:+0000
TZNAME:WET
DTSTART:19860101T000000
END:STANDARD
BEGIN:DAYLIGHT
TZOFFSETFROM:+0000
TZOFFSETTO:+0100
TZNAME:WEST
DTSTART:19860330T010000
END:DAYLIGHT
BEGIN:STANDARD
TZOFFSETFROM:+0100
TZOFFSETTO:+0000
TZNAME:WET
DTSTART:19860928T010000
END:STANDARD
BEGIN:DAYLIGHT
TZOFFSETFROM:+0000
TZOFFSETTO:+0100
TZNAME:WEST
DTSTART:19870329T010000
END:DAYLIGHT
BEGIN:STANDARD
TZOFFSETFROM:+0100
TZOFFSETTO:+0000
TZNAME:WET
DTSTART:19870927T010000
END:STANDARD
BEGIN:DAYLIGHT
TZOFFSETFROM:+0000
TZOFFSETTO:+0100
TZNAME:WEST
DTSTART:19880327T010000
END:DAYLIGHT
BEGIN:STANDARD
TZOFFSETFROM:+0100
TZOFFSETTO:+0000
TZNAME:WET
DTSTART:19880925T010000
END:STANDARD
BEGIN:DAYLIGHT
TZOFFSETFROM:+0000
TZOFFSETTO:+0100
TZNAME:WEST
DTSTART:19890326T010000
END:DAYLIGHT
BEGIN:STANDARD
TZOFFSETFROM:+0100
TZOFFSETTO:+0000
TZNAME:WET
DTSTART:19890924T010000
END:STANDARD
BEGIN:DAYLIGHT
TZOFFSETFROM:+0000
TZOFFSETTO:+0100
TZNAME:WEST
DTSTART:19900325T010000
END:DAYLIGHT
BEGIN:STANDARD
TZOFFSETFROM:+0100
TZOFFSETTO:+0000
TZNAME:WET
DTSTART:19900930T010000
END:STANDARD
BEGIN:DAYLIGHT
TZOFFSETFROM:+0000
TZOFFSETTO:+0100
TZNAME:WEST
DTSTART:19910331T010000
END:DAYLIGHT
BEGIN:STANDARD
TZOFFSETFROM:+0100
TZOFFSETTO:+0000
TZNAME:WET
DTSTART:19910929T010000
END:STANDARD
BEGIN:DAYLIGHT
TZOFFSETFROM:+0000
TZOFFSETTO:+0100
TZNAME:WEST
DTSTART:19920329T010000
END:DAYLIGHT
BEGIN:STANDARD
TZOFFSETFROM:+0100
TZOFFSETTO:+0100
TZNAME:CET
DTSTART:19920927T010000
END:STANDARD
BEGIN:DAYLIGHT
TZOFFSETFROM:+0100
TZOFFSETTO:+0200
TZNAME:CEST
DTSTART:19930328T010000
END:DAYLIGHT
BEGIN:STANDARD
TZOFFSETFROM:+0200
TZOFFSETTO:+0100
TZNAME:CET
DTSTART:19930926T010000
END:STANDARD
BEGIN:DAYLIGHT
TZOFFSETFROM:+0100
TZOFFSETTO:+0200
TZNAME:CEST
DTSTART:19940327T010000
END:DAYLIGHT
BEGIN:STANDARD
TZOFFSETFROM:+0200
TZOFFSETTO:+0100
TZNAME:CET
DTSTART:19940925T010000
END:STANDARD
BEGIN:DAYLIGHT
TZOFFSETFROM:+0100
TZOFFSETTO:+0200
TZNAME:CEST
DTSTART:19950326T010000
END:DAYLIGHT
BEGIN:STANDARD
TZOFFSETFROM:+0200
TZOFFSETTO:+0100
TZNAME:CET
DTSTART:19950924T010000
END:STANDARD
BEGIN:DAYLIGHT
TZOFFSETFROM:+0100
TZOFFSETTO:+0100
TZNAME:WEST
DTSTART:19960331T010000
END:DAYLIGHT
BEGIN:STANDARD
TZOFFSETFROM:+0100
TZOFFSETTO:+0000
TZNAME:WET
DTSTART:19961027T010000
END:STANDARD
BEGIN:DAYLIGHT
TZOFFSETFROM:+0000
TZOFFSETTO:+0100
TZNAME:WEST
DTSTART:19970330T010000
END:DAYLIGHT
BEGIN:STANDARD
TZOFFSETFROM:+0100
TZOFFSETTO:+0000
TZNAME:WET
DTSTART:19971026T010000
END:STANDARD
BEGIN:DAYLIGHT
TZOFFSETFROM:+0000
TZOFFSETTO:+0100
TZNAME:WEST
DTSTART:19980329T010000
END:DAYLIGHT
BEGIN:STANDARD
TZOFFSETFROM:+0100
TZOFFSETTO:+0000
TZNAME:WET
DTSTART:19981025T010000
END:STANDARD
BEGIN:DAYLIGHT
TZOFFSETFROM:+0000
TZOFFSETTO:+0100
TZNAME:WEST
DTSTART:19990328T010000
END:DAYLIGHT
BEGIN:STANDARD
TZOFFSETFROM:+0100
TZOFFSETTO:+0000
TZNAME:WET
DTSTART:19991031T010000
END:STANDARD
BEGIN:DAYLIGHT
TZOFFSETFROM:+0000
TZOFFSETTO:+0100
TZNAME:WEST
DTSTART:20000326T010000
END:DAYLIGHT
BEGIN:STANDARD
TZOFFSETFROM:+0100
TZOFFSETTO:+0000
TZNAME:WET
DTSTART:20001029T010000
END:STANDARD
BEGIN:DAYLIGHT
TZOFFSETFROM:+0000
TZOFFSETTO:+0100
TZNAME:WEST
DTSTART:20010325T010000
END:DAYLIGHT
BEGIN:STANDARD
TZOFFSETFROM:+0100
TZOFFSETTO:+0000
TZNAME:WET
DTSTART:20011028T010000
END:STANDARD
BEGIN:DAYLIGHT
TZOFFSETFROM:+0000
TZOFFSETTO:+0100
TZNAME:WEST
DTSTART:20020331T010000
END:DAYLIGHT
BEGIN:STANDARD
TZOFFSETFROM:+0100
TZOFFSETTO:+0000
TZNAME:WET
DTSTART:20021027T010000
END:STANDARD
BEGIN:DAYLIGHT
TZOFFSETFROM:+0000
TZOFFSETTO:+0100
TZNAME:WEST
DTSTART:20030330T010000
END:DAYLIGHT
BEGIN:STANDARD
TZOFFSETFROM:+0100
TZOFFSETTO:+0000
TZNAME:WET
DTSTART:20031026T010000
END:STANDARD
BEGIN:DAYLIGHT
TZOFFSETFROM:+0000
TZOFFSETTO:+0100
TZNAME:WEST
DTSTART:20040328T010000
END:DAYLIGHT
BEGIN:STANDARD
TZOFFSETFROM:+0100
TZOFFSETTO:+0000
TZNAME:WET
DTSTART:20041031T010000
END:STANDARD
BEGIN:DAYLIGHT
TZOFFSETFROM:+0000
TZOFFSETTO:+0100
TZNAME:WEST
DTSTART:20050327T010000
END:DAYLIGHT
BEGIN:STANDARD
TZOFFSETFROM:+0100
TZOFFSETTO:+0000
TZNAME:WET
DTSTART:20051030T010000
END:STANDARD
BEGIN:DAYLIGHT
TZOFFSETFROM:+0000
TZOFFSETTO:+0100
TZNAME:WEST
DTSTART:20060326T010000
END:DAYLIGHT
BEGIN:STANDARD
TZOFFSETFROM:+0100
TZOFFSETTO:+0000
TZNAME:WET
DTSTART:20061029T010000
END:STANDARD
BEGIN:DAYLIGHT
TZOFFSETFROM:+0000
TZOFFSETTO:+0100
TZNAME:WEST
DTSTART:20070325T010000
END:DAYLIGHT
BEGIN:STANDARD
TZOFFSETFROM:+0100
TZOFFSETTO:+0000
TZNAME:WET
DTSTART:20071028T010000
END:STANDARD
BEGIN:DAYLIGHT
TZOFFSETFROM:+0000
TZOFFSETTO:+0100
TZNAME:WEST
DTSTART:20080330T010000
END:DAYLIGHT
BEGIN:STANDARD
TZOFFSETFROM:+0100
TZOFFSETTO:+0000
TZNAME:WET
DTSTART:20081026T010000
END:STANDARD
BEGIN:DAYLIGHT
TZOFFSETFROM:+0000
TZOFFSETTO:+0100
TZNAME:WEST
DTSTART:20090329T010000
END:DAYLIGHT
BEGIN:STANDARD
TZOFFSETFROM:+0100
TZOFFSETTO:+0000
TZNAME:WET
DTSTART:20091025T010000
END:STANDARD
BEGIN:DAYLIGHT
TZOFFSETFROM:+0000
TZOFFSETTO:+0100
TZNAME:WEST
DTSTART:20100328T010000
END:DAYLIGHT
BEGIN:STANDARD
TZOFFSETFROM:+0100
TZOFFSETTO:+0000
TZNAME:WET
DTSTART:20101031T010000
END:STANDARD
BEGIN:DAYLIGHT
TZOFFSETFROM:+0000
TZOFFSETTO:+0100
TZNAME:WEST
DTSTART:20110327T010000
END:DAYLIGHT
BEGIN:STANDARD
TZOFFSETFROM:+0100
TZOFFSETTO:+0000
TZNAME:WET
DTSTART:20111030T010000
END:STANDARD
BEGIN:DAYLIGHT
TZOFFSETFROM:+0000
TZOFFSETTO:+0100
TZNAME:WEST
DTSTART:20120325T010000
END:DAYLIGHT
BEGIN:STANDARD
TZOFFSETFROM:+0100
TZOFFSETTO:+0000
TZNAME:WET
DTSTART:20121028T010000
END:STANDARD
BEGIN:DAYLIGHT
TZOFFSETFROM:+0000
TZOFFSETTO:+0100
TZNAME:WEST
DTSTART:20130331T010000
END:DAYLIGHT
BEGIN:STANDARD
TZOFFSETFROM:+0100
TZOFFSETTO:+0000
TZNAME:WET
DTSTART:20131027T010000
END:STANDARD
BEGIN:DAYLIGHT
TZOFFSETFROM:+0000
TZOFFSETTO:+0100
TZNAME:WEST
DTSTART:20140330T010000
END:DAYLIGHT
BEGIN:STANDARD
TZOFFSETFROM:+0100
TZOFFSETTO:+0000
TZNAME:WET
DTSTART:20141026T010000
END:STANDARD
BEGIN:DAYLIGHT
TZOFFSETFROM:+0000
TZOFFSETTO:+0100
TZNAME:WEST
DTSTART:20150329T010000
END:DAYLIGHT
BEGIN:STANDARD
TZOFFSETFROM:+0100
TZOFFSETTO:+0000
TZNAME:WET
DTSTART:20151025T010000
END:STANDARD
BEGIN:DAYLIGHT
TZOFFSETFROM:+0000
TZOFFSETTO:+0100
TZNAME:WEST
DTSTART:20160327T010000
END:DAYLIGHT
BEGIN:STANDARD
TZOFFSETFROM:+0100
TZOFFSETTO:+0000
TZNAME:WET
DTSTART:20161030T010000
END:STANDARD
BEGIN:DAYLIGHT
TZOFFSETFROM:+0000
TZOFFSETTO:+0100
TZNAME:WEST
DTSTART:20170326T010000
END:DAYLIGHT
BEGIN:STANDARD
TZOFFSETFROM:+0100
TZOFFSETTO:+0000
TZNAME:WET
DTSTART:20171029T010000
END:STANDARD
BEGIN:DAYLIGHT
TZOFFSETFROM:+0000
TZOFFSETTO:+0100
TZNAME:WEST
DTSTART:20180325T010000
END:DAYLIGHT
BEGIN:STANDARD
TZOFFSETFROM:+0100
TZOFFSETTO:+0000
TZNAME:WET
DTSTART:20181028T010000
END:STANDARD
BEGIN:DAYLIGHT
TZOFFSETFROM:+0000
TZOFFSETTO:+0100
TZNAME:WEST
DTSTART:20190331T010000
END:DAYLIGHT
BEGIN:STANDARD
TZOFFSETFROM:+0100
TZOFFSETTO:+0000
TZNAME:WET
DTSTART:20191027T010000
END:STANDARD
BEGIN:DAYLIGHT
TZOFFSETFROM:+0000
TZOFFSETTO:+0100
TZNAME:WEST
DTSTART:20200329T010000
END:DAYLIGHT
BEGIN:STANDARD
TZOFFSETFROM:+0100
TZOFFSETTO:+0000
TZNAME:WET
DTSTART:20201025T010000
END:STANDARD
BEGIN:DAYLIGHT
TZOFFSETFROM:+0000
TZOFFSETTO:+0100
TZNAME:WEST
DTSTART:20210328T010000
END:DAYLIGHT
BEGIN:STANDARD
TZOFFSETFROM:+0100
TZOFFSETTO:+0000
TZNAME:WET
DTSTART:20211031T010000
END:STANDARD
BEGIN:DAYLIGHT
TZOFFSETFROM:+0000
TZOFFSETTO:+0100
TZNAME:WEST
DTSTART:20220327T010000
END:DAYLIGHT
BEGIN:STANDARD
TZOFFSETFROM:+0100
TZOFFSETTO:+0000
TZNAME:WET
DTSTART:20221030T010000
END:STANDARD
BEGIN:DAYLIGHT
TZOFFSETFROM:+0000
TZOFFSETTO:+0100
TZNAME:WEST
DTSTART:20230326T010000
END:DAYLIGHT
BEGIN:STANDARD
TZOFFSETFROM:+0100
TZOFFSETTO:+0000
TZNAME:WET
DTSTART:20231029T010000
END:STANDARD
BEGIN:DAYLIGHT
TZOFFSETFROM:+0000
TZOFFSETTO:+0100
TZNAME:WEST
DTSTART:20240331T010000
END:DAYLIGHT
BEGIN:STANDARD
TZOFFSETFROM:+0100
TZOFFSETTO:+0000
TZNAME:WET
DTSTART:20241027T010000
END:STANDARD
BEGIN:DAYLIGHT
TZOFFSETFROM:+0000
TZOFFSETTO:+0100
TZNAME:WEST
DTSTART:20250330T010000
END:DAYLIGHT
BEGIN:STANDARD
TZOFFSETFROM:+0100
TZOFFSETTO:+0000
TZNAME:WET
DTSTART:20251026T010000
END:STANDARD
BEGIN:DAYLIGHT
TZOFFSETFROM:+0000
TZOFFSETTO:+0100
TZNAME:WEST
DTSTART:20260329T010000
END:DAYLIGHT
BEGIN:STANDARD
TZOFFSETFROM:+0100
TZOFFSETTO:+0000
TZNAME:WET
DTSTART:20261025T010000
END:STANDARD
END:VTIMEZONE
BEGIN:VEVENT
DTSTART;TZID=Europe/Lisbon:20260422T030632
DTEND;TZID=Europe/Lisbon:20250102T152944
DTSTAMP:20260422T030632
CREATED:20250102T152944Z
LAST-MODIFIED:20250102T152944Z
UID:67640-0-1735831784@diocesedeviseu.pt
SUMMARY:Celebração da Eucaristia do aniversário da PSP
DESCRIPTION:
URL:https://diocesedeviseu.pt/evento/celebracao-da-eucaristia-do-aniversario-da-psp/
LOCATION:Sé de Viseu\, Sé\, Viseu\, 3500-163\, Portugal
END:VEVENT
BEGIN:VEVENT
DTSTART;TZID=Europe/Lisbon:20260422T030632
DTEND;TZID=Europe/Lisbon:20251023T110705
DTSTAMP:20260422T030632
CREATED:20251023T110704Z
LAST-MODIFIED:20251023T110704Z
UID:74144-0-1761217625@diocesedeviseu.pt
SUMMARY:Reunião do Arciprestado da Beira Alta
DESCRIPTION:
URL:https://diocesedeviseu.pt/evento/reuniao-do-arciprestado-da-beira-alta-9/
LOCATION:Complexo Paroquial de Mangualde\, Mangualde\, Mangualde\, Portugal
END:VEVENT
BEGIN:VEVENT
DTSTART;TZID=Europe/Lisbon:20240312T080000
DTEND;TZID=Europe/Lisbon:20240312T170000
DTSTAMP:20260422T030632
CREATED:20231008T204804Z
LAST-MODIFIED:20231008T204804Z
UID:57902-1710230400-1710262800@diocesedeviseu.pt
SUMMARY:Oração de Taizé
DESCRIPTION:
URL:https://diocesedeviseu.pt/evento/oracao-de-taize-15/
LOCATION:Igreja dos Terceiros – Viseu
CATEGORIES:Lembretes
END:VEVENT
BEGIN:VEVENT
DTSTART;TZID=Europe/Lisbon:20240312T103000
DTEND;TZID=Europe/Lisbon:20240312T170000
DTSTAMP:20260422T030632
CREATED:20240306T161130Z
LAST-MODIFIED:20240306T161130Z
UID:61173-1710239400-1710262800@diocesedeviseu.pt
SUMMARY:Assembleia da Fraternidade Sacerdotal
DESCRIPTION:
URL:https://diocesedeviseu.pt/evento/assembleia-da-fraternidade-sacerdotal-3/
LOCATION:Seminário de Viseu\, Viseu\, Viseu\, Portugal
END:VEVENT
BEGIN:VEVENT
DTSTART;VALUE=DATE:20240313
DTEND;VALUE=DATE:20240314
DTSTAMP:20260422T030632
CREATED:20240111T114932Z
LAST-MODIFIED:20240111T114932Z
UID:59992-1710288000-1710374399@diocesedeviseu.pt
SUMMARY:11º Aniversário da eleição do Papa Francisco (2013)
DESCRIPTION:
URL:https://diocesedeviseu.pt/evento/11o-aniversario-da-eleicao-do-papa-francisco-2013/
CATEGORIES:Lembretes
END:VEVENT
BEGIN:VEVENT
DTSTART;TZID=Europe/Lisbon:20240315T100000
DTEND;TZID=Europe/Lisbon:20240315T100000
DTSTAMP:20260422T030632
CREATED:20240313T162029Z
LAST-MODIFIED:20240313T162029Z
UID:61305-1710496800-1710496800@diocesedeviseu.pt
SUMMARY:Reunião do Conselho Geral
DESCRIPTION:
URL:https://diocesedeviseu.pt/evento/reuniao-do-conselho-geral/
LOCATION:Universidade Católica Portuguesa\, em Lisboa\, Lisboa\, Portugal
END:VEVENT
BEGIN:VEVENT
DTSTART;TZID=Europe/Lisbon:20240315T210000
DTEND;TZID=Europe/Lisbon:20240315T210000
DTSTAMP:20260422T030632
CREATED:20240313T162211Z
LAST-MODIFIED:20240313T162211Z
UID:61308-1710536400-1710536400@diocesedeviseu.pt
SUMMARY:Encontro com a equipa da Pastoral Juvenil\, passagem de testemunho e tomada de posse
DESCRIPTION:
URL:https://diocesedeviseu.pt/evento/encontro-com-a-equipa-da-pastoral-juvenil-passagem-de-testemunho-e-tomada-de-posse/
LOCATION:Seminário de Viseu\, Viseu\, Viseu\, Portugal
END:VEVENT
BEGIN:VEVENT
DTSTART;TZID=Europe/Lisbon:20240316T100000
DTEND;TZID=Europe/Lisbon:20240316T100000
DTSTAMP:20260422T030632
CREATED:20240313T162306Z
LAST-MODIFIED:20240313T162306Z
UID:61310-1710583200-1710583200@diocesedeviseu.pt
SUMMARY:Dia do Associado do Movimento da Mensagem de Fátima
DESCRIPTION:
URL:https://diocesedeviseu.pt/evento/dia-do-associado-do-movimento-da-mensagem-de-fatima/
LOCATION:Seminário de Viseu\, Viseu\, Viseu\, Portugal
END:VEVENT
BEGIN:VEVENT
DTSTART;TZID=Europe/Lisbon:20240316T110000
DTEND;TZID=Europe/Lisbon:20240316T110000
DTSTAMP:20260422T030632
CREATED:20240313T162405Z
LAST-MODIFIED:20240313T162405Z
UID:61312-1710586800-1710586800@diocesedeviseu.pt
SUMMARY:Encontro com os Diáconos Permanentes
DESCRIPTION:
URL:https://diocesedeviseu.pt/evento/encontro-com-os-diaconos-permanentes-4/
LOCATION:Seminário de Viseu\, Viseu\, Viseu\, Portugal
END:VEVENT
BEGIN:VEVENT
DTSTART;TZID=Europe/Lisbon:20240316T150000
DTEND;TZID=Europe/Lisbon:20240316T150000
DTSTAMP:20260422T030632
CREATED:20240313T162508Z
LAST-MODIFIED:20240313T162508Z
UID:61314-1710601200-1710601200@diocesedeviseu.pt
SUMMARY:Abertura da Loja JB Ambientes Exclusivos
DESCRIPTION:
URL:https://diocesedeviseu.pt/evento/abertura-da-loja-jb-ambientes-exclusivos/
LOCATION:Livraria do Jornal da Beira R. Nunes de Carvalho 28\, 3500-073 Viseu\, Portugal\, Casa Episcopal – Rua Nunes de Carvalho\, nº 12 – 3500-163 VISEU\, Viseu\, 3500-163\, Portugal
END:VEVENT
BEGIN:VEVENT
DTSTART;TZID=Europe/Lisbon:20240317T150000
DTEND;TZID=Europe/Lisbon:20240317T150000
DTSTAMP:20260422T030632
CREATED:20240313T162608Z
LAST-MODIFIED:20240313T162608Z
UID:61316-1710687600-1710687600@diocesedeviseu.pt
SUMMARY:Eucaristia de ação de graças pelo dom da vida do Venerável Monsenhor Joaquim Alves Brás
DESCRIPTION:
URL:https://diocesedeviseu.pt/evento/eucaristia-de-acao-de-gracas-pelo-dom-da-vida-do-veneravel-monsenhor-joaquim-alves-bras/
LOCATION:Casa de Santa Zita – Viseu
END:VEVENT
BEGIN:VEVENT
DTSTART;VALUE=DATE:20240319
DTEND;VALUE=DATE:20240320
DTSTAMP:20260422T030632
CREATED:20240111T115025Z
LAST-MODIFIED:20240111T115025Z
UID:59994-1710806400-1710892799@diocesedeviseu.pt
SUMMARY:São José\, esposo da Virgem Santa Maria
DESCRIPTION:
URL:https://diocesedeviseu.pt/evento/sao-jose-esposo-da-virgem-santa-maria/
CATEGORIES:Lembretes
END:VEVENT
BEGIN:VEVENT
DTSTART;VALUE=DATE:20240319
DTEND;VALUE=DATE:20240320
DTSTAMP:20260422T030632
CREATED:20240111T115131Z
LAST-MODIFIED:20240111T115131Z
UID:59996-1710806400-1710892799@diocesedeviseu.pt
SUMMARY:11º Aniversário da solene inauguração do Pontificado do Papa Francisco (2013)
DESCRIPTION:
URL:https://diocesedeviseu.pt/evento/11o-aniversario-da-solene-inauguracao-do-pontificado-do-papa-francisco-2013/
CATEGORIES:Lembretes
END:VEVENT
BEGIN:VEVENT
DTSTART;TZID=Europe/Lisbon:20240319T100000
DTEND;TZID=Europe/Lisbon:20240319T100000
DTSTAMP:20260422T030632
CREATED:20240313T162723Z
LAST-MODIFIED:20240313T162723Z
UID:61318-1710842400-1710842400@diocesedeviseu.pt
SUMMARY:Reunião e Eucaristia no dia do Padroeiro\, com os Bispos das respetivas Dioceses
DESCRIPTION:
URL:https://diocesedeviseu.pt/evento/reuniao-e-eucaristia-no-dia-do-padroeiro-com-os-bispos-das-respetivas-dioceses/
LOCATION:Seminário Interdiocesano de São José\, em Braga\, Braga\, Braga\, Portugal
END:VEVENT
BEGIN:VEVENT
DTSTART;VALUE=DATE:20240321
DTEND;VALUE=DATE:20240322
DTSTAMP:20260422T030632
CREATED:20240321T152732Z
LAST-MODIFIED:20240321T152732Z
UID:61511-1710979200-1711065599@diocesedeviseu.pt
SUMMARY:Celebração dos 30 anos do Instituto Piaget
DESCRIPTION:
URL:https://diocesedeviseu.pt/evento/celebracao-dos-30-anos-do-instituto-piaget/
LOCATION:Instituto Piaget – Viseu
END:VEVENT
BEGIN:VEVENT
DTSTART;TZID=Europe/Lisbon:20240322T103000
DTEND;TZID=Europe/Lisbon:20240322T103000
DTSTAMP:20260422T030632
CREATED:20240321T152847Z
LAST-MODIFIED:20240321T152847Z
UID:61513-1711103400-1711103400@diocesedeviseu.pt
SUMMARY:Reunião com os responsáveis da Cultura para avaliar os projetos das obras
DESCRIPTION:
URL:https://diocesedeviseu.pt/evento/reuniao-com-os-responsaveis-da-cultura-para-avaliar-os-projetos-das-obras/
LOCATION:Sé de Viseu\, Sé\, Viseu\, 3500-163\, Portugal
END:VEVENT
BEGIN:VEVENT
DTSTART;TZID=Europe/Lisbon:20240323T210000
DTEND;TZID=Europe/Lisbon:20240323T210000
DTSTAMP:20260422T030632
CREATED:20240321T153007Z
LAST-MODIFIED:20240321T153007Z
UID:61515-1711227600-1711227600@diocesedeviseu.pt
SUMMARY:Celebração da Via-Sacra promovida pelo Departamento dos Bens Culturais
DESCRIPTION:
URL:https://diocesedeviseu.pt/evento/celebracao-da-via-sacra-promovida-pelo-departamento-dos-bens-culturais/
LOCATION:Claustros da Sé\, Sé de Viseu\, Viseu\, 3500-163\, Portugal
END:VEVENT
BEGIN:VEVENT
DTSTART;VALUE=DATE:20240324
DTEND;VALUE=DATE:20240325
DTSTAMP:20260422T030632
CREATED:20240111T115251Z
LAST-MODIFIED:20240111T115342Z
UID:59998-1711238400-1711324799@diocesedeviseu.pt
SUMMARY:Domingo de Ramos na Paixão do Senhor
DESCRIPTION:
URL:https://diocesedeviseu.pt/evento/domingo-de-ramos-na-paixao-do-senhor-2/
CATEGORIES:Lembretes
END:VEVENT
BEGIN:VEVENT
DTSTART;TZID=Europe/Lisbon:20240324T104500
DTEND;TZID=Europe/Lisbon:20240324T104500
DTSTAMP:20260422T030632
CREATED:20240321T153404Z
LAST-MODIFIED:20240321T153404Z
UID:61518-1711277100-1711277100@diocesedeviseu.pt
SUMMARY:Bênção dos Ramos\, seguida de procissão e celebração da Eucaristia do Domingo da Paixão
DESCRIPTION:
URL:https://diocesedeviseu.pt/evento/bencao-dos-ramos-seguida-de-procissao-e-celebracao-da-eucaristia-do-domingo-da-paixao/
LOCATION:Adro da Sé de Viseu
END:VEVENT
BEGIN:VEVENT
DTSTART;VALUE=DATE:20240326
DTEND;VALUE=DATE:20240327
DTSTAMP:20260422T030632
CREATED:20240111T121747Z
LAST-MODIFIED:20240111T121747Z
UID:60011-1711411200-1711497599@diocesedeviseu.pt
SUMMARY:Aniversário de nascimento de D. António Luciano (72 anos)
DESCRIPTION:
URL:https://diocesedeviseu.pt/evento/aniversario-de-nascimento-de-d-antonio-luciano-72-anos/
CATEGORIES:Bispo,Lembretes
END:VEVENT
BEGIN:VEVENT
DTSTART;TZID=Europe/Lisbon:20240328T103000
DTEND;TZID=Europe/Lisbon:20240328T103000
DTSTAMP:20260422T030632
CREATED:20240326T111423Z
LAST-MODIFIED:20240326T111423Z
UID:61648-1711621800-1711621800@diocesedeviseu.pt
SUMMARY:Missa Crismal
DESCRIPTION:
URL:https://diocesedeviseu.pt/evento/missa-crismal-4/
LOCATION:Sé de Viseu\, Sé\, Viseu\, 3500-163\, Portugal
END:VEVENT
BEGIN:VEVENT
DTSTART;TZID=Europe/Lisbon:20240328T180000
DTEND;TZID=Europe/Lisbon:20240328T180000
DTSTAMP:20260422T030632
CREATED:20240111T115820Z
LAST-MODIFIED:20240326T111315Z
UID:60000-1711648800-1711648800@diocesedeviseu.pt
SUMMARY:Missa Vespertina da Ceia do Senhor
DESCRIPTION:
URL:https://diocesedeviseu.pt/evento/missa-vespertina-da-ceia-do-senhor-3/
LOCATION:Sé de Viseu\, Sé\, Viseu\, 3500-163\, Portugal
CATEGORIES:Lembretes
END:VEVENT
BEGIN:VEVENT
DTSTART;TZID=Europe/Lisbon:20240328T213000
DTEND;TZID=Europe/Lisbon:20240328T213000
DTSTAMP:20260422T030632
CREATED:20240326T111521Z
LAST-MODIFIED:20240326T111521Z
UID:61650-1711661400-1711661400@diocesedeviseu.pt
SUMMARY:Hora Santa na Capela Tércia
DESCRIPTION:
URL:https://diocesedeviseu.pt/evento/hora-santa-na-capela-tercia-2/
LOCATION:Sé de Viseu\, Sé\, Viseu\, 3500-163\, Portugal
END:VEVENT
BEGIN:VEVENT
DTSTART;VALUE=DATE:20240329
DTEND;VALUE=DATE:20240330
DTSTAMP:20260422T030632
CREATED:20240111T115925Z
LAST-MODIFIED:20240111T121857Z
UID:60002-1711670400-1711756799@diocesedeviseu.pt
SUMMARY:Sexta-Feira da Paixão do Senhor
DESCRIPTION:
URL:https://diocesedeviseu.pt/evento/sexta-feira-da-paixao-do-senhor-3/
CATEGORIES:Lembretes
END:VEVENT
BEGIN:VEVENT
DTSTART;VALUE=DATE:20240329
DTEND;VALUE=DATE:20240330
DTSTAMP:20260422T030632
CREATED:20240111T120018Z
LAST-MODIFIED:20240111T120042Z
UID:60004-1711670400-1711756799@diocesedeviseu.pt
SUMMARY:Ofertas para os Lugares Santos de Jerusalém
DESCRIPTION:
URL:https://diocesedeviseu.pt/evento/ofertas-para-os-lugares-santos-de-jerusalem-5/
CATEGORIES:Lembretes
END:VEVENT
BEGIN:VEVENT
DTSTART;TZID=Europe/Lisbon:20240329T100000
DTEND;TZID=Europe/Lisbon:20240329T170000
DTSTAMP:20260422T030632
CREATED:20240326T111644Z
LAST-MODIFIED:20240326T111644Z
UID:61652-1711706400-1711731600@diocesedeviseu.pt
SUMMARY:Ofício de Leitura e Laudes
DESCRIPTION:
URL:https://diocesedeviseu.pt/evento/oficio-de-leitura-e-laudes-5/
LOCATION:Sé de Viseu\, Sé\, Viseu\, 3500-163\, Portugal
END:VEVENT
BEGIN:VEVENT
DTSTART;VALUE=DATE:20240330
DTEND;VALUE=DATE:20240331
DTSTAMP:20260422T030632
CREATED:20240111T120126Z
LAST-MODIFIED:20240111T120126Z
UID:60006-1711756800-1711843199@diocesedeviseu.pt
SUMMARY:Sábado Santo
DESCRIPTION:
URL:https://diocesedeviseu.pt/evento/sabado-santo/
CATEGORIES:Lembretes
END:VEVENT
BEGIN:VEVENT
DTSTART;TZID=Europe/Lisbon:20240330T100000
DTEND;TZID=Europe/Lisbon:20240330T100000
DTSTAMP:20260422T030632
CREATED:20240326T111841Z
LAST-MODIFIED:20240326T111841Z
UID:61656-1711792800-1711792800@diocesedeviseu.pt
SUMMARY:Ofício de Leitura e Laudes
DESCRIPTION:
URL:https://diocesedeviseu.pt/evento/oficio-de-leitura-e-laudes-6/
LOCATION:Sé de Viseu\, Sé\, Viseu\, 3500-163\, Portugal
END:VEVENT
BEGIN:VEVENT
DTSTART;TZID=Europe/Lisbon:20240330T213000
DTEND;TZID=Europe/Lisbon:20240330T213000
DTSTAMP:20260422T030632
CREATED:20240326T111952Z
LAST-MODIFIED:20240326T111952Z
UID:61658-1711834200-1711834200@diocesedeviseu.pt
SUMMARY:Vigília Pascal
DESCRIPTION:
URL:https://diocesedeviseu.pt/evento/vigilia-pascal-5/
LOCATION:Sé de Viseu\, Sé\, Viseu\, 3500-163\, Portugal
END:VEVENT
BEGIN:VEVENT
DTSTART;VALUE=DATE:20240331
DTEND;VALUE=DATE:20240401
DTSTAMP:20260422T030632
CREATED:20240111T120216Z
LAST-MODIFIED:20240111T121529Z
UID:60009-1711843200-1711929599@diocesedeviseu.pt
SUMMARY:Domingo de Páscoa da Ressurreição do Senhor
DESCRIPTION:
URL:https://diocesedeviseu.pt/evento/domingo-de-pascoa-da-ressurreicao-do-senhor-3/
CATEGORIES:Lembretes
END:VEVENT
END:VCALENDAR