BEGIN:VCALENDAR
VERSION:2.0
PRODID:-//Diocese de Viseu - ECPv6.15.18//NONSGML v1.0//EN
CALSCALE:GREGORIAN
METHOD:PUBLISH
X-WR-CALNAME:Diocese de Viseu
X-ORIGINAL-URL:https://diocesedeviseu.pt
X-WR-CALDESC:Eventos para Diocese de Viseu
REFRESH-INTERVAL;VALUE=DURATION:PT1H
X-Robots-Tag:noindex
X-PUBLISHED-TTL:PT1H
BEGIN:VTIMEZONE
TZID:Europe/Lisbon
BEGIN:STANDARD
TZOFFSETFROM:+0100
TZOFFSETTO:+0000
TZNAME:WET
DTSTART:19760926T000000
END:STANDARD
BEGIN:DAYLIGHT
TZOFFSETFROM:+0000
TZOFFSETTO:+0100
TZNAME:WEST
DTSTART:19770327T000000
END:DAYLIGHT
BEGIN:STANDARD
TZOFFSETFROM:+0100
TZOFFSETTO:+0000
TZNAME:WET
DTSTART:19770925T000000
END:STANDARD
BEGIN:DAYLIGHT
TZOFFSETFROM:+0000
TZOFFSETTO:+0100
TZNAME:WEST
DTSTART:19780402T010000
END:DAYLIGHT
BEGIN:STANDARD
TZOFFSETFROM:+0100
TZOFFSETTO:+0000
TZNAME:WET
DTSTART:19781001T010000
END:STANDARD
BEGIN:DAYLIGHT
TZOFFSETFROM:+0000
TZOFFSETTO:+0100
TZNAME:WEST
DTSTART:19790401T010000
END:DAYLIGHT
BEGIN:STANDARD
TZOFFSETFROM:+0100
TZOFFSETTO:+0000
TZNAME:WET
DTSTART:19790930T010000
END:STANDARD
BEGIN:DAYLIGHT
TZOFFSETFROM:+0000
TZOFFSETTO:+0100
TZNAME:WEST
DTSTART:19800406T010000
END:DAYLIGHT
BEGIN:STANDARD
TZOFFSETFROM:+0100
TZOFFSETTO:+0000
TZNAME:WET
DTSTART:19800928T010000
END:STANDARD
BEGIN:DAYLIGHT
TZOFFSETFROM:+0000
TZOFFSETTO:+0100
TZNAME:WEST
DTSTART:19810329T000000
END:DAYLIGHT
BEGIN:STANDARD
TZOFFSETFROM:+0100
TZOFFSETTO:+0000
TZNAME:WET
DTSTART:19810927T000000
END:STANDARD
BEGIN:DAYLIGHT
TZOFFSETFROM:+0000
TZOFFSETTO:+0100
TZNAME:WEST
DTSTART:19820328T000000
END:DAYLIGHT
BEGIN:STANDARD
TZOFFSETFROM:+0100
TZOFFSETTO:+0000
TZNAME:WET
DTSTART:19820926T000000
END:STANDARD
BEGIN:DAYLIGHT
TZOFFSETFROM:+0000
TZOFFSETTO:+0100
TZNAME:WEST
DTSTART:19830327T000000
END:DAYLIGHT
BEGIN:STANDARD
TZOFFSETFROM:+0100
TZOFFSETTO:+0000
TZNAME:WET
DTSTART:19830925T000000
END:STANDARD
BEGIN:DAYLIGHT
TZOFFSETFROM:+0000
TZOFFSETTO:+0100
TZNAME:WEST
DTSTART:19840325T000000
END:DAYLIGHT
BEGIN:STANDARD
TZOFFSETFROM:+0100
TZOFFSETTO:+0000
TZNAME:WET
DTSTART:19840930T000000
END:STANDARD
BEGIN:DAYLIGHT
TZOFFSETFROM:+0000
TZOFFSETTO:+0100
TZNAME:WEST
DTSTART:19850331T000000
END:DAYLIGHT
BEGIN:STANDARD
TZOFFSETFROM:+0100
TZOFFSETTO:+0000
TZNAME:WET
DTSTART:19850929T000000
END:STANDARD
BEGIN:STANDARD
TZOFFSETFROM:+0000
TZOFFSETTO:+0000
TZNAME:WET
DTSTART:19860101T000000
END:STANDARD
BEGIN:DAYLIGHT
TZOFFSETFROM:+0000
TZOFFSETTO:+0100
TZNAME:WEST
DTSTART:19860330T010000
END:DAYLIGHT
BEGIN:STANDARD
TZOFFSETFROM:+0100
TZOFFSETTO:+0000
TZNAME:WET
DTSTART:19860928T010000
END:STANDARD
BEGIN:DAYLIGHT
TZOFFSETFROM:+0000
TZOFFSETTO:+0100
TZNAME:WEST
DTSTART:19870329T010000
END:DAYLIGHT
BEGIN:STANDARD
TZOFFSETFROM:+0100
TZOFFSETTO:+0000
TZNAME:WET
DTSTART:19870927T010000
END:STANDARD
BEGIN:DAYLIGHT
TZOFFSETFROM:+0000
TZOFFSETTO:+0100
TZNAME:WEST
DTSTART:19880327T010000
END:DAYLIGHT
BEGIN:STANDARD
TZOFFSETFROM:+0100
TZOFFSETTO:+0000
TZNAME:WET
DTSTART:19880925T010000
END:STANDARD
BEGIN:DAYLIGHT
TZOFFSETFROM:+0000
TZOFFSETTO:+0100
TZNAME:WEST
DTSTART:19890326T010000
END:DAYLIGHT
BEGIN:STANDARD
TZOFFSETFROM:+0100
TZOFFSETTO:+0000
TZNAME:WET
DTSTART:19890924T010000
END:STANDARD
BEGIN:DAYLIGHT
TZOFFSETFROM:+0000
TZOFFSETTO:+0100
TZNAME:WEST
DTSTART:19900325T010000
END:DAYLIGHT
BEGIN:STANDARD
TZOFFSETFROM:+0100
TZOFFSETTO:+0000
TZNAME:WET
DTSTART:19900930T010000
END:STANDARD
BEGIN:DAYLIGHT
TZOFFSETFROM:+0000
TZOFFSETTO:+0100
TZNAME:WEST
DTSTART:19910331T010000
END:DAYLIGHT
BEGIN:STANDARD
TZOFFSETFROM:+0100
TZOFFSETTO:+0000
TZNAME:WET
DTSTART:19910929T010000
END:STANDARD
BEGIN:DAYLIGHT
TZOFFSETFROM:+0000
TZOFFSETTO:+0100
TZNAME:WEST
DTSTART:19920329T010000
END:DAYLIGHT
BEGIN:STANDARD
TZOFFSETFROM:+0100
TZOFFSETTO:+0100
TZNAME:CET
DTSTART:19920927T010000
END:STANDARD
BEGIN:DAYLIGHT
TZOFFSETFROM:+0100
TZOFFSETTO:+0200
TZNAME:CEST
DTSTART:19930328T010000
END:DAYLIGHT
BEGIN:STANDARD
TZOFFSETFROM:+0200
TZOFFSETTO:+0100
TZNAME:CET
DTSTART:19930926T010000
END:STANDARD
BEGIN:DAYLIGHT
TZOFFSETFROM:+0100
TZOFFSETTO:+0200
TZNAME:CEST
DTSTART:19940327T010000
END:DAYLIGHT
BEGIN:STANDARD
TZOFFSETFROM:+0200
TZOFFSETTO:+0100
TZNAME:CET
DTSTART:19940925T010000
END:STANDARD
BEGIN:DAYLIGHT
TZOFFSETFROM:+0100
TZOFFSETTO:+0200
TZNAME:CEST
DTSTART:19950326T010000
END:DAYLIGHT
BEGIN:STANDARD
TZOFFSETFROM:+0200
TZOFFSETTO:+0100
TZNAME:CET
DTSTART:19950924T010000
END:STANDARD
BEGIN:DAYLIGHT
TZOFFSETFROM:+0100
TZOFFSETTO:+0100
TZNAME:WEST
DTSTART:19960331T010000
END:DAYLIGHT
BEGIN:STANDARD
TZOFFSETFROM:+0100
TZOFFSETTO:+0000
TZNAME:WET
DTSTART:19961027T010000
END:STANDARD
BEGIN:DAYLIGHT
TZOFFSETFROM:+0000
TZOFFSETTO:+0100
TZNAME:WEST
DTSTART:19970330T010000
END:DAYLIGHT
BEGIN:STANDARD
TZOFFSETFROM:+0100
TZOFFSETTO:+0000
TZNAME:WET
DTSTART:19971026T010000
END:STANDARD
BEGIN:DAYLIGHT
TZOFFSETFROM:+0000
TZOFFSETTO:+0100
TZNAME:WEST
DTSTART:19980329T010000
END:DAYLIGHT
BEGIN:STANDARD
TZOFFSETFROM:+0100
TZOFFSETTO:+0000
TZNAME:WET
DTSTART:19981025T010000
END:STANDARD
BEGIN:DAYLIGHT
TZOFFSETFROM:+0000
TZOFFSETTO:+0100
TZNAME:WEST
DTSTART:19990328T010000
END:DAYLIGHT
BEGIN:STANDARD
TZOFFSETFROM:+0100
TZOFFSETTO:+0000
TZNAME:WET
DTSTART:19991031T010000
END:STANDARD
BEGIN:DAYLIGHT
TZOFFSETFROM:+0000
TZOFFSETTO:+0100
TZNAME:WEST
DTSTART:20000326T010000
END:DAYLIGHT
BEGIN:STANDARD
TZOFFSETFROM:+0100
TZOFFSETTO:+0000
TZNAME:WET
DTSTART:20001029T010000
END:STANDARD
BEGIN:DAYLIGHT
TZOFFSETFROM:+0000
TZOFFSETTO:+0100
TZNAME:WEST
DTSTART:20010325T010000
END:DAYLIGHT
BEGIN:STANDARD
TZOFFSETFROM:+0100
TZOFFSETTO:+0000
TZNAME:WET
DTSTART:20011028T010000
END:STANDARD
BEGIN:DAYLIGHT
TZOFFSETFROM:+0000
TZOFFSETTO:+0100
TZNAME:WEST
DTSTART:20020331T010000
END:DAYLIGHT
BEGIN:STANDARD
TZOFFSETFROM:+0100
TZOFFSETTO:+0000
TZNAME:WET
DTSTART:20021027T010000
END:STANDARD
BEGIN:DAYLIGHT
TZOFFSETFROM:+0000
TZOFFSETTO:+0100
TZNAME:WEST
DTSTART:20030330T010000
END:DAYLIGHT
BEGIN:STANDARD
TZOFFSETFROM:+0100
TZOFFSETTO:+0000
TZNAME:WET
DTSTART:20031026T010000
END:STANDARD
BEGIN:DAYLIGHT
TZOFFSETFROM:+0000
TZOFFSETTO:+0100
TZNAME:WEST
DTSTART:20040328T010000
END:DAYLIGHT
BEGIN:STANDARD
TZOFFSETFROM:+0100
TZOFFSETTO:+0000
TZNAME:WET
DTSTART:20041031T010000
END:STANDARD
BEGIN:DAYLIGHT
TZOFFSETFROM:+0000
TZOFFSETTO:+0100
TZNAME:WEST
DTSTART:20050327T010000
END:DAYLIGHT
BEGIN:STANDARD
TZOFFSETFROM:+0100
TZOFFSETTO:+0000
TZNAME:WET
DTSTART:20051030T010000
END:STANDARD
BEGIN:DAYLIGHT
TZOFFSETFROM:+0000
TZOFFSETTO:+0100
TZNAME:WEST
DTSTART:20060326T010000
END:DAYLIGHT
BEGIN:STANDARD
TZOFFSETFROM:+0100
TZOFFSETTO:+0000
TZNAME:WET
DTSTART:20061029T010000
END:STANDARD
BEGIN:DAYLIGHT
TZOFFSETFROM:+0000
TZOFFSETTO:+0100
TZNAME:WEST
DTSTART:20070325T010000
END:DAYLIGHT
BEGIN:STANDARD
TZOFFSETFROM:+0100
TZOFFSETTO:+0000
TZNAME:WET
DTSTART:20071028T010000
END:STANDARD
BEGIN:DAYLIGHT
TZOFFSETFROM:+0000
TZOFFSETTO:+0100
TZNAME:WEST
DTSTART:20080330T010000
END:DAYLIGHT
BEGIN:STANDARD
TZOFFSETFROM:+0100
TZOFFSETTO:+0000
TZNAME:WET
DTSTART:20081026T010000
END:STANDARD
BEGIN:DAYLIGHT
TZOFFSETFROM:+0000
TZOFFSETTO:+0100
TZNAME:WEST
DTSTART:20090329T010000
END:DAYLIGHT
BEGIN:STANDARD
TZOFFSETFROM:+0100
TZOFFSETTO:+0000
TZNAME:WET
DTSTART:20091025T010000
END:STANDARD
BEGIN:DAYLIGHT
TZOFFSETFROM:+0000
TZOFFSETTO:+0100
TZNAME:WEST
DTSTART:20100328T010000
END:DAYLIGHT
BEGIN:STANDARD
TZOFFSETFROM:+0100
TZOFFSETTO:+0000
TZNAME:WET
DTSTART:20101031T010000
END:STANDARD
BEGIN:DAYLIGHT
TZOFFSETFROM:+0000
TZOFFSETTO:+0100
TZNAME:WEST
DTSTART:20110327T010000
END:DAYLIGHT
BEGIN:STANDARD
TZOFFSETFROM:+0100
TZOFFSETTO:+0000
TZNAME:WET
DTSTART:20111030T010000
END:STANDARD
BEGIN:DAYLIGHT
TZOFFSETFROM:+0000
TZOFFSETTO:+0100
TZNAME:WEST
DTSTART:20120325T010000
END:DAYLIGHT
BEGIN:STANDARD
TZOFFSETFROM:+0100
TZOFFSETTO:+0000
TZNAME:WET
DTSTART:20121028T010000
END:STANDARD
BEGIN:DAYLIGHT
TZOFFSETFROM:+0000
TZOFFSETTO:+0100
TZNAME:WEST
DTSTART:20130331T010000
END:DAYLIGHT
BEGIN:STANDARD
TZOFFSETFROM:+0100
TZOFFSETTO:+0000
TZNAME:WET
DTSTART:20131027T010000
END:STANDARD
BEGIN:DAYLIGHT
TZOFFSETFROM:+0000
TZOFFSETTO:+0100
TZNAME:WEST
DTSTART:20140330T010000
END:DAYLIGHT
BEGIN:STANDARD
TZOFFSETFROM:+0100
TZOFFSETTO:+0000
TZNAME:WET
DTSTART:20141026T010000
END:STANDARD
BEGIN:DAYLIGHT
TZOFFSETFROM:+0000
TZOFFSETTO:+0100
TZNAME:WEST
DTSTART:20150329T010000
END:DAYLIGHT
BEGIN:STANDARD
TZOFFSETFROM:+0100
TZOFFSETTO:+0000
TZNAME:WET
DTSTART:20151025T010000
END:STANDARD
BEGIN:DAYLIGHT
TZOFFSETFROM:+0000
TZOFFSETTO:+0100
TZNAME:WEST
DTSTART:20160327T010000
END:DAYLIGHT
BEGIN:STANDARD
TZOFFSETFROM:+0100
TZOFFSETTO:+0000
TZNAME:WET
DTSTART:20161030T010000
END:STANDARD
BEGIN:DAYLIGHT
TZOFFSETFROM:+0000
TZOFFSETTO:+0100
TZNAME:WEST
DTSTART:20170326T010000
END:DAYLIGHT
BEGIN:STANDARD
TZOFFSETFROM:+0100
TZOFFSETTO:+0000
TZNAME:WET
DTSTART:20171029T010000
END:STANDARD
BEGIN:DAYLIGHT
TZOFFSETFROM:+0000
TZOFFSETTO:+0100
TZNAME:WEST
DTSTART:20180325T010000
END:DAYLIGHT
BEGIN:STANDARD
TZOFFSETFROM:+0100
TZOFFSETTO:+0000
TZNAME:WET
DTSTART:20181028T010000
END:STANDARD
BEGIN:DAYLIGHT
TZOFFSETFROM:+0000
TZOFFSETTO:+0100
TZNAME:WEST
DTSTART:20190331T010000
END:DAYLIGHT
BEGIN:STANDARD
TZOFFSETFROM:+0100
TZOFFSETTO:+0000
TZNAME:WET
DTSTART:20191027T010000
END:STANDARD
BEGIN:DAYLIGHT
TZOFFSETFROM:+0000
TZOFFSETTO:+0100
TZNAME:WEST
DTSTART:20200329T010000
END:DAYLIGHT
BEGIN:STANDARD
TZOFFSETFROM:+0100
TZOFFSETTO:+0000
TZNAME:WET
DTSTART:20201025T010000
END:STANDARD
BEGIN:DAYLIGHT
TZOFFSETFROM:+0000
TZOFFSETTO:+0100
TZNAME:WEST
DTSTART:20210328T010000
END:DAYLIGHT
BEGIN:STANDARD
TZOFFSETFROM:+0100
TZOFFSETTO:+0000
TZNAME:WET
DTSTART:20211031T010000
END:STANDARD
BEGIN:DAYLIGHT
TZOFFSETFROM:+0000
TZOFFSETTO:+0100
TZNAME:WEST
DTSTART:20220327T010000
END:DAYLIGHT
BEGIN:STANDARD
TZOFFSETFROM:+0100
TZOFFSETTO:+0000
TZNAME:WET
DTSTART:20221030T010000
END:STANDARD
BEGIN:DAYLIGHT
TZOFFSETFROM:+0000
TZOFFSETTO:+0100
TZNAME:WEST
DTSTART:20230326T010000
END:DAYLIGHT
BEGIN:STANDARD
TZOFFSETFROM:+0100
TZOFFSETTO:+0000
TZNAME:WET
DTSTART:20231029T010000
END:STANDARD
BEGIN:DAYLIGHT
TZOFFSETFROM:+0000
TZOFFSETTO:+0100
TZNAME:WEST
DTSTART:20240331T010000
END:DAYLIGHT
BEGIN:STANDARD
TZOFFSETFROM:+0100
TZOFFSETTO:+0000
TZNAME:WET
DTSTART:20241027T010000
END:STANDARD
BEGIN:DAYLIGHT
TZOFFSETFROM:+0000
TZOFFSETTO:+0100
TZNAME:WEST
DTSTART:20250330T010000
END:DAYLIGHT
BEGIN:STANDARD
TZOFFSETFROM:+0100
TZOFFSETTO:+0000
TZNAME:WET
DTSTART:20251026T010000
END:STANDARD
BEGIN:DAYLIGHT
TZOFFSETFROM:+0000
TZOFFSETTO:+0100
TZNAME:WEST
DTSTART:20260329T010000
END:DAYLIGHT
BEGIN:STANDARD
TZOFFSETFROM:+0100
TZOFFSETTO:+0000
TZNAME:WET
DTSTART:20261025T010000
END:STANDARD
END:VTIMEZONE
BEGIN:VEVENT
DTSTART;TZID=Europe/Lisbon:20260422T005105
DTEND;TZID=Europe/Lisbon:20250102T152944
DTSTAMP:20260422T005105
CREATED:20250102T152944Z
LAST-MODIFIED:20250102T152944Z
UID:67640-0-1735831784@diocesedeviseu.pt
SUMMARY:Celebração da Eucaristia do aniversário da PSP
DESCRIPTION:
URL:https://diocesedeviseu.pt/evento/celebracao-da-eucaristia-do-aniversario-da-psp/
LOCATION:Sé de Viseu\, Sé\, Viseu\, 3500-163\, Portugal
END:VEVENT
BEGIN:VEVENT
DTSTART;TZID=Europe/Lisbon:20260422T005105
DTEND;TZID=Europe/Lisbon:20251023T110705
DTSTAMP:20260422T005105
CREATED:20251023T110704Z
LAST-MODIFIED:20251023T110704Z
UID:74144-0-1761217625@diocesedeviseu.pt
SUMMARY:Reunião do Arciprestado da Beira Alta
DESCRIPTION:
URL:https://diocesedeviseu.pt/evento/reuniao-do-arciprestado-da-beira-alta-9/
LOCATION:Complexo Paroquial de Mangualde\, Mangualde\, Mangualde\, Portugal
END:VEVENT
BEGIN:VEVENT
DTSTART;TZID=Europe/Lisbon:20240623T113000
DTEND;TZID=Europe/Lisbon:20240623T170000
DTSTAMP:20260422T005105
CREATED:20240620T133425Z
LAST-MODIFIED:20240620T133425Z
UID:63435-1719142200-1719162000@diocesedeviseu.pt
SUMMARY:Celebração da Eucaristia e Crisma em Bodiosa
DESCRIPTION:
URL:https://diocesedeviseu.pt/evento/celebracao-da-eucaristia-e-crisma-em-bodiosa/
LOCATION:Igreja de Bodiosa\, Bodiosa\, Viseu\, 3500-163\, Portugal
END:VEVENT
BEGIN:VEVENT
DTSTART;VALUE=DATE:20240624
DTEND;VALUE=DATE:20240625
DTSTAMP:20260422T005105
CREATED:20240401T181325Z
LAST-MODIFIED:20240401T181325Z
UID:61840-1719187200-1719273599@diocesedeviseu.pt
SUMMARY:Nascimento de São João Batista
DESCRIPTION:
URL:https://diocesedeviseu.pt/evento/nascimento-de-sao-joao-batista/
CATEGORIES:Lembretes
END:VEVENT
BEGIN:VEVENT
DTSTART;VALUE=DATE:20240624
DTEND;VALUE=DATE:20240625
DTSTAMP:20260422T005105
CREATED:20240401T181413Z
LAST-MODIFIED:20240401T181436Z
UID:61842-1719187200-1719273599@diocesedeviseu.pt
SUMMARY:Dia Nacional do Cigano
DESCRIPTION:
URL:https://diocesedeviseu.pt/evento/dia-nacional-do-cigano-3/
CATEGORIES:Lembretes
END:VEVENT
BEGIN:VEVENT
DTSTART;TZID=Europe/Lisbon:20240628T103000
DTEND;TZID=Europe/Lisbon:20240628T103000
DTSTAMP:20260422T005105
CREATED:20240626T155003Z
LAST-MODIFIED:20240626T155003Z
UID:63559-1719570600-1719570600@diocesedeviseu.pt
SUMMARY:Receção do provincial dos Frades Franciscanos Conventuais
DESCRIPTION:
URL:https://diocesedeviseu.pt/evento/rececao-do-provincial-dos-frades-franciscanos-conventuais/
LOCATION:Casa Episcopal – Viseu
CATEGORIES:Bispo
END:VEVENT
BEGIN:VEVENT
DTSTART;VALUE=DATE:20240629
DTEND;VALUE=DATE:20240630
DTSTAMP:20260422T005105
CREATED:20240401T181520Z
LAST-MODIFIED:20240401T181520Z
UID:61844-1719619200-1719705599@diocesedeviseu.pt
SUMMARY:São Pedro e São Paulo
DESCRIPTION:
URL:https://diocesedeviseu.pt/evento/sao-pedro-e-sao-paulo/
CATEGORIES:Lembretes
END:VEVENT
BEGIN:VEVENT
DTSTART;TZID=Europe/Lisbon:20240629T103000
DTEND;TZID=Europe/Lisbon:20240629T103000
DTSTAMP:20260422T005105
CREATED:20240626T155245Z
LAST-MODIFIED:20240626T155332Z
UID:63562-1719657000-1719657000@diocesedeviseu.pt
SUMMARY:Eucaristia da Solenidade de S. Pedro e S. Paulo e Crisma
DESCRIPTION:
URL:https://diocesedeviseu.pt/evento/eucaristia-da-solenidade-de-s-pedro-e-s-paulo-e-crisma/
LOCATION:Igreja Paroquial de São Pedro do Sul
CATEGORIES:Bispo
END:VEVENT
BEGIN:VEVENT
DTSTART;TZID=Europe/Lisbon:20240629T170000
DTEND;TZID=Europe/Lisbon:20240629T170000
DTSTAMP:20260422T005105
CREATED:20240626T155504Z
LAST-MODIFIED:20240626T155504Z
UID:63568-1719680400-1719680400@diocesedeviseu.pt
SUMMARY:Celebração da Eucaristia e Crisma
DESCRIPTION:
URL:https://diocesedeviseu.pt/evento/celebracao-da-eucaristia-e-crisma-11/
LOCATION:Igreja Paroquial de Santiago de Besteiros
CATEGORIES:Bispo
END:VEVENT
BEGIN:VEVENT
DTSTART;VALUE=DATE:20240630
DTEND;VALUE=DATE:20240701
DTSTAMP:20260422T005105
CREATED:20240401T181711Z
LAST-MODIFIED:20240401T181711Z
UID:61846-1719705600-1719791999@diocesedeviseu.pt
SUMMARY:Ofertório para a Santa Sé
DESCRIPTION:
URL:https://diocesedeviseu.pt/evento/ofertorio-para-a-santa-se-2/
CATEGORIES:Lembretes
END:VEVENT
BEGIN:VEVENT
DTSTART;TZID=Europe/Lisbon:20240630T110000
DTEND;TZID=Europe/Lisbon:20240630T110000
DTSTAMP:20260422T005105
CREATED:20240626T155622Z
LAST-MODIFIED:20240626T160518Z
UID:63571-1719745200-1719745200@diocesedeviseu.pt
SUMMARY:Celebração da Eucaristia e Crisma
DESCRIPTION:
URL:https://diocesedeviseu.pt/evento/celebracao-da-eucaristia-e-crisma-12/
LOCATION:Igreja paroquial de Lordosa
CATEGORIES:Bispo
END:VEVENT
BEGIN:VEVENT
DTSTART;TZID=Europe/Lisbon:20240630T160000
DTEND;TZID=Europe/Lisbon:20240630T160000
DTSTAMP:20260422T005105
CREATED:20240626T155714Z
LAST-MODIFIED:20240626T160626Z
UID:63573-1719763200-1719763200@diocesedeviseu.pt
SUMMARY:Celebração da Eucaristia e Crisma
DESCRIPTION:
URL:https://diocesedeviseu.pt/evento/celebracao-da-eucaristia-e-crisma-13/
LOCATION:Igreja Paroquial de Nelas\, Nelas\, Nelas\, Portugal
CATEGORIES:Bispo
END:VEVENT
BEGIN:VEVENT
DTSTART;TZID=Europe/Lisbon:20240702T173000
DTEND;TZID=Europe/Lisbon:20240702T173000
DTSTAMP:20260422T005106
CREATED:20240626T155758Z
LAST-MODIFIED:20240626T155758Z
UID:63575-1719941400-1719941400@diocesedeviseu.pt
SUMMARY:Eucaristia na Clericus Cup
DESCRIPTION:
URL:https://diocesedeviseu.pt/evento/eucaristia-na-clericus-cup/
LOCATION:Catedral de Viseu
CATEGORIES:Bispo
END:VEVENT
BEGIN:VEVENT
DTSTART;TZID=Europe/Lisbon:20240703T180000
DTEND;TZID=Europe/Lisbon:20240703T180000
DTSTAMP:20260422T005106
CREATED:20240626T155946Z
LAST-MODIFIED:20240626T155946Z
UID:63577-1720029600-1720029600@diocesedeviseu.pt
SUMMARY:Final do Clericus Cup
DESCRIPTION:
URL:https://diocesedeviseu.pt/evento/final-do-clericus-cup/
LOCATION:Pavilhão do Colégio da Via Sacra
CATEGORIES:Bispo
END:VEVENT
BEGIN:VEVENT
DTSTART;TZID=Europe/Lisbon:20240704T190000
DTEND;TZID=Europe/Lisbon:20240704T190000
DTSTAMP:20260422T005106
CREATED:20240626T160130Z
LAST-MODIFIED:20240626T160130Z
UID:63581-1720119600-1720119600@diocesedeviseu.pt
SUMMARY:Eucaristia de ação de graças nos 25 anos de sacerdócio do Padre Gabriel da Paz Ulundo.
DESCRIPTION:
URL:https://diocesedeviseu.pt/evento/eucaristia-de-acao-de-gracas-nos-25-anos-de-sacerdocio-do-padre-gabriel-da-paz-ulundo/
LOCATION:Igreja de Pinheiro de Lafões
CATEGORIES:Bispo,Clero, Vocações e Vida Consagrada
END:VEVENT
BEGIN:VEVENT
DTSTART;TZID=Europe/Lisbon:20240706T170000
DTEND;TZID=Europe/Lisbon:20240706T170000
DTSTAMP:20260422T005106
CREATED:20240704T161152Z
LAST-MODIFIED:20240704T161152Z
UID:63720-1720285200-1720285200@diocesedeviseu.pt
SUMMARY:Eucaristia e Crisma
DESCRIPTION:
URL:https://diocesedeviseu.pt/evento/eucaristia-e-crisma-2/
LOCATION:Igreja de Oliveira de Frades
END:VEVENT
BEGIN:VEVENT
DTSTART;TZID=Europe/Lisbon:20240707T150000
DTEND;TZID=Europe/Lisbon:20240707T150000
DTSTAMP:20260422T005106
CREATED:20240705T094803Z
LAST-MODIFIED:20240705T094837Z
UID:63736-1720364400-1720364400@diocesedeviseu.pt
SUMMARY:Celebração da eucaristia e bênção dos enfermeiros - preside o Frei José Carlos
DESCRIPTION:
URL:https://diocesedeviseu.pt/evento/celebracao-da-eucaristia-e-bencao-dos-enfermeiros-preside-o-frei-ze-carlos/
LOCATION:Sé de Viseu\, Sé\, Viseu\, 3500-163\, Portugal
END:VEVENT
BEGIN:VEVENT
DTSTART;TZID=Europe/Lisbon:20240707T170000
DTEND;TZID=Europe/Lisbon:20240707T170000
DTSTAMP:20260422T005106
CREATED:20240705T095242Z
LAST-MODIFIED:20240705T095242Z
UID:63742-1720371600-1720371600@diocesedeviseu.pt
SUMMARY:Bispo de Viseu participa na Ordenação Episcopal de D. Fernando Maio Paiva
DESCRIPTION:
URL:https://diocesedeviseu.pt/evento/bispo-de-viseu-participa-na-ordenacao-episcopal-de-d-fernando-maio-paiva/
LOCATION:Sé de Beja\, Beja\, Beja\, Portugal
END:VEVENT
BEGIN:VEVENT
DTSTART;TZID=Europe/Lisbon:20240707T173000
DTEND;TZID=Europe/Lisbon:20240707T173000
DTSTAMP:20260422T005106
CREATED:20240705T095118Z
LAST-MODIFIED:20240705T095118Z
UID:63739-1720373400-1720373400@diocesedeviseu.pt
SUMMARY:Celebração da eucaristia e Crisma - preside o Vigário Geral Cônego Carlos Casal
DESCRIPTION:
URL:https://diocesedeviseu.pt/evento/celebracao-da-eucaristia-e-crisma-preside-o-vigario-geral-conego-carlos-casal/
LOCATION:Igreja Paroquial de Tonda\, Tondela\, Tondela\, Portugal
END:VEVENT
BEGIN:VEVENT
DTSTART;TZID=Europe/Lisbon:20240708T120000
DTEND;TZID=Europe/Lisbon:20240731T102324
DTSTAMP:20260422T005106
CREATED:20240731T102324Z
LAST-MODIFIED:20240731T102324Z
UID:64274-1720440000-1722421404@diocesedeviseu.pt
SUMMARY:Visita à Cáritas de Santa Maria para uma tarde de convívio e Eucaristia com os emigrantes
DESCRIPTION:
URL:https://diocesedeviseu.pt/evento/visita-a-caritas-de-santa-maria-para-uma-tarde-de-convivio-e-eucaristia-com-os-emigrantes/
LOCATION:Queiriga\, Vila Nova de Paiva\, Vila Nova de Paiva\, Portugal
END:VEVENT
BEGIN:VEVENT
DTSTART;TZID=Europe/Lisbon:20240710T093000
DTEND;TZID=Europe/Lisbon:20240710T093000
DTSTAMP:20260422T005106
CREATED:20240705T095343Z
LAST-MODIFIED:20240705T095343Z
UID:63745-1720603800-1720603800@diocesedeviseu.pt
SUMMARY:Reunião do Conselho Presbiteral
DESCRIPTION:
URL:https://diocesedeviseu.pt/evento/reuniao-do-conselho-presbiteral-6/
LOCATION:Seminário de Viseu\, Viseu\, Viseu\, Portugal
END:VEVENT
BEGIN:VEVENT
DTSTART;TZID=Europe/Lisbon:20240712T183000
DTEND;TZID=Europe/Lisbon:20240712T183000
DTSTAMP:20260422T005106
CREATED:20240711T094707Z
LAST-MODIFIED:20240711T094707Z
UID:63881-1720809000-1720809000@diocesedeviseu.pt
SUMMARY:Celebração da Eucaristia de Ação de Graças em homenagem ao Cónego Manuel Monteiro
DESCRIPTION:
URL:https://diocesedeviseu.pt/evento/celebracao-da-eucaristia-de-acao-de-gracas-em-homenagem-ao-conego-manuel-monteiro/
LOCATION:Igreja Parqouial de Mangualde\, Mangualde\, Mangualde\, Portugal
END:VEVENT
BEGIN:VEVENT
DTSTART;TZID=Europe/Lisbon:20240712T210000
DTEND;TZID=Europe/Lisbon:20240712T210000
DTSTAMP:20260422T005106
CREATED:20240711T094841Z
LAST-MODIFIED:20240711T094841Z
UID:63884-1720818000-1720818000@diocesedeviseu.pt
SUMMARY:Apresentação do Livro “O Legado de Monsenhor Cónego Manuel Monteiro a Mangualde”
DESCRIPTION:
URL:https://diocesedeviseu.pt/evento/apresentacao-do-livro-o-legado-de-monsenhor-conego-manuel-monteiro-a-mangualde/
LOCATION:Mangualde\, Mangualde\, Mangualde\, Portugal
END:VEVENT
BEGIN:VEVENT
DTSTART;TZID=Europe/Lisbon:20240713T093000
DTEND;TZID=Europe/Lisbon:20240713T093000
DTSTAMP:20260422T005106
CREATED:20240711T095108Z
LAST-MODIFIED:20240711T095108Z
UID:63886-1720863000-1720863000@diocesedeviseu.pt
SUMMARY:Encontro de Professores de EMRC
DESCRIPTION:
URL:https://diocesedeviseu.pt/evento/encontro-de-professores-de-emrc/
LOCATION:Escola de Cabanas de Viriato\, Carregal do Sal\, Carregal do Sal\, Portugal
END:VEVENT
BEGIN:VEVENT
DTSTART;TZID=Europe/Lisbon:20240713T180000
DTEND;TZID=Europe/Lisbon:20240713T180000
DTSTAMP:20260422T005106
CREATED:20240711T095313Z
LAST-MODIFIED:20240711T095313Z
UID:63889-1720893600-1720893600@diocesedeviseu.pt
SUMMARY:Celebração da Eucaristia e do Crisma
DESCRIPTION:
URL:https://diocesedeviseu.pt/evento/celebracao-da-eucaristia-e-do-crisma-6/
LOCATION:Igreja Paroquial de Abraveses
END:VEVENT
BEGIN:VEVENT
DTSTART;TZID=Europe/Lisbon:20240714T173000
DTEND;TZID=Europe/Lisbon:20240714T173000
DTSTAMP:20260422T005106
CREATED:20240711T095408Z
LAST-MODIFIED:20240711T095408Z
UID:63891-1720978200-1720978200@diocesedeviseu.pt
SUMMARY:Celebração da Eucaristia e Crisma
DESCRIPTION:
URL:https://diocesedeviseu.pt/evento/celebracao-da-eucaristia-e-crisma-14/
LOCATION:Igreja da Misericórdia de Penalva do Castelo
END:VEVENT
BEGIN:VEVENT
DTSTART;VALUE=DATE:20240715
DTEND;VALUE=DATE:20240716
DTSTAMP:20260422T005106
CREATED:20240711T095500Z
LAST-MODIFIED:20240711T095500Z
UID:63893-1721001600-1721087999@diocesedeviseu.pt
SUMMARY:Passeio dos sacerdotes e diáconos dos Arciprestados da Beira Alta e Dão
DESCRIPTION:
URL:https://diocesedeviseu.pt/evento/passeio-dos-sacerdotes-e-diaconos-dos-arciprestados-da-beira-alta-e-dao/
END:VEVENT
BEGIN:VEVENT
DTSTART;TZID=Europe/Lisbon:20240716T210000
DTEND;TZID=Europe/Lisbon:20240716T210000
DTSTAMP:20260422T005106
CREATED:20240711T095558Z
LAST-MODIFIED:20240711T095558Z
UID:63895-1721163600-1721163600@diocesedeviseu.pt
SUMMARY:Missa solene e procissão em honra de Nossa Senhora do Carmo
DESCRIPTION:
URL:https://diocesedeviseu.pt/evento/missa-solene-e-procissao-em-honra-de-nossa-senhora-do-carmo/
LOCATION:Igreja do Carmo – Viseu\, Igreja do Carmo\, Viseu\, Portugal
END:VEVENT
BEGIN:VEVENT
DTSTART;VALUE=DATE:20240717
DTEND;VALUE=DATE:20240718
DTSTAMP:20260422T005106
CREATED:20240711T095628Z
LAST-MODIFIED:20240711T095628Z
UID:63897-1721174400-1721260799@diocesedeviseu.pt
SUMMARY:Passeio dos padres do Arciprestado de Lafões
DESCRIPTION:
URL:https://diocesedeviseu.pt/evento/passeio-dos-padres-do-arciprestado-de-lafoes/
END:VEVENT
BEGIN:VEVENT
DTSTART;TZID=Europe/Lisbon:20240719T110000
DTEND;TZID=Europe/Lisbon:20240719T110000
DTSTAMP:20260422T005106
CREATED:20240718T095242Z
LAST-MODIFIED:20240718T095242Z
UID:64024-1721386800-1721386800@diocesedeviseu.pt
SUMMARY:Participação na sessão solene de homenagem a Aristides Sousa Mendes
DESCRIPTION:
URL:https://diocesedeviseu.pt/evento/participacao-na-sessao-solene-de-homenagem-a-aristides-sousa-mendes/
LOCATION:Cabanas de Viriato
END:VEVENT
END:VCALENDAR