BEGIN:VCALENDAR
VERSION:2.0
PRODID:-//Diocese de Viseu - ECPv6.15.18//NONSGML v1.0//EN
CALSCALE:GREGORIAN
METHOD:PUBLISH
X-WR-CALNAME:Diocese de Viseu
X-ORIGINAL-URL:https://diocesedeviseu.pt
X-WR-CALDESC:Eventos para Diocese de Viseu
REFRESH-INTERVAL;VALUE=DURATION:PT1H
X-Robots-Tag:noindex
X-PUBLISHED-TTL:PT1H
BEGIN:VTIMEZONE
TZID:Europe/Lisbon
BEGIN:STANDARD
TZOFFSETFROM:+0100
TZOFFSETTO:+0000
TZNAME:WET
DTSTART:19760926T000000
END:STANDARD
BEGIN:DAYLIGHT
TZOFFSETFROM:+0000
TZOFFSETTO:+0100
TZNAME:WEST
DTSTART:19770327T000000
END:DAYLIGHT
BEGIN:STANDARD
TZOFFSETFROM:+0100
TZOFFSETTO:+0000
TZNAME:WET
DTSTART:19770925T000000
END:STANDARD
BEGIN:DAYLIGHT
TZOFFSETFROM:+0000
TZOFFSETTO:+0100
TZNAME:WEST
DTSTART:19780402T010000
END:DAYLIGHT
BEGIN:STANDARD
TZOFFSETFROM:+0100
TZOFFSETTO:+0000
TZNAME:WET
DTSTART:19781001T010000
END:STANDARD
BEGIN:DAYLIGHT
TZOFFSETFROM:+0000
TZOFFSETTO:+0100
TZNAME:WEST
DTSTART:19790401T010000
END:DAYLIGHT
BEGIN:STANDARD
TZOFFSETFROM:+0100
TZOFFSETTO:+0000
TZNAME:WET
DTSTART:19790930T010000
END:STANDARD
BEGIN:DAYLIGHT
TZOFFSETFROM:+0000
TZOFFSETTO:+0100
TZNAME:WEST
DTSTART:19800406T010000
END:DAYLIGHT
BEGIN:STANDARD
TZOFFSETFROM:+0100
TZOFFSETTO:+0000
TZNAME:WET
DTSTART:19800928T010000
END:STANDARD
BEGIN:DAYLIGHT
TZOFFSETFROM:+0000
TZOFFSETTO:+0100
TZNAME:WEST
DTSTART:19810329T000000
END:DAYLIGHT
BEGIN:STANDARD
TZOFFSETFROM:+0100
TZOFFSETTO:+0000
TZNAME:WET
DTSTART:19810927T000000
END:STANDARD
BEGIN:DAYLIGHT
TZOFFSETFROM:+0000
TZOFFSETTO:+0100
TZNAME:WEST
DTSTART:19820328T000000
END:DAYLIGHT
BEGIN:STANDARD
TZOFFSETFROM:+0100
TZOFFSETTO:+0000
TZNAME:WET
DTSTART:19820926T000000
END:STANDARD
BEGIN:DAYLIGHT
TZOFFSETFROM:+0000
TZOFFSETTO:+0100
TZNAME:WEST
DTSTART:19830327T000000
END:DAYLIGHT
BEGIN:STANDARD
TZOFFSETFROM:+0100
TZOFFSETTO:+0000
TZNAME:WET
DTSTART:19830925T000000
END:STANDARD
BEGIN:DAYLIGHT
TZOFFSETFROM:+0000
TZOFFSETTO:+0100
TZNAME:WEST
DTSTART:19840325T000000
END:DAYLIGHT
BEGIN:STANDARD
TZOFFSETFROM:+0100
TZOFFSETTO:+0000
TZNAME:WET
DTSTART:19840930T000000
END:STANDARD
BEGIN:DAYLIGHT
TZOFFSETFROM:+0000
TZOFFSETTO:+0100
TZNAME:WEST
DTSTART:19850331T000000
END:DAYLIGHT
BEGIN:STANDARD
TZOFFSETFROM:+0100
TZOFFSETTO:+0000
TZNAME:WET
DTSTART:19850929T000000
END:STANDARD
BEGIN:STANDARD
TZOFFSETFROM:+0000
TZOFFSETTO:+0000
TZNAME:WET
DTSTART:19860101T000000
END:STANDARD
BEGIN:DAYLIGHT
TZOFFSETFROM:+0000
TZOFFSETTO:+0100
TZNAME:WEST
DTSTART:19860330T010000
END:DAYLIGHT
BEGIN:STANDARD
TZOFFSETFROM:+0100
TZOFFSETTO:+0000
TZNAME:WET
DTSTART:19860928T010000
END:STANDARD
BEGIN:DAYLIGHT
TZOFFSETFROM:+0000
TZOFFSETTO:+0100
TZNAME:WEST
DTSTART:19870329T010000
END:DAYLIGHT
BEGIN:STANDARD
TZOFFSETFROM:+0100
TZOFFSETTO:+0000
TZNAME:WET
DTSTART:19870927T010000
END:STANDARD
BEGIN:DAYLIGHT
TZOFFSETFROM:+0000
TZOFFSETTO:+0100
TZNAME:WEST
DTSTART:19880327T010000
END:DAYLIGHT
BEGIN:STANDARD
TZOFFSETFROM:+0100
TZOFFSETTO:+0000
TZNAME:WET
DTSTART:19880925T010000
END:STANDARD
BEGIN:DAYLIGHT
TZOFFSETFROM:+0000
TZOFFSETTO:+0100
TZNAME:WEST
DTSTART:19890326T010000
END:DAYLIGHT
BEGIN:STANDARD
TZOFFSETFROM:+0100
TZOFFSETTO:+0000
TZNAME:WET
DTSTART:19890924T010000
END:STANDARD
BEGIN:DAYLIGHT
TZOFFSETFROM:+0000
TZOFFSETTO:+0100
TZNAME:WEST
DTSTART:19900325T010000
END:DAYLIGHT
BEGIN:STANDARD
TZOFFSETFROM:+0100
TZOFFSETTO:+0000
TZNAME:WET
DTSTART:19900930T010000
END:STANDARD
BEGIN:DAYLIGHT
TZOFFSETFROM:+0000
TZOFFSETTO:+0100
TZNAME:WEST
DTSTART:19910331T010000
END:DAYLIGHT
BEGIN:STANDARD
TZOFFSETFROM:+0100
TZOFFSETTO:+0000
TZNAME:WET
DTSTART:19910929T010000
END:STANDARD
BEGIN:DAYLIGHT
TZOFFSETFROM:+0000
TZOFFSETTO:+0100
TZNAME:WEST
DTSTART:19920329T010000
END:DAYLIGHT
BEGIN:STANDARD
TZOFFSETFROM:+0100
TZOFFSETTO:+0100
TZNAME:CET
DTSTART:19920927T010000
END:STANDARD
BEGIN:DAYLIGHT
TZOFFSETFROM:+0100
TZOFFSETTO:+0200
TZNAME:CEST
DTSTART:19930328T010000
END:DAYLIGHT
BEGIN:STANDARD
TZOFFSETFROM:+0200
TZOFFSETTO:+0100
TZNAME:CET
DTSTART:19930926T010000
END:STANDARD
BEGIN:DAYLIGHT
TZOFFSETFROM:+0100
TZOFFSETTO:+0200
TZNAME:CEST
DTSTART:19940327T010000
END:DAYLIGHT
BEGIN:STANDARD
TZOFFSETFROM:+0200
TZOFFSETTO:+0100
TZNAME:CET
DTSTART:19940925T010000
END:STANDARD
BEGIN:DAYLIGHT
TZOFFSETFROM:+0100
TZOFFSETTO:+0200
TZNAME:CEST
DTSTART:19950326T010000
END:DAYLIGHT
BEGIN:STANDARD
TZOFFSETFROM:+0200
TZOFFSETTO:+0100
TZNAME:CET
DTSTART:19950924T010000
END:STANDARD
BEGIN:DAYLIGHT
TZOFFSETFROM:+0100
TZOFFSETTO:+0100
TZNAME:WEST
DTSTART:19960331T010000
END:DAYLIGHT
BEGIN:STANDARD
TZOFFSETFROM:+0100
TZOFFSETTO:+0000
TZNAME:WET
DTSTART:19961027T010000
END:STANDARD
BEGIN:DAYLIGHT
TZOFFSETFROM:+0000
TZOFFSETTO:+0100
TZNAME:WEST
DTSTART:19970330T010000
END:DAYLIGHT
BEGIN:STANDARD
TZOFFSETFROM:+0100
TZOFFSETTO:+0000
TZNAME:WET
DTSTART:19971026T010000
END:STANDARD
BEGIN:DAYLIGHT
TZOFFSETFROM:+0000
TZOFFSETTO:+0100
TZNAME:WEST
DTSTART:19980329T010000
END:DAYLIGHT
BEGIN:STANDARD
TZOFFSETFROM:+0100
TZOFFSETTO:+0000
TZNAME:WET
DTSTART:19981025T010000
END:STANDARD
BEGIN:DAYLIGHT
TZOFFSETFROM:+0000
TZOFFSETTO:+0100
TZNAME:WEST
DTSTART:19990328T010000
END:DAYLIGHT
BEGIN:STANDARD
TZOFFSETFROM:+0100
TZOFFSETTO:+0000
TZNAME:WET
DTSTART:19991031T010000
END:STANDARD
BEGIN:DAYLIGHT
TZOFFSETFROM:+0000
TZOFFSETTO:+0100
TZNAME:WEST
DTSTART:20000326T010000
END:DAYLIGHT
BEGIN:STANDARD
TZOFFSETFROM:+0100
TZOFFSETTO:+0000
TZNAME:WET
DTSTART:20001029T010000
END:STANDARD
BEGIN:DAYLIGHT
TZOFFSETFROM:+0000
TZOFFSETTO:+0100
TZNAME:WEST
DTSTART:20010325T010000
END:DAYLIGHT
BEGIN:STANDARD
TZOFFSETFROM:+0100
TZOFFSETTO:+0000
TZNAME:WET
DTSTART:20011028T010000
END:STANDARD
BEGIN:DAYLIGHT
TZOFFSETFROM:+0000
TZOFFSETTO:+0100
TZNAME:WEST
DTSTART:20020331T010000
END:DAYLIGHT
BEGIN:STANDARD
TZOFFSETFROM:+0100
TZOFFSETTO:+0000
TZNAME:WET
DTSTART:20021027T010000
END:STANDARD
BEGIN:DAYLIGHT
TZOFFSETFROM:+0000
TZOFFSETTO:+0100
TZNAME:WEST
DTSTART:20030330T010000
END:DAYLIGHT
BEGIN:STANDARD
TZOFFSETFROM:+0100
TZOFFSETTO:+0000
TZNAME:WET
DTSTART:20031026T010000
END:STANDARD
BEGIN:DAYLIGHT
TZOFFSETFROM:+0000
TZOFFSETTO:+0100
TZNAME:WEST
DTSTART:20040328T010000
END:DAYLIGHT
BEGIN:STANDARD
TZOFFSETFROM:+0100
TZOFFSETTO:+0000
TZNAME:WET
DTSTART:20041031T010000
END:STANDARD
BEGIN:DAYLIGHT
TZOFFSETFROM:+0000
TZOFFSETTO:+0100
TZNAME:WEST
DTSTART:20050327T010000
END:DAYLIGHT
BEGIN:STANDARD
TZOFFSETFROM:+0100
TZOFFSETTO:+0000
TZNAME:WET
DTSTART:20051030T010000
END:STANDARD
BEGIN:DAYLIGHT
TZOFFSETFROM:+0000
TZOFFSETTO:+0100
TZNAME:WEST
DTSTART:20060326T010000
END:DAYLIGHT
BEGIN:STANDARD
TZOFFSETFROM:+0100
TZOFFSETTO:+0000
TZNAME:WET
DTSTART:20061029T010000
END:STANDARD
BEGIN:DAYLIGHT
TZOFFSETFROM:+0000
TZOFFSETTO:+0100
TZNAME:WEST
DTSTART:20070325T010000
END:DAYLIGHT
BEGIN:STANDARD
TZOFFSETFROM:+0100
TZOFFSETTO:+0000
TZNAME:WET
DTSTART:20071028T010000
END:STANDARD
BEGIN:DAYLIGHT
TZOFFSETFROM:+0000
TZOFFSETTO:+0100
TZNAME:WEST
DTSTART:20080330T010000
END:DAYLIGHT
BEGIN:STANDARD
TZOFFSETFROM:+0100
TZOFFSETTO:+0000
TZNAME:WET
DTSTART:20081026T010000
END:STANDARD
BEGIN:DAYLIGHT
TZOFFSETFROM:+0000
TZOFFSETTO:+0100
TZNAME:WEST
DTSTART:20090329T010000
END:DAYLIGHT
BEGIN:STANDARD
TZOFFSETFROM:+0100
TZOFFSETTO:+0000
TZNAME:WET
DTSTART:20091025T010000
END:STANDARD
BEGIN:DAYLIGHT
TZOFFSETFROM:+0000
TZOFFSETTO:+0100
TZNAME:WEST
DTSTART:20100328T010000
END:DAYLIGHT
BEGIN:STANDARD
TZOFFSETFROM:+0100
TZOFFSETTO:+0000
TZNAME:WET
DTSTART:20101031T010000
END:STANDARD
BEGIN:DAYLIGHT
TZOFFSETFROM:+0000
TZOFFSETTO:+0100
TZNAME:WEST
DTSTART:20110327T010000
END:DAYLIGHT
BEGIN:STANDARD
TZOFFSETFROM:+0100
TZOFFSETTO:+0000
TZNAME:WET
DTSTART:20111030T010000
END:STANDARD
BEGIN:DAYLIGHT
TZOFFSETFROM:+0000
TZOFFSETTO:+0100
TZNAME:WEST
DTSTART:20120325T010000
END:DAYLIGHT
BEGIN:STANDARD
TZOFFSETFROM:+0100
TZOFFSETTO:+0000
TZNAME:WET
DTSTART:20121028T010000
END:STANDARD
BEGIN:DAYLIGHT
TZOFFSETFROM:+0000
TZOFFSETTO:+0100
TZNAME:WEST
DTSTART:20130331T010000
END:DAYLIGHT
BEGIN:STANDARD
TZOFFSETFROM:+0100
TZOFFSETTO:+0000
TZNAME:WET
DTSTART:20131027T010000
END:STANDARD
BEGIN:DAYLIGHT
TZOFFSETFROM:+0000
TZOFFSETTO:+0100
TZNAME:WEST
DTSTART:20140330T010000
END:DAYLIGHT
BEGIN:STANDARD
TZOFFSETFROM:+0100
TZOFFSETTO:+0000
TZNAME:WET
DTSTART:20141026T010000
END:STANDARD
BEGIN:DAYLIGHT
TZOFFSETFROM:+0000
TZOFFSETTO:+0100
TZNAME:WEST
DTSTART:20150329T010000
END:DAYLIGHT
BEGIN:STANDARD
TZOFFSETFROM:+0100
TZOFFSETTO:+0000
TZNAME:WET
DTSTART:20151025T010000
END:STANDARD
BEGIN:DAYLIGHT
TZOFFSETFROM:+0000
TZOFFSETTO:+0100
TZNAME:WEST
DTSTART:20160327T010000
END:DAYLIGHT
BEGIN:STANDARD
TZOFFSETFROM:+0100
TZOFFSETTO:+0000
TZNAME:WET
DTSTART:20161030T010000
END:STANDARD
BEGIN:DAYLIGHT
TZOFFSETFROM:+0000
TZOFFSETTO:+0100
TZNAME:WEST
DTSTART:20170326T010000
END:DAYLIGHT
BEGIN:STANDARD
TZOFFSETFROM:+0100
TZOFFSETTO:+0000
TZNAME:WET
DTSTART:20171029T010000
END:STANDARD
BEGIN:DAYLIGHT
TZOFFSETFROM:+0000
TZOFFSETTO:+0100
TZNAME:WEST
DTSTART:20180325T010000
END:DAYLIGHT
BEGIN:STANDARD
TZOFFSETFROM:+0100
TZOFFSETTO:+0000
TZNAME:WET
DTSTART:20181028T010000
END:STANDARD
BEGIN:DAYLIGHT
TZOFFSETFROM:+0000
TZOFFSETTO:+0100
TZNAME:WEST
DTSTART:20190331T010000
END:DAYLIGHT
BEGIN:STANDARD
TZOFFSETFROM:+0100
TZOFFSETTO:+0000
TZNAME:WET
DTSTART:20191027T010000
END:STANDARD
BEGIN:DAYLIGHT
TZOFFSETFROM:+0000
TZOFFSETTO:+0100
TZNAME:WEST
DTSTART:20200329T010000
END:DAYLIGHT
BEGIN:STANDARD
TZOFFSETFROM:+0100
TZOFFSETTO:+0000
TZNAME:WET
DTSTART:20201025T010000
END:STANDARD
BEGIN:DAYLIGHT
TZOFFSETFROM:+0000
TZOFFSETTO:+0100
TZNAME:WEST
DTSTART:20210328T010000
END:DAYLIGHT
BEGIN:STANDARD
TZOFFSETFROM:+0100
TZOFFSETTO:+0000
TZNAME:WET
DTSTART:20211031T010000
END:STANDARD
BEGIN:DAYLIGHT
TZOFFSETFROM:+0000
TZOFFSETTO:+0100
TZNAME:WEST
DTSTART:20220327T010000
END:DAYLIGHT
BEGIN:STANDARD
TZOFFSETFROM:+0100
TZOFFSETTO:+0000
TZNAME:WET
DTSTART:20221030T010000
END:STANDARD
BEGIN:DAYLIGHT
TZOFFSETFROM:+0000
TZOFFSETTO:+0100
TZNAME:WEST
DTSTART:20230326T010000
END:DAYLIGHT
BEGIN:STANDARD
TZOFFSETFROM:+0100
TZOFFSETTO:+0000
TZNAME:WET
DTSTART:20231029T010000
END:STANDARD
BEGIN:DAYLIGHT
TZOFFSETFROM:+0000
TZOFFSETTO:+0100
TZNAME:WEST
DTSTART:20240331T010000
END:DAYLIGHT
BEGIN:STANDARD
TZOFFSETFROM:+0100
TZOFFSETTO:+0000
TZNAME:WET
DTSTART:20241027T010000
END:STANDARD
BEGIN:DAYLIGHT
TZOFFSETFROM:+0000
TZOFFSETTO:+0100
TZNAME:WEST
DTSTART:20250330T010000
END:DAYLIGHT
BEGIN:STANDARD
TZOFFSETFROM:+0100
TZOFFSETTO:+0000
TZNAME:WET
DTSTART:20251026T010000
END:STANDARD
BEGIN:DAYLIGHT
TZOFFSETFROM:+0000
TZOFFSETTO:+0100
TZNAME:WEST
DTSTART:20260329T010000
END:DAYLIGHT
BEGIN:STANDARD
TZOFFSETFROM:+0100
TZOFFSETTO:+0000
TZNAME:WET
DTSTART:20261025T010000
END:STANDARD
END:VTIMEZONE
BEGIN:VEVENT
DTSTART;TZID=Europe/Lisbon:20260422T231610
DTEND;TZID=Europe/Lisbon:20251023T110705
DTSTAMP:20260422T231610
CREATED:20251023T110704Z
LAST-MODIFIED:20251023T110704Z
UID:74144-0-1761217625@diocesedeviseu.pt
SUMMARY:Reunião do Arciprestado da Beira Alta
DESCRIPTION:
URL:https://diocesedeviseu.pt/evento/reuniao-do-arciprestado-da-beira-alta-9/
LOCATION:Complexo Paroquial de Mangualde\, Mangualde\, Mangualde\, Portugal
END:VEVENT
BEGIN:VEVENT
DTSTART;TZID=Europe/Lisbon:20250924T200000
DTEND;TZID=Europe/Lisbon:20250924T200000
DTSTAMP:20260422T231610
CREATED:20250919T090132Z
LAST-MODIFIED:20250919T090132Z
UID:73409-1758744000-1758744000@diocesedeviseu.pt
SUMMARY:Eucaristia de Acção de Graças na Festa da Beata Rita\, em Ribafeita
DESCRIPTION:
URL:https://diocesedeviseu.pt/evento/eucaristia-de-accao-de-gracas-na-festa-da-beata-rita-em-ribafeita/
LOCATION:Igreja Paroquial de Ribafeita\, Viseu\, Viseu\, 3500-163\, Portugal
END:VEVENT
BEGIN:VEVENT
DTSTART;TZID=Europe/Lisbon:20250925T103000
DTEND;TZID=Europe/Lisbon:20250925T103000
DTSTAMP:20260422T231610
CREATED:20250925T093627Z
LAST-MODIFIED:20250925T093627Z
UID:73511-1758796200-1758796200@diocesedeviseu.pt
SUMMARY:Reunião arciprestal de Viseu Urbano
DESCRIPTION:
URL:https://diocesedeviseu.pt/evento/reuniao-arciprestal-de-viseu-urbano-4/
LOCATION:Seminário de Viseu\, Viseu\, Viseu\, Portugal
END:VEVENT
BEGIN:VEVENT
DTSTART;TZID=Europe/Lisbon:20250926T100000
DTEND;TZID=Europe/Lisbon:20250926T100000
DTSTAMP:20260422T231610
CREATED:20250925T093725Z
LAST-MODIFIED:20250925T093725Z
UID:73513-1758880800-1758880800@diocesedeviseu.pt
SUMMARY:Encontro com o responsável do Diaconado Permanente na Diocese e com os párocos que apresentaram candidatos
DESCRIPTION:
URL:https://diocesedeviseu.pt/evento/encontro-com-o-responsavel-do-diaconado-permanente-na-diocese-e-com-os-parocos-que-apresentaram-candidatos/
LOCATION:Seminário de Viseu\, Viseu\, Viseu\, Portugal
END:VEVENT
BEGIN:VEVENT
DTSTART;TZID=Europe/Lisbon:20250927T130000
DTEND;TZID=Europe/Lisbon:20250927T130000
DTSTAMP:20260422T231610
CREATED:20250925T093822Z
LAST-MODIFIED:20250925T093822Z
UID:73515-1758978000-1758978000@diocesedeviseu.pt
SUMMARY:Encontro com os diáconos permanentes
DESCRIPTION:
URL:https://diocesedeviseu.pt/evento/encontro-com-os-diaconos-permanentes-5/
LOCATION:Seminário de Viseu\, Viseu\, Viseu\, Portugal
END:VEVENT
BEGIN:VEVENT
DTSTART;TZID=Europe/Lisbon:20250927T180000
DTEND;TZID=Europe/Lisbon:20250927T180000
DTSTAMP:20260422T231610
CREATED:20250925T094258Z
LAST-MODIFIED:20250925T094258Z
UID:73519-1758996000-1758996000@diocesedeviseu.pt
SUMMARY:Celebração da Eucaristia da Festa da Beata Rita
DESCRIPTION:
URL:https://diocesedeviseu.pt/evento/celebracao-da-eucaristia-da-festa-da-beata-rita/
LOCATION:Igreja Beata Madre Rita
END:VEVENT
BEGIN:VEVENT
DTSTART;TZID=Europe/Lisbon:20250928T140000
DTEND;TZID=Europe/Lisbon:20250928T140000
DTSTAMP:20260422T231610
CREATED:20250925T094156Z
LAST-MODIFIED:20250925T094156Z
UID:73517-1759068000-1759068000@diocesedeviseu.pt
SUMMARY:Jubileu Diocesano dos Migrantes
DESCRIPTION:
URL:https://diocesedeviseu.pt/evento/jubileu-diocesano-dos-migrantes/
LOCATION:Igreja da Madre Rita\, Viseu\, Viseu
END:VEVENT
BEGIN:VEVENT
DTSTART;TZID=Europe/Lisbon:20251001T180000
DTEND;TZID=Europe/Lisbon:20251001T180000
DTSTAMP:20260422T231610
CREATED:20250925T094452Z
LAST-MODIFIED:20250925T094452Z
UID:73521-1759341600-1759341600@diocesedeviseu.pt
SUMMARY:Reunião do Conselho dos Assuntos Económicos
DESCRIPTION:
URL:https://diocesedeviseu.pt/evento/reuniao-do-conselho-dos-assuntos-economicos-5/
LOCATION:Casa Episcopal Viseu\, Viseu\, Viseu\, Portugal
END:VEVENT
BEGIN:VEVENT
DTSTART;TZID=Europe/Lisbon:20251002T100000
DTEND;TZID=Europe/Lisbon:20251002T100852
DTSTAMP:20260422T231610
CREATED:20251002T100852Z
LAST-MODIFIED:20251002T100852Z
UID:73690-1759399200-1759399732@diocesedeviseu.pt
SUMMARY:Reunião arciprestal da Beira Alta
DESCRIPTION:
URL:https://diocesedeviseu.pt/evento/reuniao-arciprestal-da-beira-alta-2/
LOCATION:Igreja do Complexo de Mangualde\, Mangualde\, Mangualde\, Portugal
END:VEVENT
BEGIN:VEVENT
DTSTART;VALUE=DATE:20251004
DTEND;VALUE=DATE:20251005
DTSTAMP:20260422T231610
CREATED:20250709T085413Z
LAST-MODIFIED:20250709T085413Z
UID:71931-1759536000-1759622399@diocesedeviseu.pt
SUMMARY:Peregrinação da Diocese de Viseu a Fátima
DESCRIPTION:
URL:https://diocesedeviseu.pt/evento/peregrinacao-da-diocese-de-viseu-a-fatima/
LOCATION:Santuário de Fátima
END:VEVENT
BEGIN:VEVENT
DTSTART;TZID=Europe/Lisbon:20251005T160000
DTEND;TZID=Europe/Lisbon:20251005T160000
DTSTAMP:20260422T231610
CREATED:20251002T101040Z
LAST-MODIFIED:20251002T101040Z
UID:73692-1759680000-1759680000@diocesedeviseu.pt
SUMMARY:Missa de ação de graças e despedida da Ordem dos Frades Menores Conventuais
DESCRIPTION:
URL:https://diocesedeviseu.pt/evento/missa-de-acao-de-gracas-e-despedida-da-ordem-dos-frades-menores-conventuais/
LOCATION:Igreja dos Terceiros – Viseu
END:VEVENT
BEGIN:VEVENT
DTSTART;TZID=Europe/Lisbon:20251007T110000
DTEND;TZID=Europe/Lisbon:20251007T110000
DTSTAMP:20260422T231610
CREATED:20251002T101119Z
LAST-MODIFIED:20251002T101119Z
UID:73694-1759834800-1759834800@diocesedeviseu.pt
SUMMARY:Celebração da Eucaristia da Festa da Senhora do Rosário
DESCRIPTION:
URL:https://diocesedeviseu.pt/evento/celebracao-da-eucaristia-da-festa-da-senhora-do-rosario/
LOCATION:Colégio da Via Sacra
END:VEVENT
BEGIN:VEVENT
DTSTART;TZID=Europe/Lisbon:20251008T100000
DTEND;TZID=Europe/Lisbon:20251008T100000
DTSTAMP:20260422T231610
CREATED:20251002T101228Z
LAST-MODIFIED:20251002T101228Z
UID:73696-1759917600-1759917600@diocesedeviseu.pt
SUMMARY:Reunião Arciprestal de Lafões
DESCRIPTION:
URL:https://diocesedeviseu.pt/evento/reuniao-arciprestal-de-lafoes-2/
LOCATION:Instituto Missionário Marista\, Vouzela\, Portugal
END:VEVENT
BEGIN:VEVENT
DTSTART;TZID=Europe/Lisbon:20251011T093000
DTEND;TZID=Europe/Lisbon:20251011T093000
DTSTAMP:20260422T231610
CREATED:20251009T092954Z
LAST-MODIFIED:20251009T092954Z
UID:73835-1760175000-1760175000@diocesedeviseu.pt
SUMMARY:Encontro com os candidatos ao Diaconado Permanente
DESCRIPTION:
URL:https://diocesedeviseu.pt/evento/encontro-com-os-candidatos-ao-diaconado-permanente/
LOCATION:Seminário de Viseu\, Viseu\, Viseu\, Portugal
END:VEVENT
BEGIN:VEVENT
DTSTART;VALUE=DATE:20251012
DTEND;VALUE=DATE:20251014
DTSTAMP:20260422T231610
CREATED:20251009T093410Z
LAST-MODIFIED:20251009T093410Z
UID:73843-1760227200-1760399999@diocesedeviseu.pt
SUMMARY:Celebração do aniversário das aparições de Fátima
DESCRIPTION:
URL:https://diocesedeviseu.pt/evento/celebracao-do-aniversario-das-aparicoes-de-fatima/
LOCATION:Santuário de Fátima
END:VEVENT
BEGIN:VEVENT
DTSTART;TZID=Europe/Lisbon:20251012T110000
DTEND;TZID=Europe/Lisbon:20251012T110000
DTSTAMP:20260422T231610
CREATED:20251009T093132Z
LAST-MODIFIED:20251009T093317Z
UID:73837-1760266800-1760266800@diocesedeviseu.pt
SUMMARY:Celebração da Eucaristia e do Crisma
DESCRIPTION:
URL:https://diocesedeviseu.pt/evento/celebracao-da-eucaristia-e-do-crisma-8/
LOCATION:Igreja Paroquial de Campo de Madalena
END:VEVENT
BEGIN:VEVENT
DTSTART;TZID=Europe/Lisbon:20251015T110000
DTEND;TZID=Europe/Lisbon:20251015T110000
DTSTAMP:20260422T231610
CREATED:20251009T093528Z
LAST-MODIFIED:20251009T093528Z
UID:73845-1760526000-1760526000@diocesedeviseu.pt
SUMMARY:Celebração da Eucaristia em sufrágio das vítimas dos incêndios
DESCRIPTION:
URL:https://diocesedeviseu.pt/evento/celebracao-da-eucaristia-em-sufragio-das-vitimas-dos-incendios/
LOCATION:Vouzela
END:VEVENT
BEGIN:VEVENT
DTSTART;TZID=Europe/Lisbon:20251016T093000
DTEND;TZID=Europe/Lisbon:20251016T093000
DTSTAMP:20260422T231610
CREATED:20251009T093611Z
LAST-MODIFIED:20251009T093611Z
UID:73847-1760607000-1760607000@diocesedeviseu.pt
SUMMARY:Assembleia Geral do Clero
DESCRIPTION:
URL:https://diocesedeviseu.pt/evento/assembleia-geral-do-clero/
LOCATION:Seminário de Viseu\, Viseu\, Viseu\, Portugal
END:VEVENT
BEGIN:VEVENT
DTSTART;TZID=Europe/Lisbon:20251017T180000
DTEND;TZID=Europe/Lisbon:20251017T180000
DTSTAMP:20260422T231610
CREATED:20251017T090848Z
LAST-MODIFIED:20251017T090848Z
UID:73984-1760724000-1760724000@diocesedeviseu.pt
SUMMARY:Celebração da Eucaristia por ocasião da abertura das atividades da ACEGE
DESCRIPTION:
URL:https://diocesedeviseu.pt/evento/celebracao-da-eucaristia-por-ocasiao-da-abertura-das-atividades-da-acege/
LOCATION:Seminário de Viseu\, Viseu\, Viseu\, Portugal
END:VEVENT
BEGIN:VEVENT
DTSTART;TZID=Europe/Lisbon:20251018T093000
DTEND;TZID=Europe/Lisbon:20251018T093000
DTSTAMP:20260422T231610
CREATED:20251017T090958Z
LAST-MODIFIED:20251017T090958Z
UID:73986-1760779800-1760779800@diocesedeviseu.pt
SUMMARY:Assembleia Arciprestal de Leigos do Arciprestado Urbano
DESCRIPTION:
URL:https://diocesedeviseu.pt/evento/assembleia-arciprestal-de-leigos-do-arciprestado-urbano/
LOCATION:Seminário de Viseu\, Viseu\, Viseu\, Portugal
END:VEVENT
BEGIN:VEVENT
DTSTART;TZID=Europe/Lisbon:20251018T210000
DTEND;TZID=Europe/Lisbon:20251018T210000
DTSTAMP:20260422T231610
CREATED:20251009T093736Z
LAST-MODIFIED:20251009T093736Z
UID:73849-1760821200-1760821200@diocesedeviseu.pt
SUMMARY:Vigília Missionária da CIRP
DESCRIPTION:
URL:https://diocesedeviseu.pt/evento/vigilia-missionaria-da-cirp/
LOCATION:Paróquia do Campo de Madalena\, Campo de Madalena\, Viseu
END:VEVENT
BEGIN:VEVENT
DTSTART;VALUE=DATE:20251019
DTEND;VALUE=DATE:20251020
DTSTAMP:20260422T231610
CREATED:20250312T111759Z
LAST-MODIFIED:20250312T111759Z
UID:69310-1760832000-1760918399@diocesedeviseu.pt
SUMMARY:Ofertório para as Obras Missionárias Pontifícias (Missões)
DESCRIPTION:
URL:https://diocesedeviseu.pt/evento/ofertorio-para-as-obras-missionarias-pontificias-missoes/
CATEGORIES:Lembretes
END:VEVENT
BEGIN:VEVENT
DTSTART;TZID=Europe/Lisbon:20251019T090000
DTEND;TZID=Europe/Lisbon:20251019T090000
DTSTAMP:20260422T231610
CREATED:20251017T091227Z
LAST-MODIFIED:20251022T083824Z
UID:73991-1760864400-1760864400@diocesedeviseu.pt
SUMMARY:Celebração da Eucaristia na tomada de posse do Padre António Manuel Sobral
DESCRIPTION:
URL:https://diocesedeviseu.pt/evento/celebracao-da-eucaristia-na-tomada-de-posse-do-padre-antonio-manuel-sobral/
LOCATION:Igreja Paroquial de Senhorim
END:VEVENT
BEGIN:VEVENT
DTSTART;TZID=Europe/Lisbon:20251019T101500
DTEND;TZID=Europe/Lisbon:20251019T101500
DTSTAMP:20260422T231610
CREATED:20251022T084036Z
LAST-MODIFIED:20251022T084036Z
UID:74106-1760868900-1760868900@diocesedeviseu.pt
SUMMARY:Celebração da Eucaristia na tomada de posse do Padre António Manuel Sobral
DESCRIPTION:
URL:https://diocesedeviseu.pt/evento/celebracao-da-eucaristia-na-tomada-de-posse-do-padre-antonio-manuel-sobral-2/
LOCATION:Igreja Paroquial de Vilar Seco\, Vilar Seco\, Vilar Seco\, Portugal
CATEGORIES:Bispo,Clero, Vocações e Vida Consagrada,Lembretes
END:VEVENT
BEGIN:VEVENT
DTSTART;TZID=Europe/Lisbon:20251019T113000
DTEND;TZID=Europe/Lisbon:20251019T113000
DTSTAMP:20260422T231610
CREATED:20251017T091448Z
LAST-MODIFIED:20251022T083400Z
UID:73996-1760873400-1760873400@diocesedeviseu.pt
SUMMARY:Celebração da Eucaristia na tomada de posse do Padre António Manuel Sobral
DESCRIPTION:
URL:https://diocesedeviseu.pt/evento/celebracao-da-eucaristia-na-tomada-de-posse-do-padre-antonio-manuel-sobral-3/
LOCATION:Igreja Paroquial de Nelas\, Nelas\, Nelas\, Portugal
END:VEVENT
BEGIN:VEVENT
DTSTART;TZID=Europe/Lisbon:20251019T150000
DTEND;TZID=Europe/Lisbon:20251019T150000
DTSTAMP:20260422T231610
CREATED:20251017T091628Z
LAST-MODIFIED:20251022T083611Z
UID:73998-1760886000-1760886000@diocesedeviseu.pt
SUMMARY:Celebração da Eucaristia na tomada de posse do Pároco Padre Ivan Babchuk
DESCRIPTION:
URL:https://diocesedeviseu.pt/evento/celebracao-da-eucaristia-na-tomada-de-posse-do-paroco-padre-ivan-babchuk/
LOCATION:Igreja Paroquial de Carvalhal Redondo\, Carvalhal Redondo\, Carvalhal Redondo\, Portugal
CATEGORIES:Bispo,Clero, Vocações e Vida Consagrada,Lembretes
END:VEVENT
BEGIN:VEVENT
DTSTART;TZID=Europe/Lisbon:20251021T100000
DTEND;TZID=Europe/Lisbon:20251021T100000
DTSTAMP:20260422T231610
CREATED:20251017T091715Z
LAST-MODIFIED:20251017T091715Z
UID:74001-1761040800-1761040800@diocesedeviseu.pt
SUMMARY:Encontro de trabalho anual dos Bispos da Província Eclesiástica de Braga e de Santiago de Compostela
DESCRIPTION:
URL:https://diocesedeviseu.pt/evento/encontro-de-trabalho-anual-dos-bispos-da-provincia-eclesiastica-de-braga-e-de-santiago-de-compostela/
LOCATION:Casa Episcopal Viseu\, Viseu\, Viseu\, Portugal
END:VEVENT
BEGIN:VEVENT
DTSTART;VALUE=DATE:20251023
DTEND;VALUE=DATE:20251027
DTSTAMP:20260422T231610
CREATED:20251017T091808Z
LAST-MODIFIED:20251017T091808Z
UID:74003-1761177600-1761523199@diocesedeviseu.pt
SUMMARY:Participação no Encontro do Jubileu das Equipas Sinodais
DESCRIPTION:
URL:https://diocesedeviseu.pt/evento/participacao-no-encontro-do-jubileu-das-equipas-sinodais/
LOCATION:Roma
END:VEVENT
BEGIN:VEVENT
DTSTART;VALUE=DATE:20251024
DTEND;VALUE=DATE:20251027
DTSTAMP:20260422T231610
CREATED:20251023T110454Z
LAST-MODIFIED:20251023T110454Z
UID:74139-1761264000-1761523199@diocesedeviseu.pt
SUMMARY:Participação no Jubileu das Equipas Sinodais
DESCRIPTION:
URL:https://diocesedeviseu.pt/evento/participacao-no-jubileu-das-equipas-sinodais/
LOCATION:Roma
END:VEVENT
BEGIN:VEVENT
DTSTART;VALUE=DATE:20251027
DTEND;VALUE=DATE:20251030
DTSTAMP:20260422T231610
CREATED:20251023T110614Z
LAST-MODIFIED:20251023T110614Z
UID:74141-1761523200-1761782399@diocesedeviseu.pt
SUMMARY:Encontro dos Bispos do Centro
DESCRIPTION:
URL:https://diocesedeviseu.pt/evento/encontro-dos-bispos-do-centro-5/
LOCATION:Espanha\, Espanha\, Espanha
END:VEVENT
END:VCALENDAR