BEGIN:VCALENDAR
VERSION:2.0
PRODID:-//Diocese de Viseu - ECPv6.15.18//NONSGML v1.0//EN
CALSCALE:GREGORIAN
METHOD:PUBLISH
X-WR-CALNAME:Diocese de Viseu
X-ORIGINAL-URL:https://diocesedeviseu.pt
X-WR-CALDESC:Eventos para Diocese de Viseu
REFRESH-INTERVAL;VALUE=DURATION:PT1H
X-Robots-Tag:noindex
X-PUBLISHED-TTL:PT1H
BEGIN:VTIMEZONE
TZID:Europe/Lisbon
BEGIN:STANDARD
TZOFFSETFROM:+0100
TZOFFSETTO:+0000
TZNAME:WET
DTSTART:19760926T000000
END:STANDARD
BEGIN:DAYLIGHT
TZOFFSETFROM:+0000
TZOFFSETTO:+0100
TZNAME:WEST
DTSTART:19770327T000000
END:DAYLIGHT
BEGIN:STANDARD
TZOFFSETFROM:+0100
TZOFFSETTO:+0000
TZNAME:WET
DTSTART:19770925T000000
END:STANDARD
BEGIN:DAYLIGHT
TZOFFSETFROM:+0000
TZOFFSETTO:+0100
TZNAME:WEST
DTSTART:19780402T010000
END:DAYLIGHT
BEGIN:STANDARD
TZOFFSETFROM:+0100
TZOFFSETTO:+0000
TZNAME:WET
DTSTART:19781001T010000
END:STANDARD
BEGIN:DAYLIGHT
TZOFFSETFROM:+0000
TZOFFSETTO:+0100
TZNAME:WEST
DTSTART:19790401T010000
END:DAYLIGHT
BEGIN:STANDARD
TZOFFSETFROM:+0100
TZOFFSETTO:+0000
TZNAME:WET
DTSTART:19790930T010000
END:STANDARD
BEGIN:DAYLIGHT
TZOFFSETFROM:+0000
TZOFFSETTO:+0100
TZNAME:WEST
DTSTART:19800406T010000
END:DAYLIGHT
BEGIN:STANDARD
TZOFFSETFROM:+0100
TZOFFSETTO:+0000
TZNAME:WET
DTSTART:19800928T010000
END:STANDARD
BEGIN:DAYLIGHT
TZOFFSETFROM:+0000
TZOFFSETTO:+0100
TZNAME:WEST
DTSTART:19810329T000000
END:DAYLIGHT
BEGIN:STANDARD
TZOFFSETFROM:+0100
TZOFFSETTO:+0000
TZNAME:WET
DTSTART:19810927T000000
END:STANDARD
BEGIN:DAYLIGHT
TZOFFSETFROM:+0000
TZOFFSETTO:+0100
TZNAME:WEST
DTSTART:19820328T000000
END:DAYLIGHT
BEGIN:STANDARD
TZOFFSETFROM:+0100
TZOFFSETTO:+0000
TZNAME:WET
DTSTART:19820926T000000
END:STANDARD
BEGIN:DAYLIGHT
TZOFFSETFROM:+0000
TZOFFSETTO:+0100
TZNAME:WEST
DTSTART:19830327T000000
END:DAYLIGHT
BEGIN:STANDARD
TZOFFSETFROM:+0100
TZOFFSETTO:+0000
TZNAME:WET
DTSTART:19830925T000000
END:STANDARD
BEGIN:DAYLIGHT
TZOFFSETFROM:+0000
TZOFFSETTO:+0100
TZNAME:WEST
DTSTART:19840325T000000
END:DAYLIGHT
BEGIN:STANDARD
TZOFFSETFROM:+0100
TZOFFSETTO:+0000
TZNAME:WET
DTSTART:19840930T000000
END:STANDARD
BEGIN:DAYLIGHT
TZOFFSETFROM:+0000
TZOFFSETTO:+0100
TZNAME:WEST
DTSTART:19850331T000000
END:DAYLIGHT
BEGIN:STANDARD
TZOFFSETFROM:+0100
TZOFFSETTO:+0000
TZNAME:WET
DTSTART:19850929T000000
END:STANDARD
BEGIN:STANDARD
TZOFFSETFROM:+0000
TZOFFSETTO:+0000
TZNAME:WET
DTSTART:19860101T000000
END:STANDARD
BEGIN:DAYLIGHT
TZOFFSETFROM:+0000
TZOFFSETTO:+0100
TZNAME:WEST
DTSTART:19860330T010000
END:DAYLIGHT
BEGIN:STANDARD
TZOFFSETFROM:+0100
TZOFFSETTO:+0000
TZNAME:WET
DTSTART:19860928T010000
END:STANDARD
BEGIN:DAYLIGHT
TZOFFSETFROM:+0000
TZOFFSETTO:+0100
TZNAME:WEST
DTSTART:19870329T010000
END:DAYLIGHT
BEGIN:STANDARD
TZOFFSETFROM:+0100
TZOFFSETTO:+0000
TZNAME:WET
DTSTART:19870927T010000
END:STANDARD
BEGIN:DAYLIGHT
TZOFFSETFROM:+0000
TZOFFSETTO:+0100
TZNAME:WEST
DTSTART:19880327T010000
END:DAYLIGHT
BEGIN:STANDARD
TZOFFSETFROM:+0100
TZOFFSETTO:+0000
TZNAME:WET
DTSTART:19880925T010000
END:STANDARD
BEGIN:DAYLIGHT
TZOFFSETFROM:+0000
TZOFFSETTO:+0100
TZNAME:WEST
DTSTART:19890326T010000
END:DAYLIGHT
BEGIN:STANDARD
TZOFFSETFROM:+0100
TZOFFSETTO:+0000
TZNAME:WET
DTSTART:19890924T010000
END:STANDARD
BEGIN:DAYLIGHT
TZOFFSETFROM:+0000
TZOFFSETTO:+0100
TZNAME:WEST
DTSTART:19900325T010000
END:DAYLIGHT
BEGIN:STANDARD
TZOFFSETFROM:+0100
TZOFFSETTO:+0000
TZNAME:WET
DTSTART:19900930T010000
END:STANDARD
BEGIN:DAYLIGHT
TZOFFSETFROM:+0000
TZOFFSETTO:+0100
TZNAME:WEST
DTSTART:19910331T010000
END:DAYLIGHT
BEGIN:STANDARD
TZOFFSETFROM:+0100
TZOFFSETTO:+0000
TZNAME:WET
DTSTART:19910929T010000
END:STANDARD
BEGIN:DAYLIGHT
TZOFFSETFROM:+0000
TZOFFSETTO:+0100
TZNAME:WEST
DTSTART:19920329T010000
END:DAYLIGHT
BEGIN:STANDARD
TZOFFSETFROM:+0100
TZOFFSETTO:+0100
TZNAME:CET
DTSTART:19920927T010000
END:STANDARD
BEGIN:DAYLIGHT
TZOFFSETFROM:+0100
TZOFFSETTO:+0200
TZNAME:CEST
DTSTART:19930328T010000
END:DAYLIGHT
BEGIN:STANDARD
TZOFFSETFROM:+0200
TZOFFSETTO:+0100
TZNAME:CET
DTSTART:19930926T010000
END:STANDARD
BEGIN:DAYLIGHT
TZOFFSETFROM:+0100
TZOFFSETTO:+0200
TZNAME:CEST
DTSTART:19940327T010000
END:DAYLIGHT
BEGIN:STANDARD
TZOFFSETFROM:+0200
TZOFFSETTO:+0100
TZNAME:CET
DTSTART:19940925T010000
END:STANDARD
BEGIN:DAYLIGHT
TZOFFSETFROM:+0100
TZOFFSETTO:+0200
TZNAME:CEST
DTSTART:19950326T010000
END:DAYLIGHT
BEGIN:STANDARD
TZOFFSETFROM:+0200
TZOFFSETTO:+0100
TZNAME:CET
DTSTART:19950924T010000
END:STANDARD
BEGIN:DAYLIGHT
TZOFFSETFROM:+0100
TZOFFSETTO:+0100
TZNAME:WEST
DTSTART:19960331T010000
END:DAYLIGHT
BEGIN:STANDARD
TZOFFSETFROM:+0100
TZOFFSETTO:+0000
TZNAME:WET
DTSTART:19961027T010000
END:STANDARD
BEGIN:DAYLIGHT
TZOFFSETFROM:+0000
TZOFFSETTO:+0100
TZNAME:WEST
DTSTART:19970330T010000
END:DAYLIGHT
BEGIN:STANDARD
TZOFFSETFROM:+0100
TZOFFSETTO:+0000
TZNAME:WET
DTSTART:19971026T010000
END:STANDARD
BEGIN:DAYLIGHT
TZOFFSETFROM:+0000
TZOFFSETTO:+0100
TZNAME:WEST
DTSTART:19980329T010000
END:DAYLIGHT
BEGIN:STANDARD
TZOFFSETFROM:+0100
TZOFFSETTO:+0000
TZNAME:WET
DTSTART:19981025T010000
END:STANDARD
BEGIN:DAYLIGHT
TZOFFSETFROM:+0000
TZOFFSETTO:+0100
TZNAME:WEST
DTSTART:19990328T010000
END:DAYLIGHT
BEGIN:STANDARD
TZOFFSETFROM:+0100
TZOFFSETTO:+0000
TZNAME:WET
DTSTART:19991031T010000
END:STANDARD
BEGIN:DAYLIGHT
TZOFFSETFROM:+0000
TZOFFSETTO:+0100
TZNAME:WEST
DTSTART:20000326T010000
END:DAYLIGHT
BEGIN:STANDARD
TZOFFSETFROM:+0100
TZOFFSETTO:+0000
TZNAME:WET
DTSTART:20001029T010000
END:STANDARD
BEGIN:DAYLIGHT
TZOFFSETFROM:+0000
TZOFFSETTO:+0100
TZNAME:WEST
DTSTART:20010325T010000
END:DAYLIGHT
BEGIN:STANDARD
TZOFFSETFROM:+0100
TZOFFSETTO:+0000
TZNAME:WET
DTSTART:20011028T010000
END:STANDARD
BEGIN:DAYLIGHT
TZOFFSETFROM:+0000
TZOFFSETTO:+0100
TZNAME:WEST
DTSTART:20020331T010000
END:DAYLIGHT
BEGIN:STANDARD
TZOFFSETFROM:+0100
TZOFFSETTO:+0000
TZNAME:WET
DTSTART:20021027T010000
END:STANDARD
BEGIN:DAYLIGHT
TZOFFSETFROM:+0000
TZOFFSETTO:+0100
TZNAME:WEST
DTSTART:20030330T010000
END:DAYLIGHT
BEGIN:STANDARD
TZOFFSETFROM:+0100
TZOFFSETTO:+0000
TZNAME:WET
DTSTART:20031026T010000
END:STANDARD
BEGIN:DAYLIGHT
TZOFFSETFROM:+0000
TZOFFSETTO:+0100
TZNAME:WEST
DTSTART:20040328T010000
END:DAYLIGHT
BEGIN:STANDARD
TZOFFSETFROM:+0100
TZOFFSETTO:+0000
TZNAME:WET
DTSTART:20041031T010000
END:STANDARD
BEGIN:DAYLIGHT
TZOFFSETFROM:+0000
TZOFFSETTO:+0100
TZNAME:WEST
DTSTART:20050327T010000
END:DAYLIGHT
BEGIN:STANDARD
TZOFFSETFROM:+0100
TZOFFSETTO:+0000
TZNAME:WET
DTSTART:20051030T010000
END:STANDARD
BEGIN:DAYLIGHT
TZOFFSETFROM:+0000
TZOFFSETTO:+0100
TZNAME:WEST
DTSTART:20060326T010000
END:DAYLIGHT
BEGIN:STANDARD
TZOFFSETFROM:+0100
TZOFFSETTO:+0000
TZNAME:WET
DTSTART:20061029T010000
END:STANDARD
BEGIN:DAYLIGHT
TZOFFSETFROM:+0000
TZOFFSETTO:+0100
TZNAME:WEST
DTSTART:20070325T010000
END:DAYLIGHT
BEGIN:STANDARD
TZOFFSETFROM:+0100
TZOFFSETTO:+0000
TZNAME:WET
DTSTART:20071028T010000
END:STANDARD
BEGIN:DAYLIGHT
TZOFFSETFROM:+0000
TZOFFSETTO:+0100
TZNAME:WEST
DTSTART:20080330T010000
END:DAYLIGHT
BEGIN:STANDARD
TZOFFSETFROM:+0100
TZOFFSETTO:+0000
TZNAME:WET
DTSTART:20081026T010000
END:STANDARD
BEGIN:DAYLIGHT
TZOFFSETFROM:+0000
TZOFFSETTO:+0100
TZNAME:WEST
DTSTART:20090329T010000
END:DAYLIGHT
BEGIN:STANDARD
TZOFFSETFROM:+0100
TZOFFSETTO:+0000
TZNAME:WET
DTSTART:20091025T010000
END:STANDARD
BEGIN:DAYLIGHT
TZOFFSETFROM:+0000
TZOFFSETTO:+0100
TZNAME:WEST
DTSTART:20100328T010000
END:DAYLIGHT
BEGIN:STANDARD
TZOFFSETFROM:+0100
TZOFFSETTO:+0000
TZNAME:WET
DTSTART:20101031T010000
END:STANDARD
BEGIN:DAYLIGHT
TZOFFSETFROM:+0000
TZOFFSETTO:+0100
TZNAME:WEST
DTSTART:20110327T010000
END:DAYLIGHT
BEGIN:STANDARD
TZOFFSETFROM:+0100
TZOFFSETTO:+0000
TZNAME:WET
DTSTART:20111030T010000
END:STANDARD
BEGIN:DAYLIGHT
TZOFFSETFROM:+0000
TZOFFSETTO:+0100
TZNAME:WEST
DTSTART:20120325T010000
END:DAYLIGHT
BEGIN:STANDARD
TZOFFSETFROM:+0100
TZOFFSETTO:+0000
TZNAME:WET
DTSTART:20121028T010000
END:STANDARD
BEGIN:DAYLIGHT
TZOFFSETFROM:+0000
TZOFFSETTO:+0100
TZNAME:WEST
DTSTART:20130331T010000
END:DAYLIGHT
BEGIN:STANDARD
TZOFFSETFROM:+0100
TZOFFSETTO:+0000
TZNAME:WET
DTSTART:20131027T010000
END:STANDARD
BEGIN:DAYLIGHT
TZOFFSETFROM:+0000
TZOFFSETTO:+0100
TZNAME:WEST
DTSTART:20140330T010000
END:DAYLIGHT
BEGIN:STANDARD
TZOFFSETFROM:+0100
TZOFFSETTO:+0000
TZNAME:WET
DTSTART:20141026T010000
END:STANDARD
BEGIN:DAYLIGHT
TZOFFSETFROM:+0000
TZOFFSETTO:+0100
TZNAME:WEST
DTSTART:20150329T010000
END:DAYLIGHT
BEGIN:STANDARD
TZOFFSETFROM:+0100
TZOFFSETTO:+0000
TZNAME:WET
DTSTART:20151025T010000
END:STANDARD
BEGIN:DAYLIGHT
TZOFFSETFROM:+0000
TZOFFSETTO:+0100
TZNAME:WEST
DTSTART:20160327T010000
END:DAYLIGHT
BEGIN:STANDARD
TZOFFSETFROM:+0100
TZOFFSETTO:+0000
TZNAME:WET
DTSTART:20161030T010000
END:STANDARD
BEGIN:DAYLIGHT
TZOFFSETFROM:+0000
TZOFFSETTO:+0100
TZNAME:WEST
DTSTART:20170326T010000
END:DAYLIGHT
BEGIN:STANDARD
TZOFFSETFROM:+0100
TZOFFSETTO:+0000
TZNAME:WET
DTSTART:20171029T010000
END:STANDARD
BEGIN:DAYLIGHT
TZOFFSETFROM:+0000
TZOFFSETTO:+0100
TZNAME:WEST
DTSTART:20180325T010000
END:DAYLIGHT
BEGIN:STANDARD
TZOFFSETFROM:+0100
TZOFFSETTO:+0000
TZNAME:WET
DTSTART:20181028T010000
END:STANDARD
BEGIN:DAYLIGHT
TZOFFSETFROM:+0000
TZOFFSETTO:+0100
TZNAME:WEST
DTSTART:20190331T010000
END:DAYLIGHT
BEGIN:STANDARD
TZOFFSETFROM:+0100
TZOFFSETTO:+0000
TZNAME:WET
DTSTART:20191027T010000
END:STANDARD
BEGIN:DAYLIGHT
TZOFFSETFROM:+0000
TZOFFSETTO:+0100
TZNAME:WEST
DTSTART:20200329T010000
END:DAYLIGHT
BEGIN:STANDARD
TZOFFSETFROM:+0100
TZOFFSETTO:+0000
TZNAME:WET
DTSTART:20201025T010000
END:STANDARD
BEGIN:DAYLIGHT
TZOFFSETFROM:+0000
TZOFFSETTO:+0100
TZNAME:WEST
DTSTART:20210328T010000
END:DAYLIGHT
BEGIN:STANDARD
TZOFFSETFROM:+0100
TZOFFSETTO:+0000
TZNAME:WET
DTSTART:20211031T010000
END:STANDARD
BEGIN:DAYLIGHT
TZOFFSETFROM:+0000
TZOFFSETTO:+0100
TZNAME:WEST
DTSTART:20220327T010000
END:DAYLIGHT
BEGIN:STANDARD
TZOFFSETFROM:+0100
TZOFFSETTO:+0000
TZNAME:WET
DTSTART:20221030T010000
END:STANDARD
BEGIN:DAYLIGHT
TZOFFSETFROM:+0000
TZOFFSETTO:+0100
TZNAME:WEST
DTSTART:20230326T010000
END:DAYLIGHT
BEGIN:STANDARD
TZOFFSETFROM:+0100
TZOFFSETTO:+0000
TZNAME:WET
DTSTART:20231029T010000
END:STANDARD
BEGIN:DAYLIGHT
TZOFFSETFROM:+0000
TZOFFSETTO:+0100
TZNAME:WEST
DTSTART:20240331T010000
END:DAYLIGHT
BEGIN:STANDARD
TZOFFSETFROM:+0100
TZOFFSETTO:+0000
TZNAME:WET
DTSTART:20241027T010000
END:STANDARD
BEGIN:DAYLIGHT
TZOFFSETFROM:+0000
TZOFFSETTO:+0100
TZNAME:WEST
DTSTART:20250330T010000
END:DAYLIGHT
BEGIN:STANDARD
TZOFFSETFROM:+0100
TZOFFSETTO:+0000
TZNAME:WET
DTSTART:20251026T010000
END:STANDARD
BEGIN:DAYLIGHT
TZOFFSETFROM:+0000
TZOFFSETTO:+0100
TZNAME:WEST
DTSTART:20260329T010000
END:DAYLIGHT
BEGIN:STANDARD
TZOFFSETFROM:+0100
TZOFFSETTO:+0000
TZNAME:WET
DTSTART:20261025T010000
END:STANDARD
END:VTIMEZONE
BEGIN:VEVENT
DTSTART;TZID=Europe/Lisbon:20260423T110407
DTEND;TZID=Europe/Lisbon:20251023T110705
DTSTAMP:20260423T110407
CREATED:20251023T110704Z
LAST-MODIFIED:20251023T110704Z
UID:74144-0-1761217625@diocesedeviseu.pt
SUMMARY:Reunião do Arciprestado da Beira Alta
DESCRIPTION:
URL:https://diocesedeviseu.pt/evento/reuniao-do-arciprestado-da-beira-alta-9/
LOCATION:Complexo Paroquial de Mangualde\, Mangualde\, Mangualde\, Portugal
END:VEVENT
BEGIN:VEVENT
DTSTART;VALUE=DATE:20251012
DTEND;VALUE=DATE:20251014
DTSTAMP:20260423T110407
CREATED:20251009T093410Z
LAST-MODIFIED:20251009T093410Z
UID:73843-1760227200-1760399999@diocesedeviseu.pt
SUMMARY:Celebração do aniversário das aparições de Fátima
DESCRIPTION:
URL:https://diocesedeviseu.pt/evento/celebracao-do-aniversario-das-aparicoes-de-fatima/
LOCATION:Santuário de Fátima
END:VEVENT
BEGIN:VEVENT
DTSTART;TZID=Europe/Lisbon:20251017T180000
DTEND;TZID=Europe/Lisbon:20251017T180000
DTSTAMP:20260423T110407
CREATED:20251017T090848Z
LAST-MODIFIED:20251017T090848Z
UID:73984-1760724000-1760724000@diocesedeviseu.pt
SUMMARY:Celebração da Eucaristia por ocasião da abertura das atividades da ACEGE
DESCRIPTION:
URL:https://diocesedeviseu.pt/evento/celebracao-da-eucaristia-por-ocasiao-da-abertura-das-atividades-da-acege/
LOCATION:Seminário de Viseu\, Viseu\, Viseu\, Portugal
END:VEVENT
BEGIN:VEVENT
DTSTART;TZID=Europe/Lisbon:20251018T093000
DTEND;TZID=Europe/Lisbon:20251018T093000
DTSTAMP:20260423T110407
CREATED:20251017T090958Z
LAST-MODIFIED:20251017T090958Z
UID:73986-1760779800-1760779800@diocesedeviseu.pt
SUMMARY:Assembleia Arciprestal de Leigos do Arciprestado Urbano
DESCRIPTION:
URL:https://diocesedeviseu.pt/evento/assembleia-arciprestal-de-leigos-do-arciprestado-urbano/
LOCATION:Seminário de Viseu\, Viseu\, Viseu\, Portugal
END:VEVENT
BEGIN:VEVENT
DTSTART;VALUE=DATE:20251019
DTEND;VALUE=DATE:20251020
DTSTAMP:20260423T110407
CREATED:20250312T111759Z
LAST-MODIFIED:20250312T111759Z
UID:69310-1760832000-1760918399@diocesedeviseu.pt
SUMMARY:Ofertório para as Obras Missionárias Pontifícias (Missões)
DESCRIPTION:
URL:https://diocesedeviseu.pt/evento/ofertorio-para-as-obras-missionarias-pontificias-missoes/
CATEGORIES:Lembretes
END:VEVENT
BEGIN:VEVENT
DTSTART;TZID=Europe/Lisbon:20251019T090000
DTEND;TZID=Europe/Lisbon:20251019T090000
DTSTAMP:20260423T110407
CREATED:20251017T091227Z
LAST-MODIFIED:20251022T083824Z
UID:73991-1760864400-1760864400@diocesedeviseu.pt
SUMMARY:Celebração da Eucaristia na tomada de posse do Padre António Manuel Sobral
DESCRIPTION:
URL:https://diocesedeviseu.pt/evento/celebracao-da-eucaristia-na-tomada-de-posse-do-padre-antonio-manuel-sobral/
LOCATION:Igreja Paroquial de Senhorim
END:VEVENT
BEGIN:VEVENT
DTSTART;TZID=Europe/Lisbon:20251019T101500
DTEND;TZID=Europe/Lisbon:20251019T101500
DTSTAMP:20260423T110407
CREATED:20251022T084036Z
LAST-MODIFIED:20251022T084036Z
UID:74106-1760868900-1760868900@diocesedeviseu.pt
SUMMARY:Celebração da Eucaristia na tomada de posse do Padre António Manuel Sobral
DESCRIPTION:
URL:https://diocesedeviseu.pt/evento/celebracao-da-eucaristia-na-tomada-de-posse-do-padre-antonio-manuel-sobral-2/
LOCATION:Igreja Paroquial de Vilar Seco\, Vilar Seco\, Vilar Seco\, Portugal
CATEGORIES:Bispo,Clero, Vocações e Vida Consagrada,Lembretes
END:VEVENT
BEGIN:VEVENT
DTSTART;TZID=Europe/Lisbon:20251019T113000
DTEND;TZID=Europe/Lisbon:20251019T113000
DTSTAMP:20260423T110407
CREATED:20251017T091448Z
LAST-MODIFIED:20251022T083400Z
UID:73996-1760873400-1760873400@diocesedeviseu.pt
SUMMARY:Celebração da Eucaristia na tomada de posse do Padre António Manuel Sobral
DESCRIPTION:
URL:https://diocesedeviseu.pt/evento/celebracao-da-eucaristia-na-tomada-de-posse-do-padre-antonio-manuel-sobral-3/
LOCATION:Igreja Paroquial de Nelas\, Nelas\, Nelas\, Portugal
END:VEVENT
BEGIN:VEVENT
DTSTART;TZID=Europe/Lisbon:20251019T150000
DTEND;TZID=Europe/Lisbon:20251019T150000
DTSTAMP:20260423T110407
CREATED:20251017T091628Z
LAST-MODIFIED:20251022T083611Z
UID:73998-1760886000-1760886000@diocesedeviseu.pt
SUMMARY:Celebração da Eucaristia na tomada de posse do Pároco Padre Ivan Babchuk
DESCRIPTION:
URL:https://diocesedeviseu.pt/evento/celebracao-da-eucaristia-na-tomada-de-posse-do-paroco-padre-ivan-babchuk/
LOCATION:Igreja Paroquial de Carvalhal Redondo\, Carvalhal Redondo\, Carvalhal Redondo\, Portugal
CATEGORIES:Bispo,Clero, Vocações e Vida Consagrada,Lembretes
END:VEVENT
BEGIN:VEVENT
DTSTART;TZID=Europe/Lisbon:20251021T100000
DTEND;TZID=Europe/Lisbon:20251021T100000
DTSTAMP:20260423T110407
CREATED:20251017T091715Z
LAST-MODIFIED:20251017T091715Z
UID:74001-1761040800-1761040800@diocesedeviseu.pt
SUMMARY:Encontro de trabalho anual dos Bispos da Província Eclesiástica de Braga e de Santiago de Compostela
DESCRIPTION:
URL:https://diocesedeviseu.pt/evento/encontro-de-trabalho-anual-dos-bispos-da-provincia-eclesiastica-de-braga-e-de-santiago-de-compostela/
LOCATION:Casa Episcopal Viseu\, Viseu\, Viseu\, Portugal
END:VEVENT
BEGIN:VEVENT
DTSTART;VALUE=DATE:20251023
DTEND;VALUE=DATE:20251027
DTSTAMP:20260423T110407
CREATED:20251017T091808Z
LAST-MODIFIED:20251017T091808Z
UID:74003-1761177600-1761523199@diocesedeviseu.pt
SUMMARY:Participação no Encontro do Jubileu das Equipas Sinodais
DESCRIPTION:
URL:https://diocesedeviseu.pt/evento/participacao-no-encontro-do-jubileu-das-equipas-sinodais/
LOCATION:Roma
END:VEVENT
BEGIN:VEVENT
DTSTART;VALUE=DATE:20251024
DTEND;VALUE=DATE:20251027
DTSTAMP:20260423T110407
CREATED:20251023T110454Z
LAST-MODIFIED:20251023T110454Z
UID:74139-1761264000-1761523199@diocesedeviseu.pt
SUMMARY:Participação no Jubileu das Equipas Sinodais
DESCRIPTION:
URL:https://diocesedeviseu.pt/evento/participacao-no-jubileu-das-equipas-sinodais/
LOCATION:Roma
END:VEVENT
BEGIN:VEVENT
DTSTART;VALUE=DATE:20251027
DTEND;VALUE=DATE:20251030
DTSTAMP:20260423T110407
CREATED:20251023T110614Z
LAST-MODIFIED:20251023T110614Z
UID:74141-1761523200-1761782399@diocesedeviseu.pt
SUMMARY:Encontro dos Bispos do Centro
DESCRIPTION:
URL:https://diocesedeviseu.pt/evento/encontro-dos-bispos-do-centro-5/
LOCATION:Espanha\, Espanha\, Espanha
END:VEVENT
BEGIN:VEVENT
DTSTART;TZID=Europe/Lisbon:20251028T203000
DTEND;TZID=Europe/Lisbon:20251028T203000
DTSTAMP:20260423T110407
CREATED:20251024T081910Z
LAST-MODIFIED:20251024T081910Z
UID:74166-1761683400-1761683400@diocesedeviseu.pt
SUMMARY:Missa de bênção e receção ao caloiro
DESCRIPTION:
URL:https://diocesedeviseu.pt/evento/missa-de-bencao-e-rececao-ao-caloiro/
LOCATION:Catedral de Viseu
END:VEVENT
BEGIN:VEVENT
DTSTART;TZID=Europe/Lisbon:20251030T103000
DTEND;TZID=Europe/Lisbon:20251030T110157
DTSTAMP:20260423T110407
CREATED:20251030T110157Z
LAST-MODIFIED:20251030T110157Z
UID:74291-1761820200-1761822117@diocesedeviseu.pt
SUMMARY:Reunião Arciprestal
DESCRIPTION:
URL:https://diocesedeviseu.pt/evento/reuniao-arciprestal-8/
LOCATION:Igreja do Complexo de Mangualde\, Mangualde\, Mangualde\, Portugal
END:VEVENT
BEGIN:VEVENT
DTSTART;TZID=Europe/Lisbon:20251031T170000
DTEND;TZID=Europe/Lisbon:20251031T170000
DTSTAMP:20260423T110407
CREATED:20251030T110343Z
LAST-MODIFIED:20251030T110343Z
UID:74293-1761930000-1761930000@diocesedeviseu.pt
SUMMARY:Tomada de posse do Presidente da Câmara de Viseu
DESCRIPTION:
URL:https://diocesedeviseu.pt/evento/tomada-de-posse-do-presidente-da-camara-de-viseu/
LOCATION:Salão Nobre dos Paços do Conselho\, Viseu\, Viseu
END:VEVENT
BEGIN:VEVENT
DTSTART;TZID=Europe/Lisbon:20251101T110000
DTEND;TZID=Europe/Lisbon:20251101T110000
DTSTAMP:20260423T110407
CREATED:20251030T110429Z
LAST-MODIFIED:20251030T110429Z
UID:74296-1761994800-1761994800@diocesedeviseu.pt
SUMMARY:Eucaristia da Solenidade de Todos os Santos
DESCRIPTION:
URL:https://diocesedeviseu.pt/evento/eucaristia-da-solenidade-de-todos-os-santos-3/
LOCATION:Catedral de Viseu
END:VEVENT
BEGIN:VEVENT
DTSTART;TZID=Europe/Lisbon:20251102T110000
DTEND;TZID=Europe/Lisbon:20251102T110000
DTSTAMP:20260423T110407
CREATED:20251030T110530Z
LAST-MODIFIED:20251030T110530Z
UID:74298-1762081200-1762081200@diocesedeviseu.pt
SUMMARY:Eucaristia dos Fiéis Defuntos
DESCRIPTION:
URL:https://diocesedeviseu.pt/evento/eucaristia-dos-fieis-defuntos/
LOCATION:Catedral de Viseu
END:VEVENT
BEGIN:VEVENT
DTSTART;VALUE=DATE:20251104
DTEND;VALUE=DATE:20251108
DTSTAMP:20260423T110407
CREATED:20251030T110611Z
LAST-MODIFIED:20251030T110611Z
UID:74300-1762214400-1762559999@diocesedeviseu.pt
SUMMARY:Retiro do Clero
DESCRIPTION:
URL:https://diocesedeviseu.pt/evento/retiro-do-clero-3/
LOCATION:Seminário de Viseu\, Viseu\, Viseu\, Portugal
END:VEVENT
BEGIN:VEVENT
DTSTART;TZID=Europe/Lisbon:20251106T170000
DTEND;TZID=Europe/Lisbon:20251106T170000
DTSTAMP:20260423T110407
CREATED:20251106T101832Z
LAST-MODIFIED:20251106T102656Z
UID:74448-1762448400-1762448400@diocesedeviseu.pt
SUMMARY:Entrega dos diplomas aos finalistas na Universidade Católica de Viseu
DESCRIPTION:
URL:https://diocesedeviseu.pt/evento/entrega-dos-diplomas-aos-finalistas-na-universidade-catolica-de-viseu/
LOCATION:UCP Viseu\, Viseu\, Viseu\, Portugal
END:VEVENT
BEGIN:VEVENT
DTSTART;VALUE=DATE:20251107
DTEND;VALUE=DATE:20251108
DTSTAMP:20260423T110407
CREATED:20251106T102735Z
LAST-MODIFIED:20251106T102735Z
UID:74450-1762473600-1762559999@diocesedeviseu.pt
SUMMARY:Reunião do Conselho Geral da Universidade Católica
DESCRIPTION:
URL:https://diocesedeviseu.pt/evento/reuniao-do-conselho-geral-da-universidade-catolica/
LOCATION:UCP Lisboa\, Lisboa\, Lisboa\, Portugal
END:VEVENT
BEGIN:VEVENT
DTSTART;TZID=Europe/Lisbon:20251107T183000
DTEND;TZID=Europe/Lisbon:20251107T183000
DTSTAMP:20260423T110407
CREATED:20251030T110844Z
LAST-MODIFIED:20251030T110844Z
UID:74305-1762540200-1762540200@diocesedeviseu.pt
SUMMARY:Encontro do Pré-Seminário
DESCRIPTION:
URL:https://diocesedeviseu.pt/evento/encontro-do-pre-seminario-5/
LOCATION:Seminário de Viseu\, Viseu\, Viseu\, Portugal
END:VEVENT
BEGIN:VEVENT
DTSTART;TZID=Europe/Lisbon:20251107T210000
DTEND;TZID=Europe/Lisbon:20251107T210000
DTSTAMP:20260423T110407
CREATED:20251030T110757Z
LAST-MODIFIED:20251030T110757Z
UID:74302-1762549200-1762549200@diocesedeviseu.pt
SUMMARY:Vigília de Oração - Semana dos Seminários
DESCRIPTION:
URL:https://diocesedeviseu.pt/evento/vigilia-de-oracao-semana-dos-seminarios/
LOCATION:Igreja de Santiago\, Viseu\, Viseu
END:VEVENT
BEGIN:VEVENT
DTSTART;TZID=Europe/Lisbon:20251108T120000
DTEND;TZID=Europe/Lisbon:20251108T120000
DTSTAMP:20260423T110407
CREATED:20251106T102828Z
LAST-MODIFIED:20251106T102828Z
UID:74452-1762603200-1762603200@diocesedeviseu.pt
SUMMARY:Conselho Diocesano da Ação Católica Rural
DESCRIPTION:
URL:https://diocesedeviseu.pt/evento/conselho-diocesano-da-acao-catolica-rural/
LOCATION:Centro Socio Pastoral\, Viseu\, Viseu\, Portugal
END:VEVENT
BEGIN:VEVENT
DTSTART;TZID=Europe/Lisbon:20251108T150000
DTEND;TZID=Europe/Lisbon:20251108T150000
DTSTAMP:20260423T110407
CREATED:20251106T102927Z
LAST-MODIFIED:20251106T102927Z
UID:74454-1762614000-1762614000@diocesedeviseu.pt
SUMMARY:Celebração da Eucaristia e Crisma
DESCRIPTION:
URL:https://diocesedeviseu.pt/evento/celebracao-da-eucaristia-e-crisma-21/
LOCATION:Igreja Paroquial de Alva\, Alva\, São Pedro do Sul
END:VEVENT
BEGIN:VEVENT
DTSTART;VALUE=DATE:20251109
DTEND;VALUE=DATE:20251110
DTSTAMP:20260423T110407
CREATED:20250312T111842Z
LAST-MODIFIED:20250312T111842Z
UID:69312-1762646400-1762732799@diocesedeviseu.pt
SUMMARY:Ofertório para o Seminário Diocesano
DESCRIPTION:
URL:https://diocesedeviseu.pt/evento/ofertorio-para-o-seminario-diocesano-2/
CATEGORIES:Lembretes
END:VEVENT
BEGIN:VEVENT
DTSTART;TZID=Europe/Lisbon:20251109T093000
DTEND;TZID=Europe/Lisbon:20251109T093000
DTSTAMP:20260423T110407
CREATED:20251106T103042Z
LAST-MODIFIED:20251106T103042Z
UID:74457-1762680600-1762680600@diocesedeviseu.pt
SUMMARY:Celebração da Eucaristia  e tomada de posse do padre Arnaldo Farinha
DESCRIPTION:
URL:https://diocesedeviseu.pt/evento/celebracao-da-eucaristia-e-tomada-de-posse-do-padre-arnaldo-farinha/
LOCATION:Igreja de Lobelhe\, Mangualde\, Mangualde
END:VEVENT
BEGIN:VEVENT
DTSTART;TZID=Europe/Lisbon:20251109T110000
DTEND;TZID=Europe/Lisbon:20251109T110000
DTSTAMP:20260423T110407
CREATED:20251106T103146Z
LAST-MODIFIED:20251106T103146Z
UID:74460-1762686000-1762686000@diocesedeviseu.pt
SUMMARY:Celebração da Eucaristia  e tomada de posse do padre Arnaldo Farinha
DESCRIPTION:
URL:https://diocesedeviseu.pt/evento/celebracao-da-eucaristia-e-tomada-de-posse-do-padre-arnaldo-farinha-2/
LOCATION:Igreja paroquial de Alcafache
END:VEVENT
BEGIN:VEVENT
DTSTART;TZID=Europe/Lisbon:20251109T150000
DTEND;TZID=Europe/Lisbon:20251109T150000
DTSTAMP:20260423T110407
CREATED:20251106T103228Z
LAST-MODIFIED:20251106T103228Z
UID:74463-1762700400-1762700400@diocesedeviseu.pt
SUMMARY:Celebração da Eucaristia  e tomada de posse do padre Arnaldo Farinha
DESCRIPTION:
URL:https://diocesedeviseu.pt/evento/celebracao-da-eucaristia-e-tomada-de-posse-do-padre-arnaldo-farinha-3/
LOCATION:Igreja de Espinho\, Mangualde\, Mangualde
END:VEVENT
BEGIN:VEVENT
DTSTART;VALUE=DATE:20251110
DTEND;VALUE=DATE:20251114
DTSTAMP:20260423T110407
CREATED:20251106T103320Z
LAST-MODIFIED:20251106T103320Z
UID:74466-1762732800-1763078399@diocesedeviseu.pt
SUMMARY:Participação na Assembleia da CEP
DESCRIPTION:
URL:https://diocesedeviseu.pt/evento/participacao-na-assembleia-da-cep/
LOCATION:Fátima\, Fátima\, Fátima\, Portugal
END:VEVENT
END:VCALENDAR