BEGIN:VCALENDAR
VERSION:2.0
PRODID:-//Diocese de Viseu - ECPv6.15.18//NONSGML v1.0//EN
CALSCALE:GREGORIAN
METHOD:PUBLISH
X-WR-CALNAME:Diocese de Viseu
X-ORIGINAL-URL:https://diocesedeviseu.pt
X-WR-CALDESC:Eventos para Diocese de Viseu
REFRESH-INTERVAL;VALUE=DURATION:PT1H
X-Robots-Tag:noindex
X-PUBLISHED-TTL:PT1H
BEGIN:VTIMEZONE
TZID:Europe/Lisbon
BEGIN:DAYLIGHT
TZOFFSETFROM:+0000
TZOFFSETTO:+0100
TZNAME:WEST
DTSTART:20250330T010000
END:DAYLIGHT
BEGIN:STANDARD
TZOFFSETFROM:+0100
TZOFFSETTO:+0000
TZNAME:WET
DTSTART:20251026T010000
END:STANDARD
BEGIN:DAYLIGHT
TZOFFSETFROM:+0000
TZOFFSETTO:+0100
TZNAME:WEST
DTSTART:20260329T010000
END:DAYLIGHT
BEGIN:STANDARD
TZOFFSETFROM:+0100
TZOFFSETTO:+0000
TZNAME:WET
DTSTART:20261025T010000
END:STANDARD
BEGIN:DAYLIGHT
TZOFFSETFROM:+0000
TZOFFSETTO:+0100
TZNAME:WEST
DTSTART:20270328T010000
END:DAYLIGHT
BEGIN:STANDARD
TZOFFSETFROM:+0100
TZOFFSETTO:+0000
TZNAME:WET
DTSTART:20271031T010000
END:STANDARD
END:VTIMEZONE
BEGIN:VEVENT
DTSTART;VALUE=DATE:20260326
DTEND;VALUE=DATE:20260327
DTSTAMP:20260421T060225
CREATED:20260325T105652Z
LAST-MODIFIED:20260325T105652Z
UID:78006-1774483200-1774569599@diocesedeviseu.pt
SUMMARY:Aniversário Natalício do Bispo
DESCRIPTION:
URL:https://diocesedeviseu.pt/evento/aniversario-natalicio-do-bispo/
END:VEVENT
BEGIN:VEVENT
DTSTART;VALUE=DATE:20260327
DTEND;VALUE=DATE:20260329
DTSTAMP:20260421T060225
CREATED:20260325T105613Z
LAST-MODIFIED:20260325T105613Z
UID:78004-1774569600-1774742399@diocesedeviseu.pt
SUMMARY:Encontro de Jovens da Academia Vocacional
DESCRIPTION:
URL:https://diocesedeviseu.pt/evento/encontro-de-jovens-da-academia-vocacional/
LOCATION:Seminário de Viseu\, Viseu\, Viseu\, Portugal
END:VEVENT
BEGIN:VEVENT
DTSTART;TZID=Europe/Lisbon:20260402T103000
DTEND;TZID=Europe/Lisbon:20260402T103000
DTSTAMP:20260421T060225
CREATED:20260325T105818Z
LAST-MODIFIED:20260325T105818Z
UID:78008-1775125800-1775125800@diocesedeviseu.pt
SUMMARY:Missa Crismal
DESCRIPTION:
URL:https://diocesedeviseu.pt/evento/missa-crismal-5/
LOCATION:Catedral de Viseu
END:VEVENT
BEGIN:VEVENT
DTSTART;TZID=Europe/Lisbon:20260402T180000
DTEND;TZID=Europe/Lisbon:20260402T180000
DTSTAMP:20260421T060225
CREATED:20260325T105907Z
LAST-MODIFIED:20260325T105907Z
UID:78010-1775152800-1775152800@diocesedeviseu.pt
SUMMARY:Celebração da Ceia do Senhor
DESCRIPTION:
URL:https://diocesedeviseu.pt/evento/celebracao-da-ceia-do-senhor-2/
LOCATION:Catedral de Viseu
END:VEVENT
BEGIN:VEVENT
DTSTART;TZID=Europe/Lisbon:20260402T213000
DTEND;TZID=Europe/Lisbon:20260402T213000
DTSTAMP:20260421T060225
CREATED:20260325T105958Z
LAST-MODIFIED:20260325T105958Z
UID:78013-1775165400-1775165400@diocesedeviseu.pt
SUMMARY:Hora Santa na Capela Tércia
DESCRIPTION:
URL:https://diocesedeviseu.pt/evento/hora-santa-na-capela-tercia-3/
LOCATION:Catedral de Viseu
END:VEVENT
BEGIN:VEVENT
DTSTART;TZID=Europe/Lisbon:20260403T100000
DTEND;TZID=Europe/Lisbon:20260403T100000
DTSTAMP:20260421T060225
CREATED:20260325T110034Z
LAST-MODIFIED:20260325T110034Z
UID:78015-1775210400-1775210400@diocesedeviseu.pt
SUMMARY:Ofício de Leitura e Laudes
DESCRIPTION:
URL:https://diocesedeviseu.pt/evento/oficio-de-leitura-e-laudes-9/
LOCATION:Catedral de Viseu
END:VEVENT
BEGIN:VEVENT
DTSTART;TZID=Europe/Lisbon:20260403T150000
DTEND;TZID=Europe/Lisbon:20260403T150000
DTSTAMP:20260421T060225
CREATED:20260325T110106Z
LAST-MODIFIED:20260325T110106Z
UID:78017-1775228400-1775228400@diocesedeviseu.pt
SUMMARY:Celebração da Paixão do Senhor
DESCRIPTION:
URL:https://diocesedeviseu.pt/evento/celebracao-da-paixao-do-senhor-3/
LOCATION:Catedral de Viseu
END:VEVENT
BEGIN:VEVENT
DTSTART;TZID=Europe/Lisbon:20260403T210000
DTEND;TZID=Europe/Lisbon:20260403T210000
DTSTAMP:20260421T060225
CREATED:20260325T110205Z
LAST-MODIFIED:20260325T110205Z
UID:78019-1775250000-1775250000@diocesedeviseu.pt
SUMMARY:Procissão do Enterro do Senhor (Igreja dos Terceiros/ Catedral)
DESCRIPTION:
URL:https://diocesedeviseu.pt/evento/procissao-do-enterro-do-senhor-igreja-dos-terceiros-catedral/
END:VEVENT
BEGIN:VEVENT
DTSTART;VALUE=DATE:20260409
DTEND;VALUE=DATE:20260411
DTSTAMP:20260421T060225
CREATED:20260409T165422Z
LAST-MODIFIED:20260409T165422Z
UID:78350-1775692800-1775865599@diocesedeviseu.pt
SUMMARY:Visita Pastoral
DESCRIPTION:
URL:https://diocesedeviseu.pt/evento/visita-pastoral-3/
LOCATION:Paróquia de Ranhados
END:VEVENT
BEGIN:VEVENT
DTSTART;TZID=Europe/Lisbon:20260412T090000
DTEND;TZID=Europe/Lisbon:20260412T090000
DTSTAMP:20260421T060225
CREATED:20260409T165807Z
LAST-MODIFIED:20260409T165807Z
UID:78357-1775984400-1775984400@diocesedeviseu.pt
SUMMARY:Celebração da Eucaristia
DESCRIPTION:
URL:https://diocesedeviseu.pt/evento/celebracao-da-eucaristia-28/
LOCATION:Convento de Santa Beatriz em Viseu\, Viseu\, Viseu\, Portugal
END:VEVENT
BEGIN:VEVENT
DTSTART;VALUE=DATE:20260413
DTEND;VALUE=DATE:20260417
DTSTAMP:20260421T060225
CREATED:20260409T165645Z
LAST-MODIFIED:20260409T165645Z
UID:78355-1776038400-1776383999@diocesedeviseu.pt
SUMMARY:Participação na Assembleia Plenária da CEP
DESCRIPTION:
URL:https://diocesedeviseu.pt/evento/participacao-na-assembleia-plenaria-da-cep-2/
LOCATION:Fátima\, Fátima\, Fátima\, Portugal
END:VEVENT
BEGIN:VEVENT
DTSTART;TZID=Europe/Lisbon:20260416T080000
DTEND;TZID=Europe/Lisbon:20260419T170000
DTSTAMP:20260421T060225
CREATED:20260409T165509Z
LAST-MODIFIED:20260409T165509Z
UID:78353-1776326400-1776618000@diocesedeviseu.pt
SUMMARY:Visita Pastoral
DESCRIPTION:
URL:https://diocesedeviseu.pt/evento/visita-pastoral-4/
LOCATION:Paróquia de Ranhados
END:VEVENT
BEGIN:VEVENT
DTSTART;TZID=Europe/Lisbon:20260418T180000
DTEND;TZID=Europe/Lisbon:20260418T180000
DTSTAMP:20260421T060225
CREATED:20260416T154940Z
LAST-MODIFIED:20260416T154940Z
UID:78510-1776535200-1776535200@diocesedeviseu.pt
SUMMARY:Celebração da Eucaristia e administração do Crisma
DESCRIPTION:
URL:https://diocesedeviseu.pt/evento/celebracao-da-eucaristia-e-administracao-do-crisma-5/
LOCATION:Igreja Madre Rita\, Ranhados\, Viseu\, Portugal
END:VEVENT
BEGIN:VEVENT
DTSTART;TZID=Europe/Lisbon:20260419T103000
DTEND;TZID=Europe/Lisbon:20260419T103000
DTSTAMP:20260421T060225
CREATED:20260416T155022Z
LAST-MODIFIED:20260416T155022Z
UID:78512-1776594600-1776594600@diocesedeviseu.pt
SUMMARY:Oração no cemitério velho e celebração da Eucaristia de encerramento
DESCRIPTION:
URL:https://diocesedeviseu.pt/evento/oracao-no-cemiterio-velho-e-celebracao-da-eucaristia-de-encerramento/
LOCATION:Igreja Madre Rita\, Ranhados\, Viseu\, Portugal
END:VEVENT
BEGIN:VEVENT
DTSTART;VALUE=DATE:20260420
DTEND;VALUE=DATE:20260427
DTSTAMP:20260421T060225
CREATED:20260416T155103Z
LAST-MODIFIED:20260416T155103Z
UID:78514-1776643200-1777247999@diocesedeviseu.pt
SUMMARY:Visita pastoral à Paróquia de Rio de Loba
DESCRIPTION:
URL:https://diocesedeviseu.pt/evento/visita-pastoral-a-paroquia-de-rio-de-loba/
END:VEVENT
BEGIN:VEVENT
DTSTART;VALUE=DATE:20260727
DTEND;VALUE=DATE:20260730
DTSTAMP:20260421T060225
CREATED:20260211T155312Z
LAST-MODIFIED:20260211T155401Z
UID:76913-1785110400-1785369599@diocesedeviseu.pt
SUMMARY:Peregrinação Diocesana
DESCRIPTION:
URL:https://diocesedeviseu.pt/evento/peregrinacao-diocesana/
LOCATION:Santiago de Compostela
END:VEVENT
END:VCALENDAR