BEGIN:VCALENDAR
VERSION:2.0
PRODID:-//Diocese de Viseu - ECPv6.15.18//NONSGML v1.0//EN
CALSCALE:GREGORIAN
METHOD:PUBLISH
X-ORIGINAL-URL:https://diocesedeviseu.pt
X-WR-CALDESC:Eventos para Diocese de Viseu
REFRESH-INTERVAL;VALUE=DURATION:PT1H
X-Robots-Tag:noindex
X-PUBLISHED-TTL:PT1H
BEGIN:VTIMEZONE
TZID:Europe/Lisbon
BEGIN:STANDARD
TZOFFSETFROM:+0100
TZOFFSETTO:+0000
TZNAME:WET
DTSTART:19760926T000000
END:STANDARD
BEGIN:DAYLIGHT
TZOFFSETFROM:+0000
TZOFFSETTO:+0100
TZNAME:WEST
DTSTART:19770327T000000
END:DAYLIGHT
BEGIN:STANDARD
TZOFFSETFROM:+0100
TZOFFSETTO:+0000
TZNAME:WET
DTSTART:19770925T000000
END:STANDARD
BEGIN:DAYLIGHT
TZOFFSETFROM:+0000
TZOFFSETTO:+0100
TZNAME:WEST
DTSTART:19780402T010000
END:DAYLIGHT
BEGIN:STANDARD
TZOFFSETFROM:+0100
TZOFFSETTO:+0000
TZNAME:WET
DTSTART:19781001T010000
END:STANDARD
BEGIN:DAYLIGHT
TZOFFSETFROM:+0000
TZOFFSETTO:+0100
TZNAME:WEST
DTSTART:19790401T010000
END:DAYLIGHT
BEGIN:STANDARD
TZOFFSETFROM:+0100
TZOFFSETTO:+0000
TZNAME:WET
DTSTART:19790930T010000
END:STANDARD
BEGIN:DAYLIGHT
TZOFFSETFROM:+0000
TZOFFSETTO:+0100
TZNAME:WEST
DTSTART:19800406T010000
END:DAYLIGHT
BEGIN:STANDARD
TZOFFSETFROM:+0100
TZOFFSETTO:+0000
TZNAME:WET
DTSTART:19800928T010000
END:STANDARD
BEGIN:DAYLIGHT
TZOFFSETFROM:+0000
TZOFFSETTO:+0100
TZNAME:WEST
DTSTART:19810329T000000
END:DAYLIGHT
BEGIN:STANDARD
TZOFFSETFROM:+0100
TZOFFSETTO:+0000
TZNAME:WET
DTSTART:19810927T000000
END:STANDARD
BEGIN:DAYLIGHT
TZOFFSETFROM:+0000
TZOFFSETTO:+0100
TZNAME:WEST
DTSTART:19820328T000000
END:DAYLIGHT
BEGIN:STANDARD
TZOFFSETFROM:+0100
TZOFFSETTO:+0000
TZNAME:WET
DTSTART:19820926T000000
END:STANDARD
BEGIN:DAYLIGHT
TZOFFSETFROM:+0000
TZOFFSETTO:+0100
TZNAME:WEST
DTSTART:19830327T000000
END:DAYLIGHT
BEGIN:STANDARD
TZOFFSETFROM:+0100
TZOFFSETTO:+0000
TZNAME:WET
DTSTART:19830925T000000
END:STANDARD
BEGIN:DAYLIGHT
TZOFFSETFROM:+0000
TZOFFSETTO:+0100
TZNAME:WEST
DTSTART:19840325T000000
END:DAYLIGHT
BEGIN:STANDARD
TZOFFSETFROM:+0100
TZOFFSETTO:+0000
TZNAME:WET
DTSTART:19840930T000000
END:STANDARD
BEGIN:DAYLIGHT
TZOFFSETFROM:+0000
TZOFFSETTO:+0100
TZNAME:WEST
DTSTART:19850331T000000
END:DAYLIGHT
BEGIN:STANDARD
TZOFFSETFROM:+0100
TZOFFSETTO:+0000
TZNAME:WET
DTSTART:19850929T000000
END:STANDARD
BEGIN:STANDARD
TZOFFSETFROM:+0000
TZOFFSETTO:+0000
TZNAME:WET
DTSTART:19860101T000000
END:STANDARD
BEGIN:DAYLIGHT
TZOFFSETFROM:+0000
TZOFFSETTO:+0100
TZNAME:WEST
DTSTART:19860330T010000
END:DAYLIGHT
BEGIN:STANDARD
TZOFFSETFROM:+0100
TZOFFSETTO:+0000
TZNAME:WET
DTSTART:19860928T010000
END:STANDARD
BEGIN:DAYLIGHT
TZOFFSETFROM:+0000
TZOFFSETTO:+0100
TZNAME:WEST
DTSTART:19870329T010000
END:DAYLIGHT
BEGIN:STANDARD
TZOFFSETFROM:+0100
TZOFFSETTO:+0000
TZNAME:WET
DTSTART:19870927T010000
END:STANDARD
BEGIN:DAYLIGHT
TZOFFSETFROM:+0000
TZOFFSETTO:+0100
TZNAME:WEST
DTSTART:19880327T010000
END:DAYLIGHT
BEGIN:STANDARD
TZOFFSETFROM:+0100
TZOFFSETTO:+0000
TZNAME:WET
DTSTART:19880925T010000
END:STANDARD
BEGIN:DAYLIGHT
TZOFFSETFROM:+0000
TZOFFSETTO:+0100
TZNAME:WEST
DTSTART:19890326T010000
END:DAYLIGHT
BEGIN:STANDARD
TZOFFSETFROM:+0100
TZOFFSETTO:+0000
TZNAME:WET
DTSTART:19890924T010000
END:STANDARD
BEGIN:DAYLIGHT
TZOFFSETFROM:+0000
TZOFFSETTO:+0100
TZNAME:WEST
DTSTART:19900325T010000
END:DAYLIGHT
BEGIN:STANDARD
TZOFFSETFROM:+0100
TZOFFSETTO:+0000
TZNAME:WET
DTSTART:19900930T010000
END:STANDARD
BEGIN:DAYLIGHT
TZOFFSETFROM:+0000
TZOFFSETTO:+0100
TZNAME:WEST
DTSTART:19910331T010000
END:DAYLIGHT
BEGIN:STANDARD
TZOFFSETFROM:+0100
TZOFFSETTO:+0000
TZNAME:WET
DTSTART:19910929T010000
END:STANDARD
BEGIN:DAYLIGHT
TZOFFSETFROM:+0000
TZOFFSETTO:+0100
TZNAME:WEST
DTSTART:19920329T010000
END:DAYLIGHT
BEGIN:STANDARD
TZOFFSETFROM:+0100
TZOFFSETTO:+0100
TZNAME:CET
DTSTART:19920927T010000
END:STANDARD
BEGIN:DAYLIGHT
TZOFFSETFROM:+0100
TZOFFSETTO:+0200
TZNAME:CEST
DTSTART:19930328T010000
END:DAYLIGHT
BEGIN:STANDARD
TZOFFSETFROM:+0200
TZOFFSETTO:+0100
TZNAME:CET
DTSTART:19930926T010000
END:STANDARD
BEGIN:DAYLIGHT
TZOFFSETFROM:+0100
TZOFFSETTO:+0200
TZNAME:CEST
DTSTART:19940327T010000
END:DAYLIGHT
BEGIN:STANDARD
TZOFFSETFROM:+0200
TZOFFSETTO:+0100
TZNAME:CET
DTSTART:19940925T010000
END:STANDARD
BEGIN:DAYLIGHT
TZOFFSETFROM:+0100
TZOFFSETTO:+0200
TZNAME:CEST
DTSTART:19950326T010000
END:DAYLIGHT
BEGIN:STANDARD
TZOFFSETFROM:+0200
TZOFFSETTO:+0100
TZNAME:CET
DTSTART:19950924T010000
END:STANDARD
BEGIN:DAYLIGHT
TZOFFSETFROM:+0100
TZOFFSETTO:+0100
TZNAME:WEST
DTSTART:19960331T010000
END:DAYLIGHT
BEGIN:STANDARD
TZOFFSETFROM:+0100
TZOFFSETTO:+0000
TZNAME:WET
DTSTART:19961027T010000
END:STANDARD
BEGIN:DAYLIGHT
TZOFFSETFROM:+0000
TZOFFSETTO:+0100
TZNAME:WEST
DTSTART:19970330T010000
END:DAYLIGHT
BEGIN:STANDARD
TZOFFSETFROM:+0100
TZOFFSETTO:+0000
TZNAME:WET
DTSTART:19971026T010000
END:STANDARD
BEGIN:DAYLIGHT
TZOFFSETFROM:+0000
TZOFFSETTO:+0100
TZNAME:WEST
DTSTART:19980329T010000
END:DAYLIGHT
BEGIN:STANDARD
TZOFFSETFROM:+0100
TZOFFSETTO:+0000
TZNAME:WET
DTSTART:19981025T010000
END:STANDARD
BEGIN:DAYLIGHT
TZOFFSETFROM:+0000
TZOFFSETTO:+0100
TZNAME:WEST
DTSTART:19990328T010000
END:DAYLIGHT
BEGIN:STANDARD
TZOFFSETFROM:+0100
TZOFFSETTO:+0000
TZNAME:WET
DTSTART:19991031T010000
END:STANDARD
BEGIN:DAYLIGHT
TZOFFSETFROM:+0000
TZOFFSETTO:+0100
TZNAME:WEST
DTSTART:20000326T010000
END:DAYLIGHT
BEGIN:STANDARD
TZOFFSETFROM:+0100
TZOFFSETTO:+0000
TZNAME:WET
DTSTART:20001029T010000
END:STANDARD
BEGIN:DAYLIGHT
TZOFFSETFROM:+0000
TZOFFSETTO:+0100
TZNAME:WEST
DTSTART:20010325T010000
END:DAYLIGHT
BEGIN:STANDARD
TZOFFSETFROM:+0100
TZOFFSETTO:+0000
TZNAME:WET
DTSTART:20011028T010000
END:STANDARD
BEGIN:DAYLIGHT
TZOFFSETFROM:+0000
TZOFFSETTO:+0100
TZNAME:WEST
DTSTART:20020331T010000
END:DAYLIGHT
BEGIN:STANDARD
TZOFFSETFROM:+0100
TZOFFSETTO:+0000
TZNAME:WET
DTSTART:20021027T010000
END:STANDARD
BEGIN:DAYLIGHT
TZOFFSETFROM:+0000
TZOFFSETTO:+0100
TZNAME:WEST
DTSTART:20030330T010000
END:DAYLIGHT
BEGIN:STANDARD
TZOFFSETFROM:+0100
TZOFFSETTO:+0000
TZNAME:WET
DTSTART:20031026T010000
END:STANDARD
BEGIN:DAYLIGHT
TZOFFSETFROM:+0000
TZOFFSETTO:+0100
TZNAME:WEST
DTSTART:20040328T010000
END:DAYLIGHT
BEGIN:STANDARD
TZOFFSETFROM:+0100
TZOFFSETTO:+0000
TZNAME:WET
DTSTART:20041031T010000
END:STANDARD
BEGIN:DAYLIGHT
TZOFFSETFROM:+0000
TZOFFSETTO:+0100
TZNAME:WEST
DTSTART:20050327T010000
END:DAYLIGHT
BEGIN:STANDARD
TZOFFSETFROM:+0100
TZOFFSETTO:+0000
TZNAME:WET
DTSTART:20051030T010000
END:STANDARD
BEGIN:DAYLIGHT
TZOFFSETFROM:+0000
TZOFFSETTO:+0100
TZNAME:WEST
DTSTART:20060326T010000
END:DAYLIGHT
BEGIN:STANDARD
TZOFFSETFROM:+0100
TZOFFSETTO:+0000
TZNAME:WET
DTSTART:20061029T010000
END:STANDARD
BEGIN:DAYLIGHT
TZOFFSETFROM:+0000
TZOFFSETTO:+0100
TZNAME:WEST
DTSTART:20070325T010000
END:DAYLIGHT
BEGIN:STANDARD
TZOFFSETFROM:+0100
TZOFFSETTO:+0000
TZNAME:WET
DTSTART:20071028T010000
END:STANDARD
BEGIN:DAYLIGHT
TZOFFSETFROM:+0000
TZOFFSETTO:+0100
TZNAME:WEST
DTSTART:20080330T010000
END:DAYLIGHT
BEGIN:STANDARD
TZOFFSETFROM:+0100
TZOFFSETTO:+0000
TZNAME:WET
DTSTART:20081026T010000
END:STANDARD
BEGIN:DAYLIGHT
TZOFFSETFROM:+0000
TZOFFSETTO:+0100
TZNAME:WEST
DTSTART:20090329T010000
END:DAYLIGHT
BEGIN:STANDARD
TZOFFSETFROM:+0100
TZOFFSETTO:+0000
TZNAME:WET
DTSTART:20091025T010000
END:STANDARD
BEGIN:DAYLIGHT
TZOFFSETFROM:+0000
TZOFFSETTO:+0100
TZNAME:WEST
DTSTART:20100328T010000
END:DAYLIGHT
BEGIN:STANDARD
TZOFFSETFROM:+0100
TZOFFSETTO:+0000
TZNAME:WET
DTSTART:20101031T010000
END:STANDARD
BEGIN:DAYLIGHT
TZOFFSETFROM:+0000
TZOFFSETTO:+0100
TZNAME:WEST
DTSTART:20110327T010000
END:DAYLIGHT
BEGIN:STANDARD
TZOFFSETFROM:+0100
TZOFFSETTO:+0000
TZNAME:WET
DTSTART:20111030T010000
END:STANDARD
BEGIN:DAYLIGHT
TZOFFSETFROM:+0000
TZOFFSETTO:+0100
TZNAME:WEST
DTSTART:20120325T010000
END:DAYLIGHT
BEGIN:STANDARD
TZOFFSETFROM:+0100
TZOFFSETTO:+0000
TZNAME:WET
DTSTART:20121028T010000
END:STANDARD
BEGIN:DAYLIGHT
TZOFFSETFROM:+0000
TZOFFSETTO:+0100
TZNAME:WEST
DTSTART:20130331T010000
END:DAYLIGHT
BEGIN:STANDARD
TZOFFSETFROM:+0100
TZOFFSETTO:+0000
TZNAME:WET
DTSTART:20131027T010000
END:STANDARD
BEGIN:DAYLIGHT
TZOFFSETFROM:+0000
TZOFFSETTO:+0100
TZNAME:WEST
DTSTART:20140330T010000
END:DAYLIGHT
BEGIN:STANDARD
TZOFFSETFROM:+0100
TZOFFSETTO:+0000
TZNAME:WET
DTSTART:20141026T010000
END:STANDARD
BEGIN:DAYLIGHT
TZOFFSETFROM:+0000
TZOFFSETTO:+0100
TZNAME:WEST
DTSTART:20150329T010000
END:DAYLIGHT
BEGIN:STANDARD
TZOFFSETFROM:+0100
TZOFFSETTO:+0000
TZNAME:WET
DTSTART:20151025T010000
END:STANDARD
BEGIN:DAYLIGHT
TZOFFSETFROM:+0000
TZOFFSETTO:+0100
TZNAME:WEST
DTSTART:20160327T010000
END:DAYLIGHT
BEGIN:STANDARD
TZOFFSETFROM:+0100
TZOFFSETTO:+0000
TZNAME:WET
DTSTART:20161030T010000
END:STANDARD
BEGIN:DAYLIGHT
TZOFFSETFROM:+0000
TZOFFSETTO:+0100
TZNAME:WEST
DTSTART:20170326T010000
END:DAYLIGHT
BEGIN:STANDARD
TZOFFSETFROM:+0100
TZOFFSETTO:+0000
TZNAME:WET
DTSTART:20171029T010000
END:STANDARD
BEGIN:DAYLIGHT
TZOFFSETFROM:+0000
TZOFFSETTO:+0100
TZNAME:WEST
DTSTART:20180325T010000
END:DAYLIGHT
BEGIN:STANDARD
TZOFFSETFROM:+0100
TZOFFSETTO:+0000
TZNAME:WET
DTSTART:20181028T010000
END:STANDARD
BEGIN:DAYLIGHT
TZOFFSETFROM:+0000
TZOFFSETTO:+0100
TZNAME:WEST
DTSTART:20190331T010000
END:DAYLIGHT
BEGIN:STANDARD
TZOFFSETFROM:+0100
TZOFFSETTO:+0000
TZNAME:WET
DTSTART:20191027T010000
END:STANDARD
BEGIN:DAYLIGHT
TZOFFSETFROM:+0000
TZOFFSETTO:+0100
TZNAME:WEST
DTSTART:20200329T010000
END:DAYLIGHT
BEGIN:STANDARD
TZOFFSETFROM:+0100
TZOFFSETTO:+0000
TZNAME:WET
DTSTART:20201025T010000
END:STANDARD
BEGIN:DAYLIGHT
TZOFFSETFROM:+0000
TZOFFSETTO:+0100
TZNAME:WEST
DTSTART:20210328T010000
END:DAYLIGHT
BEGIN:STANDARD
TZOFFSETFROM:+0100
TZOFFSETTO:+0000
TZNAME:WET
DTSTART:20211031T010000
END:STANDARD
BEGIN:DAYLIGHT
TZOFFSETFROM:+0000
TZOFFSETTO:+0100
TZNAME:WEST
DTSTART:20220327T010000
END:DAYLIGHT
BEGIN:STANDARD
TZOFFSETFROM:+0100
TZOFFSETTO:+0000
TZNAME:WET
DTSTART:20221030T010000
END:STANDARD
BEGIN:DAYLIGHT
TZOFFSETFROM:+0000
TZOFFSETTO:+0100
TZNAME:WEST
DTSTART:20230326T010000
END:DAYLIGHT
BEGIN:STANDARD
TZOFFSETFROM:+0100
TZOFFSETTO:+0000
TZNAME:WET
DTSTART:20231029T010000
END:STANDARD
BEGIN:DAYLIGHT
TZOFFSETFROM:+0000
TZOFFSETTO:+0100
TZNAME:WEST
DTSTART:20240331T010000
END:DAYLIGHT
BEGIN:STANDARD
TZOFFSETFROM:+0100
TZOFFSETTO:+0000
TZNAME:WET
DTSTART:20241027T010000
END:STANDARD
BEGIN:DAYLIGHT
TZOFFSETFROM:+0000
TZOFFSETTO:+0100
TZNAME:WEST
DTSTART:20250330T010000
END:DAYLIGHT
BEGIN:STANDARD
TZOFFSETFROM:+0100
TZOFFSETTO:+0000
TZNAME:WET
DTSTART:20251026T010000
END:STANDARD
BEGIN:DAYLIGHT
TZOFFSETFROM:+0000
TZOFFSETTO:+0100
TZNAME:WEST
DTSTART:20260329T010000
END:DAYLIGHT
BEGIN:STANDARD
TZOFFSETFROM:+0100
TZOFFSETTO:+0000
TZNAME:WET
DTSTART:20261025T010000
END:STANDARD
END:VTIMEZONE
BEGIN:VEVENT
DTSTART;TZID=Europe/Lisbon:20260424T171134
DTEND;TZID=Europe/Lisbon:20250102T152944
DTSTAMP:20260424T171134
CREATED:20250102T152944Z
LAST-MODIFIED:20250102T152944Z
UID:67640-0-1735831784@diocesedeviseu.pt
SUMMARY:Celebração da Eucaristia do aniversário da PSP
DESCRIPTION:
URL:https://diocesedeviseu.pt/evento/celebracao-da-eucaristia-do-aniversario-da-psp/
LOCATION:Sé de Viseu\, Sé\, Viseu\, 3500-163\, Portugal
END:VEVENT
BEGIN:VEVENT
DTSTART;TZID=Europe/Lisbon:20260424T171134
DTEND;TZID=Europe/Lisbon:20251023T110705
DTSTAMP:20260424T171134
CREATED:20251023T110704Z
LAST-MODIFIED:20251023T110704Z
UID:74144-0-1761217625@diocesedeviseu.pt
SUMMARY:Reunião do Arciprestado da Beira Alta
DESCRIPTION:
URL:https://diocesedeviseu.pt/evento/reuniao-do-arciprestado-da-beira-alta-9/
LOCATION:Complexo Paroquial de Mangualde\, Mangualde\, Mangualde\, Portugal
END:VEVENT
BEGIN:VEVENT
DTSTART;VALUE=DATE:20171007
DTEND;VALUE=DATE:20171009
DTSTAMP:20260424T171134
CREATED:20180516T131203Z
LAST-MODIFIED:20220328T210120Z
UID:36123-1507352400-1507438799@diocesedeviseu.pt
SUMMARY:I Encontro Diocesano de Pastoral Litúrgica
DESCRIPTION:
URL:https://diocesedeviseu.pt/evento/i-encontro-diocesano-de-pastoral-liturgica/
CATEGORIES:Evangelização, Culto e Cultura
END:VEVENT
BEGIN:VEVENT
DTSTART;TZID=Europe/Lisbon:20171014T093000
DTEND;TZID=Europe/Lisbon:20171014T120000
DTSTAMP:20260424T171134
CREATED:20180516T131203Z
LAST-MODIFIED:20220328T210120Z
UID:36125-1507973400-1507982400@diocesedeviseu.pt
SUMMARY:FÓRUM – Sínodo dos Bispos 2018\, Sobre os Jovens
DESCRIPTION:Para Catequistas de Crisma(n)dos\, Animadores de Jovens\, Chefes de Caminheiros e Pioneiros
URL:https://diocesedeviseu.pt/evento/forum-sinodo-dos-bispos-2018-sobre-os-jovens/
LOCATION:Auditório da Paróquia do Coração de Jesus\, Viseu
CATEGORIES:Evangelização, Culto e Cultura
END:VEVENT
BEGIN:VEVENT
DTSTART;TZID=Europe/Lisbon:20171018T180000
DTEND;TZID=Europe/Lisbon:20171018T190000
DTSTAMP:20260424T171134
CREATED:20180516T131203Z
LAST-MODIFIED:20220328T210120Z
UID:36127-1508349600-1508353200@diocesedeviseu.pt
SUMMARY:Missa de Acolhimento aos Caloiros – Pastoral Ensino Superior
DESCRIPTION:
URL:https://diocesedeviseu.pt/evento/missa-de-acolhimento-aos-caloiros-pastoral-ensino-superior/
LOCATION:Igreja do Carmo – Viseu\, Igreja do Carmo\, Viseu\, Portugal
CATEGORIES:Evangelização, Culto e Cultura
END:VEVENT
BEGIN:VEVENT
DTSTART;VALUE=DATE:20171021
DTEND;VALUE=DATE:20171023
DTSTAMP:20260424T171134
CREATED:20180516T131148Z
LAST-MODIFIED:20230408T064845Z
UID:36100-1508544000-1508716799@diocesedeviseu.pt
SUMMARY:40º Peregrinação do Pessoal de Saúde a Fátima (ACEPS)
DESCRIPTION:
URL:https://diocesedeviseu.pt/evento/40o-peregrinacao-do-pessoal-de-saude-a-fatima-aceps/
LOCATION:leiria\, Portugal\, 2495\, Portugal
END:VEVENT
BEGIN:VEVENT
DTSTART;VALUE=DATE:20171022
DTEND;VALUE=DATE:20171024
DTSTAMP:20260424T171134
CREATED:20180516T131203Z
LAST-MODIFIED:20220328T210120Z
UID:36128-1508648400-1508734799@diocesedeviseu.pt
SUMMARY:Dia Mundial das Missões
DESCRIPTION:
URL:https://diocesedeviseu.pt/evento/dia-mundial-das-missoes/
CATEGORIES:Evangelização, Culto e Cultura
END:VEVENT
BEGIN:VEVENT
DTSTART;TZID=Europe/Lisbon:20171022T093000
DTEND;TZID=Europe/Lisbon:20171022T163000
DTSTAMP:20260424T171134
CREATED:20180516T131204Z
LAST-MODIFIED:20220328T210120Z
UID:36130-1508664600-1508689800@diocesedeviseu.pt
SUMMARY:Dia Diocesano do Catequista (SDEC)
DESCRIPTION:
URL:https://diocesedeviseu.pt/evento/dia-diocesano-do-catequista-sdec/
LOCATION:Torredeita\, viseu\, Portugal\, Torredeita\, 3510\, Portugal
CATEGORIES:Evangelização, Culto e Cultura
END:VEVENT
BEGIN:VEVENT
DTSTART;VALUE=DATE:20171112
DTEND;VALUE=DATE:20171120
DTSTAMP:20260424T171134
CREATED:20180516T131220Z
LAST-MODIFIED:20230408T103146Z
UID:36156-1510444800-1511135999@diocesedeviseu.pt
SUMMARY:Semana dos Seminários
DESCRIPTION:
URL:https://diocesedeviseu.pt/evento/semana-dos-seminarios/
CATEGORIES:Clero, Vocações e Vida Consagrada
END:VEVENT
BEGIN:VEVENT
DTSTART;TZID=Europe/Lisbon:20171114T100000
DTEND;TZID=Europe/Lisbon:20171114T153000
DTSTAMP:20260424T171134
CREATED:20180516T131124Z
LAST-MODIFIED:20230408T070143Z
UID:36074-1510653600-1510673400@diocesedeviseu.pt
SUMMARY:Formação sobre a Plataforma Informática da Diocese
DESCRIPTION:
URL:https://diocesedeviseu.pt/evento/formacao-sobre-a-plataforma-informatica-da-diocese/
CATEGORIES:Lembretes
END:VEVENT
BEGIN:VEVENT
DTSTART;TZID=Europe/Lisbon:20171115T210000
DTEND;TZID=Europe/Lisbon:20171115T220000
DTSTAMP:20260424T171134
CREATED:20180516T131204Z
LAST-MODIFIED:20220328T210120Z
UID:36131-1510779600-1510783200@diocesedeviseu.pt
SUMMARY:Oração Taizé – Pastoral Ensino Superior
DESCRIPTION:
URL:https://diocesedeviseu.pt/evento/oracao-taize-pastoral-ensino-superior/
LOCATION:Igreja do Carmo – Viseu\, Igreja do Carmo\, Viseu\, Portugal
CATEGORIES:Evangelização, Culto e Cultura
END:VEVENT
BEGIN:VEVENT
DTSTART;VALUE=DATE:20171117
DTEND;VALUE=DATE:20171120
DTSTAMP:20260424T171134
CREATED:20180516T131230Z
LAST-MODIFIED:20230408T070142Z
UID:36164-1510876800-1511135999@diocesedeviseu.pt
SUMMARY:IV Encontro Nacional de Leigos
DESCRIPTION:
URL:https://diocesedeviseu.pt/evento/iv-encontro-nacional-de-leigos/
CATEGORIES:Vigararia da Pastoral
END:VEVENT
BEGIN:VEVENT
DTSTART;VALUE=DATE:20171119
DTEND;VALUE=DATE:20171120
DTSTAMP:20260424T171134
CREATED:20180516T131124Z
LAST-MODIFIED:20230408T070143Z
UID:36075-1511049600-1511135999@diocesedeviseu.pt
SUMMARY:Ofertório p/ Seminários Diocesanos
DESCRIPTION:
URL:https://diocesedeviseu.pt/evento/ofertorio-p-seminarios-diocesanos/
CATEGORIES:Lembretes
END:VEVENT
BEGIN:VEVENT
DTSTART;TZID=Europe/Lisbon:20171125T100000
DTEND;TZID=Europe/Lisbon:20171125T120000
DTSTAMP:20260424T171134
CREATED:20180516T131204Z
LAST-MODIFIED:20220328T210121Z
UID:36133-1511604000-1511611200@diocesedeviseu.pt
SUMMARY:Formação doc Catequese CEP-10h/12h Tondela e Carregal
DESCRIPTION:
URL:https://diocesedeviseu.pt/evento/formacao-doc-catequese-cep-10h-12h-tondela-e-carregal/
LOCATION:Tondela\, tondela\, Portugal\, Tondela\, 3460\, Portugal
CATEGORIES:Evangelização, Culto e Cultura
END:VEVENT
BEGIN:VEVENT
DTSTART;TZID=Europe/Lisbon:20171202T100000
DTEND;TZID=Europe/Lisbon:20171202T120000
DTSTAMP:20260424T171134
CREATED:20180516T131204Z
LAST-MODIFIED:20220328T210121Z
UID:36134-1512208800-1512216000@diocesedeviseu.pt
SUMMARY:Formação doc. Catequese CEP-10h/12h Besteiros e Sta. Comba Dão
DESCRIPTION:
URL:https://diocesedeviseu.pt/evento/formacao-doc-catequese-cep-10h-12h-besteiros-e-sta-comba-dao/
CATEGORIES:Evangelização, Culto e Cultura
END:VEVENT
BEGIN:VEVENT
DTSTART;VALUE=DATE:20171207
DTEND;VALUE=DATE:20171208
DTSTAMP:20260424T171134
CREATED:20180516T131148Z
LAST-MODIFIED:20230408T064845Z
UID:36101-1512604800-1512691199@diocesedeviseu.pt
SUMMARY:Encontro de Natal / Conferência: "A Família Cristã" (ACEPS)
DESCRIPTION:
URL:https://diocesedeviseu.pt/evento/encontro-de-natal-conferencia-a-familia-crista-aceps/
END:VEVENT
BEGIN:VEVENT
DTSTART;TZID=Europe/Lisbon:20180113T093000
DTEND;TZID=Europe/Lisbon:20180113T170000
DTSTAMP:20260424T171134
CREATED:20180516T131204Z
LAST-MODIFIED:20220328T210121Z
UID:36135-1515835800-1515862800@diocesedeviseu.pt
SUMMARY:28º Curso de Ministros Extraordinários da Comunhão
DESCRIPTION:
URL:https://diocesedeviseu.pt/evento/28o-curso-de-ministros-extraordinarios-da-comunhao/
LOCATION:Centro Pastoral Diocesano
CATEGORIES:Evangelização, Culto e Cultura
END:VEVENT
BEGIN:VEVENT
DTSTART;TZID=Europe/Lisbon:20180117T210000
DTEND;TZID=Europe/Lisbon:20180117T220000
DTSTAMP:20260424T171134
CREATED:20180516T131205Z
LAST-MODIFIED:20220328T210121Z
UID:36136-1516222800-1516226400@diocesedeviseu.pt
SUMMARY:1º Encontro Preparação para o Crisma – Pastoral Ensino Superior
DESCRIPTION:
URL:https://diocesedeviseu.pt/evento/1o-encontro-preparacao-para-o-crisma-pastoral-ensino-superior/
LOCATION:Igreja do Carmo – Viseu\, Igreja do Carmo\, Viseu\, Portugal
CATEGORIES:Evangelização, Culto e Cultura
END:VEVENT
BEGIN:VEVENT
DTSTART;TZID=Europe/Lisbon:20180120T093000
DTEND;TZID=Europe/Lisbon:20180120T170000
DTSTAMP:20260424T171134
CREATED:20180516T131205Z
LAST-MODIFIED:20220328T210121Z
UID:36137-1516440600-1516467600@diocesedeviseu.pt
SUMMARY:28º Curso de Ministros Extraordinários da Comunhão
DESCRIPTION:
URL:https://diocesedeviseu.pt/evento/28o-curso-de-ministros-extraordinarios-da-comunhao-2/
LOCATION:Centro Pastoral Diocesano
CATEGORIES:Evangelização, Culto e Cultura
END:VEVENT
BEGIN:VEVENT
DTSTART;VALUE=DATE:20180204
DTEND;VALUE=DATE:20180205
DTSTAMP:20260424T171134
CREATED:20180516T131125Z
LAST-MODIFIED:20230408T070143Z
UID:36077-1517702400-1517788799@diocesedeviseu.pt
SUMMARY:Ofertório para a Universidade Católica
DESCRIPTION:
URL:https://diocesedeviseu.pt/evento/ofertorio-para-a-universidade-catolica/
CATEGORIES:Lembretes
END:VEVENT
BEGIN:VEVENT
DTSTART;VALUE=DATE:20180208
DTEND;VALUE=DATE:20180210
DTSTAMP:20260424T171134
CREATED:20180516T131220Z
LAST-MODIFIED:20230408T103146Z
UID:36157-1518048000-1518220799@diocesedeviseu.pt
SUMMARY:Jornadas de Formação do Clero
DESCRIPTION:
URL:https://diocesedeviseu.pt/evento/jornadas-de-formacao-do-clero/
CATEGORIES:Clero, Vocações e Vida Consagrada
END:VEVENT
BEGIN:VEVENT
DTSTART;VALUE=DATE:20180210
DTEND;VALUE=DATE:20180211
DTSTAMP:20260424T171134
CREATED:20180516T131230Z
LAST-MODIFIED:20230408T070142Z
UID:36165-1518220800-1518307199@diocesedeviseu.pt
SUMMARY:Jornada de Formação para Leigos
DESCRIPTION:
URL:https://diocesedeviseu.pt/evento/jornada-de-formacao-para-leigos/
CATEGORIES:Vigararia da Pastoral
END:VEVENT
BEGIN:VEVENT
DTSTART;VALUE=DATE:20180214
DTEND;VALUE=DATE:20180215
DTSTAMP:20260424T171134
CREATED:20180516T131125Z
LAST-MODIFIED:20230408T070143Z
UID:36078-1518566400-1518652799@diocesedeviseu.pt
SUMMARY:CINZAS
DESCRIPTION:
URL:https://diocesedeviseu.pt/evento/cinzas/
CATEGORIES:Lembretes
END:VEVENT
BEGIN:VEVENT
DTSTART;VALUE=DATE:20180214
DTEND;VALUE=DATE:20180215
DTSTAMP:20260424T171134
CREATED:20180516T131220Z
LAST-MODIFIED:20230408T103146Z
UID:36158-1518566400-1518652799@diocesedeviseu.pt
SUMMARY:Dia de Reflexão para o Clero
DESCRIPTION:
URL:https://diocesedeviseu.pt/evento/dia-de-reflexao-para-o-clero/
CATEGORIES:Clero, Vocações e Vida Consagrada
END:VEVENT
BEGIN:VEVENT
DTSTART;TZID=Europe/Lisbon:20180217T210000
DTEND;TZID=Europe/Lisbon:20180217T213000
DTSTAMP:20260424T171134
CREATED:20180516T131206Z
LAST-MODIFIED:20220328T210121Z
UID:36139-1518901200-1518903000@diocesedeviseu.pt
SUMMARY:Concerto de S. Teotónio
DESCRIPTION:
URL:https://diocesedeviseu.pt/evento/concerto-de-s-teotonio/
CATEGORIES:Evangelização, Culto e Cultura
END:VEVENT
BEGIN:VEVENT
DTSTART;TZID=Europe/Lisbon:20180218T110000
DTEND;TZID=Europe/Lisbon:20180218T113000
DTSTAMP:20260424T171134
CREATED:20180516T131125Z
LAST-MODIFIED:20230408T070143Z
UID:36080-1518951600-1518953400@diocesedeviseu.pt
SUMMARY:São Teotónio – Padroeiro da Diocese
DESCRIPTION:Celebração na Sé\, presidida pelo Sr. Bispo\, D. Ilídio Leandro e animada pelo Coro de São Teotónio
URL:https://diocesedeviseu.pt/evento/sao-teotonio-padroeiro-da-diocese/
CATEGORIES:Lembretes
END:VEVENT
BEGIN:VEVENT
DTSTART;VALUE=DATE:20180224
DTEND;VALUE=DATE:20180225
DTSTAMP:20260424T171134
CREATED:20180516T131126Z
LAST-MODIFIED:20230408T070143Z
UID:36081-1519430400-1519516799@diocesedeviseu.pt
SUMMARY:Conselho Pastoral Diocesano
DESCRIPTION:
URL:https://diocesedeviseu.pt/evento/conselho-pastoral-diocesano-3/
CATEGORIES:Lembretes
END:VEVENT
BEGIN:VEVENT
DTSTART;TZID=Europe/Lisbon:20180225T143000
DTEND;TZID=Europe/Lisbon:20180225T170000
DTSTAMP:20260424T171134
CREATED:20180516T131206Z
LAST-MODIFIED:20220328T210121Z
UID:36140-1519569000-1519578000@diocesedeviseu.pt
SUMMARY:Encontro Diocesano | Preparação da Quaresma/Páscoa
DESCRIPTION:Para Leitores\, Cantores\, Organistas\, Bandas Filarmónicas\, Zeladoras dasIgrejas e Sacristães
URL:https://diocesedeviseu.pt/evento/encontro-diocesano-preparacao-da-quaresma-pascoa/
LOCATION:Centro Pastoral Diocesano
CATEGORIES:Evangelização, Culto e Cultura
END:VEVENT
BEGIN:VEVENT
DTSTART;TZID=Europe/Lisbon:20180227T093000
DTEND;TZID=Europe/Lisbon:20180227T153000
DTSTAMP:20260424T171134
CREATED:20180516T131126Z
LAST-MODIFIED:20230408T070143Z
UID:36084-1519723800-1519745400@diocesedeviseu.pt
SUMMARY:Conselho Presbiteral
DESCRIPTION:
URL:https://diocesedeviseu.pt/evento/conselho-presbiteral-2/
CATEGORIES:Lembretes
END:VEVENT
BEGIN:VEVENT
DTSTART;TZID=Europe/Lisbon:20180303T100000
DTEND;TZID=Europe/Lisbon:20180303T170000
DTSTAMP:20260424T171134
CREATED:20180516T131206Z
LAST-MODIFIED:20220328T210121Z
UID:36142-1520071200-1520096400@diocesedeviseu.pt
SUMMARY:Encontro Diocesano do Acólito
DESCRIPTION:
URL:https://diocesedeviseu.pt/evento/encontro-diocesano-do-acolito/
LOCATION:Castelo\, Portugal\, Castelo\, Portugal
CATEGORIES:Evangelização, Culto e Cultura
END:VEVENT
END:VCALENDAR