BEGIN:VCALENDAR
VERSION:2.0
PRODID:-//Diocese de Viseu - ECPv6.15.18//NONSGML v1.0//EN
CALSCALE:GREGORIAN
METHOD:PUBLISH
X-ORIGINAL-URL:https://diocesedeviseu.pt
X-WR-CALDESC:Eventos para Diocese de Viseu
REFRESH-INTERVAL;VALUE=DURATION:PT1H
X-Robots-Tag:noindex
X-PUBLISHED-TTL:PT1H
BEGIN:VTIMEZONE
TZID:Europe/Lisbon
BEGIN:STANDARD
TZOFFSETFROM:+0100
TZOFFSETTO:+0000
TZNAME:WET
DTSTART:19760926T000000
END:STANDARD
BEGIN:DAYLIGHT
TZOFFSETFROM:+0000
TZOFFSETTO:+0100
TZNAME:WEST
DTSTART:19770327T000000
END:DAYLIGHT
BEGIN:STANDARD
TZOFFSETFROM:+0100
TZOFFSETTO:+0000
TZNAME:WET
DTSTART:19770925T000000
END:STANDARD
BEGIN:DAYLIGHT
TZOFFSETFROM:+0000
TZOFFSETTO:+0100
TZNAME:WEST
DTSTART:19780402T010000
END:DAYLIGHT
BEGIN:STANDARD
TZOFFSETFROM:+0100
TZOFFSETTO:+0000
TZNAME:WET
DTSTART:19781001T010000
END:STANDARD
BEGIN:DAYLIGHT
TZOFFSETFROM:+0000
TZOFFSETTO:+0100
TZNAME:WEST
DTSTART:19790401T010000
END:DAYLIGHT
BEGIN:STANDARD
TZOFFSETFROM:+0100
TZOFFSETTO:+0000
TZNAME:WET
DTSTART:19790930T010000
END:STANDARD
BEGIN:DAYLIGHT
TZOFFSETFROM:+0000
TZOFFSETTO:+0100
TZNAME:WEST
DTSTART:19800406T010000
END:DAYLIGHT
BEGIN:STANDARD
TZOFFSETFROM:+0100
TZOFFSETTO:+0000
TZNAME:WET
DTSTART:19800928T010000
END:STANDARD
BEGIN:DAYLIGHT
TZOFFSETFROM:+0000
TZOFFSETTO:+0100
TZNAME:WEST
DTSTART:19810329T000000
END:DAYLIGHT
BEGIN:STANDARD
TZOFFSETFROM:+0100
TZOFFSETTO:+0000
TZNAME:WET
DTSTART:19810927T000000
END:STANDARD
BEGIN:DAYLIGHT
TZOFFSETFROM:+0000
TZOFFSETTO:+0100
TZNAME:WEST
DTSTART:19820328T000000
END:DAYLIGHT
BEGIN:STANDARD
TZOFFSETFROM:+0100
TZOFFSETTO:+0000
TZNAME:WET
DTSTART:19820926T000000
END:STANDARD
BEGIN:DAYLIGHT
TZOFFSETFROM:+0000
TZOFFSETTO:+0100
TZNAME:WEST
DTSTART:19830327T000000
END:DAYLIGHT
BEGIN:STANDARD
TZOFFSETFROM:+0100
TZOFFSETTO:+0000
TZNAME:WET
DTSTART:19830925T000000
END:STANDARD
BEGIN:DAYLIGHT
TZOFFSETFROM:+0000
TZOFFSETTO:+0100
TZNAME:WEST
DTSTART:19840325T000000
END:DAYLIGHT
BEGIN:STANDARD
TZOFFSETFROM:+0100
TZOFFSETTO:+0000
TZNAME:WET
DTSTART:19840930T000000
END:STANDARD
BEGIN:DAYLIGHT
TZOFFSETFROM:+0000
TZOFFSETTO:+0100
TZNAME:WEST
DTSTART:19850331T000000
END:DAYLIGHT
BEGIN:STANDARD
TZOFFSETFROM:+0100
TZOFFSETTO:+0000
TZNAME:WET
DTSTART:19850929T000000
END:STANDARD
BEGIN:STANDARD
TZOFFSETFROM:+0000
TZOFFSETTO:+0000
TZNAME:WET
DTSTART:19860101T000000
END:STANDARD
BEGIN:DAYLIGHT
TZOFFSETFROM:+0000
TZOFFSETTO:+0100
TZNAME:WEST
DTSTART:19860330T010000
END:DAYLIGHT
BEGIN:STANDARD
TZOFFSETFROM:+0100
TZOFFSETTO:+0000
TZNAME:WET
DTSTART:19860928T010000
END:STANDARD
BEGIN:DAYLIGHT
TZOFFSETFROM:+0000
TZOFFSETTO:+0100
TZNAME:WEST
DTSTART:19870329T010000
END:DAYLIGHT
BEGIN:STANDARD
TZOFFSETFROM:+0100
TZOFFSETTO:+0000
TZNAME:WET
DTSTART:19870927T010000
END:STANDARD
BEGIN:DAYLIGHT
TZOFFSETFROM:+0000
TZOFFSETTO:+0100
TZNAME:WEST
DTSTART:19880327T010000
END:DAYLIGHT
BEGIN:STANDARD
TZOFFSETFROM:+0100
TZOFFSETTO:+0000
TZNAME:WET
DTSTART:19880925T010000
END:STANDARD
BEGIN:DAYLIGHT
TZOFFSETFROM:+0000
TZOFFSETTO:+0100
TZNAME:WEST
DTSTART:19890326T010000
END:DAYLIGHT
BEGIN:STANDARD
TZOFFSETFROM:+0100
TZOFFSETTO:+0000
TZNAME:WET
DTSTART:19890924T010000
END:STANDARD
BEGIN:DAYLIGHT
TZOFFSETFROM:+0000
TZOFFSETTO:+0100
TZNAME:WEST
DTSTART:19900325T010000
END:DAYLIGHT
BEGIN:STANDARD
TZOFFSETFROM:+0100
TZOFFSETTO:+0000
TZNAME:WET
DTSTART:19900930T010000
END:STANDARD
BEGIN:DAYLIGHT
TZOFFSETFROM:+0000
TZOFFSETTO:+0100
TZNAME:WEST
DTSTART:19910331T010000
END:DAYLIGHT
BEGIN:STANDARD
TZOFFSETFROM:+0100
TZOFFSETTO:+0000
TZNAME:WET
DTSTART:19910929T010000
END:STANDARD
BEGIN:DAYLIGHT
TZOFFSETFROM:+0000
TZOFFSETTO:+0100
TZNAME:WEST
DTSTART:19920329T010000
END:DAYLIGHT
BEGIN:STANDARD
TZOFFSETFROM:+0100
TZOFFSETTO:+0100
TZNAME:CET
DTSTART:19920927T010000
END:STANDARD
BEGIN:DAYLIGHT
TZOFFSETFROM:+0100
TZOFFSETTO:+0200
TZNAME:CEST
DTSTART:19930328T010000
END:DAYLIGHT
BEGIN:STANDARD
TZOFFSETFROM:+0200
TZOFFSETTO:+0100
TZNAME:CET
DTSTART:19930926T010000
END:STANDARD
BEGIN:DAYLIGHT
TZOFFSETFROM:+0100
TZOFFSETTO:+0200
TZNAME:CEST
DTSTART:19940327T010000
END:DAYLIGHT
BEGIN:STANDARD
TZOFFSETFROM:+0200
TZOFFSETTO:+0100
TZNAME:CET
DTSTART:19940925T010000
END:STANDARD
BEGIN:DAYLIGHT
TZOFFSETFROM:+0100
TZOFFSETTO:+0200
TZNAME:CEST
DTSTART:19950326T010000
END:DAYLIGHT
BEGIN:STANDARD
TZOFFSETFROM:+0200
TZOFFSETTO:+0100
TZNAME:CET
DTSTART:19950924T010000
END:STANDARD
BEGIN:DAYLIGHT
TZOFFSETFROM:+0100
TZOFFSETTO:+0100
TZNAME:WEST
DTSTART:19960331T010000
END:DAYLIGHT
BEGIN:STANDARD
TZOFFSETFROM:+0100
TZOFFSETTO:+0000
TZNAME:WET
DTSTART:19961027T010000
END:STANDARD
BEGIN:DAYLIGHT
TZOFFSETFROM:+0000
TZOFFSETTO:+0100
TZNAME:WEST
DTSTART:19970330T010000
END:DAYLIGHT
BEGIN:STANDARD
TZOFFSETFROM:+0100
TZOFFSETTO:+0000
TZNAME:WET
DTSTART:19971026T010000
END:STANDARD
BEGIN:DAYLIGHT
TZOFFSETFROM:+0000
TZOFFSETTO:+0100
TZNAME:WEST
DTSTART:19980329T010000
END:DAYLIGHT
BEGIN:STANDARD
TZOFFSETFROM:+0100
TZOFFSETTO:+0000
TZNAME:WET
DTSTART:19981025T010000
END:STANDARD
BEGIN:DAYLIGHT
TZOFFSETFROM:+0000
TZOFFSETTO:+0100
TZNAME:WEST
DTSTART:19990328T010000
END:DAYLIGHT
BEGIN:STANDARD
TZOFFSETFROM:+0100
TZOFFSETTO:+0000
TZNAME:WET
DTSTART:19991031T010000
END:STANDARD
BEGIN:DAYLIGHT
TZOFFSETFROM:+0000
TZOFFSETTO:+0100
TZNAME:WEST
DTSTART:20000326T010000
END:DAYLIGHT
BEGIN:STANDARD
TZOFFSETFROM:+0100
TZOFFSETTO:+0000
TZNAME:WET
DTSTART:20001029T010000
END:STANDARD
BEGIN:DAYLIGHT
TZOFFSETFROM:+0000
TZOFFSETTO:+0100
TZNAME:WEST
DTSTART:20010325T010000
END:DAYLIGHT
BEGIN:STANDARD
TZOFFSETFROM:+0100
TZOFFSETTO:+0000
TZNAME:WET
DTSTART:20011028T010000
END:STANDARD
BEGIN:DAYLIGHT
TZOFFSETFROM:+0000
TZOFFSETTO:+0100
TZNAME:WEST
DTSTART:20020331T010000
END:DAYLIGHT
BEGIN:STANDARD
TZOFFSETFROM:+0100
TZOFFSETTO:+0000
TZNAME:WET
DTSTART:20021027T010000
END:STANDARD
BEGIN:DAYLIGHT
TZOFFSETFROM:+0000
TZOFFSETTO:+0100
TZNAME:WEST
DTSTART:20030330T010000
END:DAYLIGHT
BEGIN:STANDARD
TZOFFSETFROM:+0100
TZOFFSETTO:+0000
TZNAME:WET
DTSTART:20031026T010000
END:STANDARD
BEGIN:DAYLIGHT
TZOFFSETFROM:+0000
TZOFFSETTO:+0100
TZNAME:WEST
DTSTART:20040328T010000
END:DAYLIGHT
BEGIN:STANDARD
TZOFFSETFROM:+0100
TZOFFSETTO:+0000
TZNAME:WET
DTSTART:20041031T010000
END:STANDARD
BEGIN:DAYLIGHT
TZOFFSETFROM:+0000
TZOFFSETTO:+0100
TZNAME:WEST
DTSTART:20050327T010000
END:DAYLIGHT
BEGIN:STANDARD
TZOFFSETFROM:+0100
TZOFFSETTO:+0000
TZNAME:WET
DTSTART:20051030T010000
END:STANDARD
BEGIN:DAYLIGHT
TZOFFSETFROM:+0000
TZOFFSETTO:+0100
TZNAME:WEST
DTSTART:20060326T010000
END:DAYLIGHT
BEGIN:STANDARD
TZOFFSETFROM:+0100
TZOFFSETTO:+0000
TZNAME:WET
DTSTART:20061029T010000
END:STANDARD
BEGIN:DAYLIGHT
TZOFFSETFROM:+0000
TZOFFSETTO:+0100
TZNAME:WEST
DTSTART:20070325T010000
END:DAYLIGHT
BEGIN:STANDARD
TZOFFSETFROM:+0100
TZOFFSETTO:+0000
TZNAME:WET
DTSTART:20071028T010000
END:STANDARD
BEGIN:DAYLIGHT
TZOFFSETFROM:+0000
TZOFFSETTO:+0100
TZNAME:WEST
DTSTART:20080330T010000
END:DAYLIGHT
BEGIN:STANDARD
TZOFFSETFROM:+0100
TZOFFSETTO:+0000
TZNAME:WET
DTSTART:20081026T010000
END:STANDARD
BEGIN:DAYLIGHT
TZOFFSETFROM:+0000
TZOFFSETTO:+0100
TZNAME:WEST
DTSTART:20090329T010000
END:DAYLIGHT
BEGIN:STANDARD
TZOFFSETFROM:+0100
TZOFFSETTO:+0000
TZNAME:WET
DTSTART:20091025T010000
END:STANDARD
BEGIN:DAYLIGHT
TZOFFSETFROM:+0000
TZOFFSETTO:+0100
TZNAME:WEST
DTSTART:20100328T010000
END:DAYLIGHT
BEGIN:STANDARD
TZOFFSETFROM:+0100
TZOFFSETTO:+0000
TZNAME:WET
DTSTART:20101031T010000
END:STANDARD
BEGIN:DAYLIGHT
TZOFFSETFROM:+0000
TZOFFSETTO:+0100
TZNAME:WEST
DTSTART:20110327T010000
END:DAYLIGHT
BEGIN:STANDARD
TZOFFSETFROM:+0100
TZOFFSETTO:+0000
TZNAME:WET
DTSTART:20111030T010000
END:STANDARD
BEGIN:DAYLIGHT
TZOFFSETFROM:+0000
TZOFFSETTO:+0100
TZNAME:WEST
DTSTART:20120325T010000
END:DAYLIGHT
BEGIN:STANDARD
TZOFFSETFROM:+0100
TZOFFSETTO:+0000
TZNAME:WET
DTSTART:20121028T010000
END:STANDARD
BEGIN:DAYLIGHT
TZOFFSETFROM:+0000
TZOFFSETTO:+0100
TZNAME:WEST
DTSTART:20130331T010000
END:DAYLIGHT
BEGIN:STANDARD
TZOFFSETFROM:+0100
TZOFFSETTO:+0000
TZNAME:WET
DTSTART:20131027T010000
END:STANDARD
BEGIN:DAYLIGHT
TZOFFSETFROM:+0000
TZOFFSETTO:+0100
TZNAME:WEST
DTSTART:20140330T010000
END:DAYLIGHT
BEGIN:STANDARD
TZOFFSETFROM:+0100
TZOFFSETTO:+0000
TZNAME:WET
DTSTART:20141026T010000
END:STANDARD
BEGIN:DAYLIGHT
TZOFFSETFROM:+0000
TZOFFSETTO:+0100
TZNAME:WEST
DTSTART:20150329T010000
END:DAYLIGHT
BEGIN:STANDARD
TZOFFSETFROM:+0100
TZOFFSETTO:+0000
TZNAME:WET
DTSTART:20151025T010000
END:STANDARD
BEGIN:DAYLIGHT
TZOFFSETFROM:+0000
TZOFFSETTO:+0100
TZNAME:WEST
DTSTART:20160327T010000
END:DAYLIGHT
BEGIN:STANDARD
TZOFFSETFROM:+0100
TZOFFSETTO:+0000
TZNAME:WET
DTSTART:20161030T010000
END:STANDARD
BEGIN:DAYLIGHT
TZOFFSETFROM:+0000
TZOFFSETTO:+0100
TZNAME:WEST
DTSTART:20170326T010000
END:DAYLIGHT
BEGIN:STANDARD
TZOFFSETFROM:+0100
TZOFFSETTO:+0000
TZNAME:WET
DTSTART:20171029T010000
END:STANDARD
BEGIN:DAYLIGHT
TZOFFSETFROM:+0000
TZOFFSETTO:+0100
TZNAME:WEST
DTSTART:20180325T010000
END:DAYLIGHT
BEGIN:STANDARD
TZOFFSETFROM:+0100
TZOFFSETTO:+0000
TZNAME:WET
DTSTART:20181028T010000
END:STANDARD
BEGIN:DAYLIGHT
TZOFFSETFROM:+0000
TZOFFSETTO:+0100
TZNAME:WEST
DTSTART:20190331T010000
END:DAYLIGHT
BEGIN:STANDARD
TZOFFSETFROM:+0100
TZOFFSETTO:+0000
TZNAME:WET
DTSTART:20191027T010000
END:STANDARD
BEGIN:DAYLIGHT
TZOFFSETFROM:+0000
TZOFFSETTO:+0100
TZNAME:WEST
DTSTART:20200329T010000
END:DAYLIGHT
BEGIN:STANDARD
TZOFFSETFROM:+0100
TZOFFSETTO:+0000
TZNAME:WET
DTSTART:20201025T010000
END:STANDARD
BEGIN:DAYLIGHT
TZOFFSETFROM:+0000
TZOFFSETTO:+0100
TZNAME:WEST
DTSTART:20210328T010000
END:DAYLIGHT
BEGIN:STANDARD
TZOFFSETFROM:+0100
TZOFFSETTO:+0000
TZNAME:WET
DTSTART:20211031T010000
END:STANDARD
BEGIN:DAYLIGHT
TZOFFSETFROM:+0000
TZOFFSETTO:+0100
TZNAME:WEST
DTSTART:20220327T010000
END:DAYLIGHT
BEGIN:STANDARD
TZOFFSETFROM:+0100
TZOFFSETTO:+0000
TZNAME:WET
DTSTART:20221030T010000
END:STANDARD
BEGIN:DAYLIGHT
TZOFFSETFROM:+0000
TZOFFSETTO:+0100
TZNAME:WEST
DTSTART:20230326T010000
END:DAYLIGHT
BEGIN:STANDARD
TZOFFSETFROM:+0100
TZOFFSETTO:+0000
TZNAME:WET
DTSTART:20231029T010000
END:STANDARD
BEGIN:DAYLIGHT
TZOFFSETFROM:+0000
TZOFFSETTO:+0100
TZNAME:WEST
DTSTART:20240331T010000
END:DAYLIGHT
BEGIN:STANDARD
TZOFFSETFROM:+0100
TZOFFSETTO:+0000
TZNAME:WET
DTSTART:20241027T010000
END:STANDARD
BEGIN:DAYLIGHT
TZOFFSETFROM:+0000
TZOFFSETTO:+0100
TZNAME:WEST
DTSTART:20250330T010000
END:DAYLIGHT
BEGIN:STANDARD
TZOFFSETFROM:+0100
TZOFFSETTO:+0000
TZNAME:WET
DTSTART:20251026T010000
END:STANDARD
BEGIN:DAYLIGHT
TZOFFSETFROM:+0000
TZOFFSETTO:+0100
TZNAME:WEST
DTSTART:20260329T010000
END:DAYLIGHT
BEGIN:STANDARD
TZOFFSETFROM:+0100
TZOFFSETTO:+0000
TZNAME:WET
DTSTART:20261025T010000
END:STANDARD
END:VTIMEZONE
BEGIN:VEVENT
DTSTART;TZID=Europe/Lisbon:20260423T024103
DTEND;TZID=Europe/Lisbon:20250102T152944
DTSTAMP:20260423T024103
CREATED:20250102T152944Z
LAST-MODIFIED:20250102T152944Z
UID:67640-0-1735831784@diocesedeviseu.pt
SUMMARY:Celebração da Eucaristia do aniversário da PSP
DESCRIPTION:
URL:https://diocesedeviseu.pt/evento/celebracao-da-eucaristia-do-aniversario-da-psp/
LOCATION:Sé de Viseu\, Sé\, Viseu\, 3500-163\, Portugal
END:VEVENT
BEGIN:VEVENT
DTSTART;TZID=Europe/Lisbon:20260423T024103
DTEND;TZID=Europe/Lisbon:20251023T110705
DTSTAMP:20260423T024103
CREATED:20251023T110704Z
LAST-MODIFIED:20251023T110704Z
UID:74144-0-1761217625@diocesedeviseu.pt
SUMMARY:Reunião do Arciprestado da Beira Alta
DESCRIPTION:
URL:https://diocesedeviseu.pt/evento/reuniao-do-arciprestado-da-beira-alta-9/
LOCATION:Complexo Paroquial de Mangualde\, Mangualde\, Mangualde\, Portugal
END:VEVENT
BEGIN:VEVENT
DTSTART;VALUE=DATE:20230325
DTEND;VALUE=DATE:20230326
DTSTAMP:20260423T024103
CREATED:20230130T100206Z
LAST-MODIFIED:20230130T100206Z
UID:53999-1679702400-1679788799@diocesedeviseu.pt
SUMMARY:Solenidade da Anunciação do Senhor
DESCRIPTION:
URL:https://diocesedeviseu.pt/evento/solenidade-da-anunciacao-do-senhor-2/
CATEGORIES:Lembretes
END:VEVENT
BEGIN:VEVENT
DTSTART;TZID=Europe/Lisbon:20230325T210000
DTEND;TZID=Europe/Lisbon:20230325T210000
DTSTAMP:20260423T024103
CREATED:20230322T233436Z
LAST-MODIFIED:20230322T234005Z
UID:54460-1679778000-1679778000@diocesedeviseu.pt
SUMMARY:Vigília de oração JMJ
DESCRIPTION:
URL:https://diocesedeviseu.pt/evento/vigilia-de-oracao-jmj/
LOCATION:Capela da Casa de Jesus\, Maria e José
CATEGORIES:Bispo,Lembretes
END:VEVENT
BEGIN:VEVENT
DTSTART;VALUE=DATE:20230326
DTEND;VALUE=DATE:20230327
DTSTAMP:20260423T024103
CREATED:20230130T101005Z
LAST-MODIFIED:20230130T101113Z
UID:54013-1679788800-1679875199@diocesedeviseu.pt
SUMMARY:Aniversário de D. António Luciano
DESCRIPTION:
URL:https://diocesedeviseu.pt/evento/aniversario-de-d-antonio-luciano/
CATEGORIES:Bispo,Lembretes
END:VEVENT
BEGIN:VEVENT
DTSTART;TZID=Europe/Lisbon:20230327T180000
DTEND;TZID=Europe/Lisbon:20230327T180000
DTSTAMP:20260423T024103
CREATED:20230322T233549Z
LAST-MODIFIED:20230322T233549Z
UID:54462-1679940000-1679940000@diocesedeviseu.pt
SUMMARY:Eucaristia de Ação de Graças no aniversário da morte de D. António dos Santos\, que foi Bispo da Guarda
DESCRIPTION:
URL:https://diocesedeviseu.pt/evento/eucaristia-de-acao-de-gracas-no-aniversario-da-morte-de-d-antonio-dos-santos-que-foi-bispo-da-guarda/
LOCATION:Santo António de Vagos
CATEGORIES:Bispo
END:VEVENT
BEGIN:VEVENT
DTSTART;TZID=Europe/Lisbon:20230328T160000
DTEND;TZID=Europe/Lisbon:20230328T160000
DTSTAMP:20260423T024103
CREATED:20230322T233639Z
LAST-MODIFIED:20230322T233639Z
UID:54465-1680019200-1680019200@diocesedeviseu.pt
SUMMARY:Eucaristia presidida por D. Rui Valério no dia da Unidade RI 14 - Viseu
DESCRIPTION:
URL:https://diocesedeviseu.pt/evento/eucaristia-presidida-por-d-rui-valerio-no-dia-da-unidade-ri-14-viseu/
LOCATION:Catedral de Viseu
CATEGORIES:Bispo
END:VEVENT
BEGIN:VEVENT
DTSTART;TZID=Europe/Lisbon:20230329T210000
DTEND;TZID=Europe/Lisbon:20230329T210000
DTSTAMP:20260423T024103
CREATED:20230322T233743Z
LAST-MODIFIED:20230322T234125Z
UID:54467-1680123600-1680123600@diocesedeviseu.pt
SUMMARY:Catequese Quaresmal orientada por D. António Luciano
DESCRIPTION:
URL:https://diocesedeviseu.pt/evento/catequese-quaresmal-3/
LOCATION:Catedral de Viseu
CATEGORIES:Bispo,Evangelização, Culto e Cultura,Lembretes
END:VEVENT
BEGIN:VEVENT
DTSTART;TZID=Europe/Lisbon:20230330T103000
DTEND;TZID=Europe/Lisbon:20230330T103000
DTSTAMP:20260423T024103
CREATED:20230330T090249Z
LAST-MODIFIED:20230330T090249Z
UID:54516-1680172200-1680172200@diocesedeviseu.pt
SUMMARY:Reunião no Seminário Interdiocesano de São José
DESCRIPTION:
URL:https://diocesedeviseu.pt/evento/reuniao-no-seminario-interdiocesano-de-sao-jose/
LOCATION:Braga
CATEGORIES:Bispo
END:VEVENT
BEGIN:VEVENT
DTSTART;VALUE=DATE:20230331
DTEND;VALUE=DATE:20230402
DTSTAMP:20260423T024103
CREATED:20230130T095905Z
LAST-MODIFIED:20230130T095905Z
UID:53994-1680220800-1680393599@diocesedeviseu.pt
SUMMARY:Peregrinação do 9º Ano a Santiago de Compostela
DESCRIPTION:
URL:https://diocesedeviseu.pt/evento/peregrinacao-do-9o-ano-a-santiago-de-compostela/
CATEGORIES:Evangelização, Culto e Cultura
END:VEVENT
BEGIN:VEVENT
DTSTART;TZID=Europe/Lisbon:20230331T150000
DTEND;TZID=Europe/Lisbon:20230331T150000
DTSTAMP:20260423T024103
CREATED:20230330T090404Z
LAST-MODIFIED:20230330T090422Z
UID:54518-1680274800-1680274800@diocesedeviseu.pt
SUMMARY:Apresentação de livro do Frei Herculano Alves
DESCRIPTION:
URL:https://diocesedeviseu.pt/evento/apresentacao-do-livro-do-frei-herculano-alves/
LOCATION:Misericordia de Viseu
CATEGORIES:Bispo
END:VEVENT
BEGIN:VEVENT
DTSTART;TZID=Europe/Lisbon:20230401T183000
DTEND;TZID=Europe/Lisbon:20230401T183000
DTSTAMP:20260423T024103
CREATED:20230330T090538Z
LAST-MODIFIED:20230330T090538Z
UID:54522-1680373800-1680373800@diocesedeviseu.pt
SUMMARY:Eucaristia
DESCRIPTION:
URL:https://diocesedeviseu.pt/evento/eucaristia-7/
LOCATION:Igreja Beata Madre Rita
CATEGORIES:Bispo
END:VEVENT
BEGIN:VEVENT
DTSTART;VALUE=DATE:20230402
DTEND;VALUE=DATE:20230403
DTSTAMP:20260423T024103
CREATED:20230130T100314Z
LAST-MODIFIED:20230130T100314Z
UID:54001-1680393600-1680479999@diocesedeviseu.pt
SUMMARY:Domingo de Ramos na Paixão do Senhor
DESCRIPTION:
URL:https://diocesedeviseu.pt/evento/domingo-de-ramos-na-paixao-do-senhor/
CATEGORIES:Lembretes
END:VEVENT
BEGIN:VEVENT
DTSTART;VALUE=DATE:20230402
DTEND;VALUE=DATE:20230403
DTSTAMP:20260423T024103
CREATED:20230130T101846Z
LAST-MODIFIED:20230130T101846Z
UID:54017-1680393600-1680479999@diocesedeviseu.pt
SUMMARY:Entrega da Renúncia Quaresmal
DESCRIPTION:
URL:https://diocesedeviseu.pt/evento/entrega-da-renuncia-quaresmal-2/
CATEGORIES:Lembretes
END:VEVENT
BEGIN:VEVENT
DTSTART;TZID=Europe/Lisbon:20230402T104500
DTEND;TZID=Europe/Lisbon:20230402T104500
DTSTAMP:20260423T024103
CREATED:20230330T090641Z
LAST-MODIFIED:20230330T090641Z
UID:54525-1680432300-1680432300@diocesedeviseu.pt
SUMMARY:Bênção dos Ramos e celebração da Eucaristia
DESCRIPTION:
URL:https://diocesedeviseu.pt/evento/bencao-dos-ramos-e-celebracao-da-eucaristia/
LOCATION:Catedral de Viseu
CATEGORIES:Bispo,Lembretes
END:VEVENT
BEGIN:VEVENT
DTSTART;TZID=Europe/Lisbon:20230406T103000
DTEND;TZID=Europe/Lisbon:20230406T120000
DTSTAMP:20260423T024103
CREATED:20230130T100446Z
LAST-MODIFIED:20230130T100446Z
UID:54003-1680777000-1680782400@diocesedeviseu.pt
SUMMARY:Quinta Feira Santa – Missa Crismal
DESCRIPTION:
URL:https://diocesedeviseu.pt/evento/quinta-feira-santa-missa-crismal/
LOCATION:Catedral de Viseu
CATEGORIES:Clero, Vocações e Vida Consagrada,Lembretes
END:VEVENT
BEGIN:VEVENT
DTSTART;TZID=Europe/Lisbon:20230406T180000
DTEND;TZID=Europe/Lisbon:20230406T180000
DTSTAMP:20260423T024103
CREATED:20230130T100549Z
LAST-MODIFIED:20230130T100549Z
UID:54005-1680804000-1680804000@diocesedeviseu.pt
SUMMARY:Quinta Feira Santa – Missa Vespertina da Ceia do Senhor
DESCRIPTION:
URL:https://diocesedeviseu.pt/evento/quinta-feira-santa-missa-vespertina-da-ceia-do-senhor/
LOCATION:Catedral de Viseu
CATEGORIES:Bispo,Lembretes
END:VEVENT
BEGIN:VEVENT
DTSTART;VALUE=DATE:20230407
DTEND;VALUE=DATE:20230408
DTSTAMP:20260423T024103
CREATED:20230130T101454Z
LAST-MODIFIED:20230130T101512Z
UID:54015-1680825600-1680911999@diocesedeviseu.pt
SUMMARY:Ofertas para os Lugares Santos de Jerusalém
DESCRIPTION:
URL:https://diocesedeviseu.pt/evento/ofertas-para-os-lugares-santos-de-jerusalem-4/
CATEGORIES:Lembretes
END:VEVENT
BEGIN:VEVENT
DTSTART;TZID=Europe/Lisbon:20230407T150000
DTEND;TZID=Europe/Lisbon:20230407T150000
DTSTAMP:20260423T024103
CREATED:20230130T100645Z
LAST-MODIFIED:20230130T100645Z
UID:54007-1680879600-1680879600@diocesedeviseu.pt
SUMMARY:Sexta Feira da Paixão do Senhor
DESCRIPTION:
URL:https://diocesedeviseu.pt/evento/sexta-feira-da-paixao-do-senhor-2/
LOCATION:Catedral de Viseu
CATEGORIES:Bispo,Lembretes
END:VEVENT
BEGIN:VEVENT
DTSTART;TZID=Europe/Lisbon:20230407T210000
DTEND;TZID=Europe/Lisbon:20230407T210000
DTSTAMP:20260423T024103
CREATED:20230330T091251Z
LAST-MODIFIED:20230330T091251Z
UID:54531-1680901200-1680901200@diocesedeviseu.pt
SUMMARY:Procissão do Enterro do Senhor
DESCRIPTION:Início:\nIgreja dos Terceiros – largo General Humberto\nDelgado – rua Dr. Luís Ferreira – praça D. Duarte – Catedral de Viseu. \nRegresso:\nCatedral – largo Pintor Gata – rua Nunes de Carvalho – Rossio – Igreja dos Terceiros.
URL:https://diocesedeviseu.pt/evento/procissao-do-enterro-do-senhor/
LOCATION:Início na Igreja dos Terceiros
CATEGORIES:Bispo,Lembretes
END:VEVENT
BEGIN:VEVENT
DTSTART;TZID=Europe/Lisbon:20230408T220000
DTEND;TZID=Europe/Lisbon:20230408T220000
DTSTAMP:20260423T024103
CREATED:20230130T100751Z
LAST-MODIFIED:20230130T100751Z
UID:54009-1680991200-1680991200@diocesedeviseu.pt
SUMMARY:Vigília Pascal
DESCRIPTION:
URL:https://diocesedeviseu.pt/evento/vigilia-pascal-4/
LOCATION:Catedral de Viseu
CATEGORIES:Bispo,Lembretes
END:VEVENT
BEGIN:VEVENT
DTSTART;VALUE=DATE:20230409
DTEND;VALUE=DATE:20230410
DTSTAMP:20260423T024103
CREATED:20230130T100842Z
LAST-MODIFIED:20230130T100842Z
UID:54011-1680998400-1681084799@diocesedeviseu.pt
SUMMARY:Domingo de Páscoa da Ressurreição do Senhor
DESCRIPTION:
URL:https://diocesedeviseu.pt/evento/domingo-de-pascoa-da-ressurreicao-do-senhor-2/
CATEGORIES:Lembretes
END:VEVENT
BEGIN:VEVENT
DTSTART;VALUE=DATE:20230412
DTEND;VALUE=DATE:20230415
DTSTAMP:20260423T024103
CREATED:20230410T180108Z
LAST-MODIFIED:20230410T180108Z
UID:54687-1681257600-1681516799@diocesedeviseu.pt
SUMMARY:60º Encontro Nacional de Catequese
DESCRIPTION:
URL:https://diocesedeviseu.pt/evento/60o-encontro-nacional-de-catequese/
LOCATION:Seminário Maior de Viseu
CATEGORIES:Evangelização, Culto e Cultura,Lembretes
END:VEVENT
BEGIN:VEVENT
DTSTART;TZID=Europe/Lisbon:20230413T190000
DTEND;TZID=Europe/Lisbon:20230413T190000
DTSTAMP:20260423T024103
CREATED:20230413T100230Z
LAST-MODIFIED:20230413T100230Z
UID:54750-1681412400-1681412400@diocesedeviseu.pt
SUMMARY:Eucaristia do Encontro Nacional de Catequese
DESCRIPTION:
URL:https://diocesedeviseu.pt/evento/eucaristia-do-encontro-nacional-de-catequese/
LOCATION:Catedral de Viseu
CATEGORIES:Bispo,Lembretes
END:VEVENT
BEGIN:VEVENT
DTSTART;TZID=Europe/Lisbon:20230415T120000
DTEND;TZID=Europe/Lisbon:20230415T120000
DTSTAMP:20260423T024103
CREATED:20230413T100624Z
LAST-MODIFIED:20230413T102407Z
UID:54752-1681560000-1681560000@diocesedeviseu.pt
SUMMARY:Eucaristia de renovação de votos
DESCRIPTION:
URL:https://diocesedeviseu.pt/evento/eucaristia-de-renovacao-de-votos/
LOCATION:Convento de Santa Beatriz – Viseu
CATEGORIES:Lembretes
END:VEVENT
BEGIN:VEVENT
DTSTART;VALUE=DATE:20230417
DTEND;VALUE=DATE:20230421
DTSTAMP:20260423T024103
CREATED:20230413T100758Z
LAST-MODIFIED:20230413T100758Z
UID:54756-1681689600-1682035199@diocesedeviseu.pt
SUMMARY:Participação na Assembleia Ordinária da CEP
DESCRIPTION:
URL:https://diocesedeviseu.pt/evento/participacao-na-assembleia-ordinaria-da-cep/
LOCATION:Fátima\, Fátima\, Fátima\, Portugal
CATEGORIES:Bispo
END:VEVENT
BEGIN:VEVENT
DTSTART;VALUE=DATE:20230418
DTEND;VALUE=DATE:20230419
DTSTAMP:20260423T024103
CREATED:20230410T180225Z
LAST-MODIFIED:20230410T180225Z
UID:54689-1681776000-1681862399@diocesedeviseu.pt
SUMMARY:Dia Internacional dos Monumentos e Sítios
DESCRIPTION:
URL:https://diocesedeviseu.pt/evento/dia-internacional-dos-monumentos-e-sitios/
CATEGORIES:Lembretes
END:VEVENT
BEGIN:VEVENT
DTSTART;TZID=Europe/Lisbon:20230418T210000
DTEND;TZID=Europe/Lisbon:20230418T210000
DTSTAMP:20260423T024103
CREATED:20221017T212851Z
LAST-MODIFIED:20221017T212851Z
UID:53683-1681851600-1681851600@diocesedeviseu.pt
SUMMARY:Oração de Taizé
DESCRIPTION:
URL:https://diocesedeviseu.pt/evento/oracao-de-taize-7/
LOCATION:Igreja dos Terceiros – Viseu
CATEGORIES:Lembretes
END:VEVENT
BEGIN:VEVENT
DTSTART;VALUE=DATE:20230421
DTEND;VALUE=DATE:20230423
DTSTAMP:20260423T024103
CREATED:20230410T180317Z
LAST-MODIFIED:20230410T180337Z
UID:54691-1682035200-1682207999@diocesedeviseu.pt
SUMMARY:Encontro Nacional do Ensino Secundário – EMRC
DESCRIPTION:
URL:https://diocesedeviseu.pt/evento/encontro-nacional-do-ensino-secundario/
CATEGORIES:Lembretes
END:VEVENT
BEGIN:VEVENT
DTSTART;VALUE=DATE:20230423
DTEND;VALUE=DATE:20230501
DTSTAMP:20260423T024103
CREATED:20230410T224209Z
LAST-MODIFIED:20230410T224209Z
UID:54700-1682208000-1682899199@diocesedeviseu.pt
SUMMARY:Semana da Oração pelas Vocações
DESCRIPTION:
URL:https://diocesedeviseu.pt/evento/semana-da-oracao-pelas-vocacoes/
CATEGORIES:Clero, Vocações e Vida Consagrada,Lembretes
END:VEVENT
END:VCALENDAR