BEGIN:VCALENDAR
VERSION:2.0
PRODID:-//Diocese de Viseu - ECPv6.15.18//NONSGML v1.0//EN
CALSCALE:GREGORIAN
METHOD:PUBLISH
X-ORIGINAL-URL:https://diocesedeviseu.pt
X-WR-CALDESC:Eventos para Diocese de Viseu
REFRESH-INTERVAL;VALUE=DURATION:PT1H
X-Robots-Tag:noindex
X-PUBLISHED-TTL:PT1H
BEGIN:VTIMEZONE
TZID:Europe/Lisbon
BEGIN:STANDARD
TZOFFSETFROM:+0100
TZOFFSETTO:+0000
TZNAME:WET
DTSTART:19760926T000000
END:STANDARD
BEGIN:DAYLIGHT
TZOFFSETFROM:+0000
TZOFFSETTO:+0100
TZNAME:WEST
DTSTART:19770327T000000
END:DAYLIGHT
BEGIN:STANDARD
TZOFFSETFROM:+0100
TZOFFSETTO:+0000
TZNAME:WET
DTSTART:19770925T000000
END:STANDARD
BEGIN:DAYLIGHT
TZOFFSETFROM:+0000
TZOFFSETTO:+0100
TZNAME:WEST
DTSTART:19780402T010000
END:DAYLIGHT
BEGIN:STANDARD
TZOFFSETFROM:+0100
TZOFFSETTO:+0000
TZNAME:WET
DTSTART:19781001T010000
END:STANDARD
BEGIN:DAYLIGHT
TZOFFSETFROM:+0000
TZOFFSETTO:+0100
TZNAME:WEST
DTSTART:19790401T010000
END:DAYLIGHT
BEGIN:STANDARD
TZOFFSETFROM:+0100
TZOFFSETTO:+0000
TZNAME:WET
DTSTART:19790930T010000
END:STANDARD
BEGIN:DAYLIGHT
TZOFFSETFROM:+0000
TZOFFSETTO:+0100
TZNAME:WEST
DTSTART:19800406T010000
END:DAYLIGHT
BEGIN:STANDARD
TZOFFSETFROM:+0100
TZOFFSETTO:+0000
TZNAME:WET
DTSTART:19800928T010000
END:STANDARD
BEGIN:DAYLIGHT
TZOFFSETFROM:+0000
TZOFFSETTO:+0100
TZNAME:WEST
DTSTART:19810329T000000
END:DAYLIGHT
BEGIN:STANDARD
TZOFFSETFROM:+0100
TZOFFSETTO:+0000
TZNAME:WET
DTSTART:19810927T000000
END:STANDARD
BEGIN:DAYLIGHT
TZOFFSETFROM:+0000
TZOFFSETTO:+0100
TZNAME:WEST
DTSTART:19820328T000000
END:DAYLIGHT
BEGIN:STANDARD
TZOFFSETFROM:+0100
TZOFFSETTO:+0000
TZNAME:WET
DTSTART:19820926T000000
END:STANDARD
BEGIN:DAYLIGHT
TZOFFSETFROM:+0000
TZOFFSETTO:+0100
TZNAME:WEST
DTSTART:19830327T000000
END:DAYLIGHT
BEGIN:STANDARD
TZOFFSETFROM:+0100
TZOFFSETTO:+0000
TZNAME:WET
DTSTART:19830925T000000
END:STANDARD
BEGIN:DAYLIGHT
TZOFFSETFROM:+0000
TZOFFSETTO:+0100
TZNAME:WEST
DTSTART:19840325T000000
END:DAYLIGHT
BEGIN:STANDARD
TZOFFSETFROM:+0100
TZOFFSETTO:+0000
TZNAME:WET
DTSTART:19840930T000000
END:STANDARD
BEGIN:DAYLIGHT
TZOFFSETFROM:+0000
TZOFFSETTO:+0100
TZNAME:WEST
DTSTART:19850331T000000
END:DAYLIGHT
BEGIN:STANDARD
TZOFFSETFROM:+0100
TZOFFSETTO:+0000
TZNAME:WET
DTSTART:19850929T000000
END:STANDARD
BEGIN:STANDARD
TZOFFSETFROM:+0000
TZOFFSETTO:+0000
TZNAME:WET
DTSTART:19860101T000000
END:STANDARD
BEGIN:DAYLIGHT
TZOFFSETFROM:+0000
TZOFFSETTO:+0100
TZNAME:WEST
DTSTART:19860330T010000
END:DAYLIGHT
BEGIN:STANDARD
TZOFFSETFROM:+0100
TZOFFSETTO:+0000
TZNAME:WET
DTSTART:19860928T010000
END:STANDARD
BEGIN:DAYLIGHT
TZOFFSETFROM:+0000
TZOFFSETTO:+0100
TZNAME:WEST
DTSTART:19870329T010000
END:DAYLIGHT
BEGIN:STANDARD
TZOFFSETFROM:+0100
TZOFFSETTO:+0000
TZNAME:WET
DTSTART:19870927T010000
END:STANDARD
BEGIN:DAYLIGHT
TZOFFSETFROM:+0000
TZOFFSETTO:+0100
TZNAME:WEST
DTSTART:19880327T010000
END:DAYLIGHT
BEGIN:STANDARD
TZOFFSETFROM:+0100
TZOFFSETTO:+0000
TZNAME:WET
DTSTART:19880925T010000
END:STANDARD
BEGIN:DAYLIGHT
TZOFFSETFROM:+0000
TZOFFSETTO:+0100
TZNAME:WEST
DTSTART:19890326T010000
END:DAYLIGHT
BEGIN:STANDARD
TZOFFSETFROM:+0100
TZOFFSETTO:+0000
TZNAME:WET
DTSTART:19890924T010000
END:STANDARD
BEGIN:DAYLIGHT
TZOFFSETFROM:+0000
TZOFFSETTO:+0100
TZNAME:WEST
DTSTART:19900325T010000
END:DAYLIGHT
BEGIN:STANDARD
TZOFFSETFROM:+0100
TZOFFSETTO:+0000
TZNAME:WET
DTSTART:19900930T010000
END:STANDARD
BEGIN:DAYLIGHT
TZOFFSETFROM:+0000
TZOFFSETTO:+0100
TZNAME:WEST
DTSTART:19910331T010000
END:DAYLIGHT
BEGIN:STANDARD
TZOFFSETFROM:+0100
TZOFFSETTO:+0000
TZNAME:WET
DTSTART:19910929T010000
END:STANDARD
BEGIN:DAYLIGHT
TZOFFSETFROM:+0000
TZOFFSETTO:+0100
TZNAME:WEST
DTSTART:19920329T010000
END:DAYLIGHT
BEGIN:STANDARD
TZOFFSETFROM:+0100
TZOFFSETTO:+0100
TZNAME:CET
DTSTART:19920927T010000
END:STANDARD
BEGIN:DAYLIGHT
TZOFFSETFROM:+0100
TZOFFSETTO:+0200
TZNAME:CEST
DTSTART:19930328T010000
END:DAYLIGHT
BEGIN:STANDARD
TZOFFSETFROM:+0200
TZOFFSETTO:+0100
TZNAME:CET
DTSTART:19930926T010000
END:STANDARD
BEGIN:DAYLIGHT
TZOFFSETFROM:+0100
TZOFFSETTO:+0200
TZNAME:CEST
DTSTART:19940327T010000
END:DAYLIGHT
BEGIN:STANDARD
TZOFFSETFROM:+0200
TZOFFSETTO:+0100
TZNAME:CET
DTSTART:19940925T010000
END:STANDARD
BEGIN:DAYLIGHT
TZOFFSETFROM:+0100
TZOFFSETTO:+0200
TZNAME:CEST
DTSTART:19950326T010000
END:DAYLIGHT
BEGIN:STANDARD
TZOFFSETFROM:+0200
TZOFFSETTO:+0100
TZNAME:CET
DTSTART:19950924T010000
END:STANDARD
BEGIN:DAYLIGHT
TZOFFSETFROM:+0100
TZOFFSETTO:+0100
TZNAME:WEST
DTSTART:19960331T010000
END:DAYLIGHT
BEGIN:STANDARD
TZOFFSETFROM:+0100
TZOFFSETTO:+0000
TZNAME:WET
DTSTART:19961027T010000
END:STANDARD
BEGIN:DAYLIGHT
TZOFFSETFROM:+0000
TZOFFSETTO:+0100
TZNAME:WEST
DTSTART:19970330T010000
END:DAYLIGHT
BEGIN:STANDARD
TZOFFSETFROM:+0100
TZOFFSETTO:+0000
TZNAME:WET
DTSTART:19971026T010000
END:STANDARD
BEGIN:DAYLIGHT
TZOFFSETFROM:+0000
TZOFFSETTO:+0100
TZNAME:WEST
DTSTART:19980329T010000
END:DAYLIGHT
BEGIN:STANDARD
TZOFFSETFROM:+0100
TZOFFSETTO:+0000
TZNAME:WET
DTSTART:19981025T010000
END:STANDARD
BEGIN:DAYLIGHT
TZOFFSETFROM:+0000
TZOFFSETTO:+0100
TZNAME:WEST
DTSTART:19990328T010000
END:DAYLIGHT
BEGIN:STANDARD
TZOFFSETFROM:+0100
TZOFFSETTO:+0000
TZNAME:WET
DTSTART:19991031T010000
END:STANDARD
BEGIN:DAYLIGHT
TZOFFSETFROM:+0000
TZOFFSETTO:+0100
TZNAME:WEST
DTSTART:20000326T010000
END:DAYLIGHT
BEGIN:STANDARD
TZOFFSETFROM:+0100
TZOFFSETTO:+0000
TZNAME:WET
DTSTART:20001029T010000
END:STANDARD
BEGIN:DAYLIGHT
TZOFFSETFROM:+0000
TZOFFSETTO:+0100
TZNAME:WEST
DTSTART:20010325T010000
END:DAYLIGHT
BEGIN:STANDARD
TZOFFSETFROM:+0100
TZOFFSETTO:+0000
TZNAME:WET
DTSTART:20011028T010000
END:STANDARD
BEGIN:DAYLIGHT
TZOFFSETFROM:+0000
TZOFFSETTO:+0100
TZNAME:WEST
DTSTART:20020331T010000
END:DAYLIGHT
BEGIN:STANDARD
TZOFFSETFROM:+0100
TZOFFSETTO:+0000
TZNAME:WET
DTSTART:20021027T010000
END:STANDARD
BEGIN:DAYLIGHT
TZOFFSETFROM:+0000
TZOFFSETTO:+0100
TZNAME:WEST
DTSTART:20030330T010000
END:DAYLIGHT
BEGIN:STANDARD
TZOFFSETFROM:+0100
TZOFFSETTO:+0000
TZNAME:WET
DTSTART:20031026T010000
END:STANDARD
BEGIN:DAYLIGHT
TZOFFSETFROM:+0000
TZOFFSETTO:+0100
TZNAME:WEST
DTSTART:20040328T010000
END:DAYLIGHT
BEGIN:STANDARD
TZOFFSETFROM:+0100
TZOFFSETTO:+0000
TZNAME:WET
DTSTART:20041031T010000
END:STANDARD
BEGIN:DAYLIGHT
TZOFFSETFROM:+0000
TZOFFSETTO:+0100
TZNAME:WEST
DTSTART:20050327T010000
END:DAYLIGHT
BEGIN:STANDARD
TZOFFSETFROM:+0100
TZOFFSETTO:+0000
TZNAME:WET
DTSTART:20051030T010000
END:STANDARD
BEGIN:DAYLIGHT
TZOFFSETFROM:+0000
TZOFFSETTO:+0100
TZNAME:WEST
DTSTART:20060326T010000
END:DAYLIGHT
BEGIN:STANDARD
TZOFFSETFROM:+0100
TZOFFSETTO:+0000
TZNAME:WET
DTSTART:20061029T010000
END:STANDARD
BEGIN:DAYLIGHT
TZOFFSETFROM:+0000
TZOFFSETTO:+0100
TZNAME:WEST
DTSTART:20070325T010000
END:DAYLIGHT
BEGIN:STANDARD
TZOFFSETFROM:+0100
TZOFFSETTO:+0000
TZNAME:WET
DTSTART:20071028T010000
END:STANDARD
BEGIN:DAYLIGHT
TZOFFSETFROM:+0000
TZOFFSETTO:+0100
TZNAME:WEST
DTSTART:20080330T010000
END:DAYLIGHT
BEGIN:STANDARD
TZOFFSETFROM:+0100
TZOFFSETTO:+0000
TZNAME:WET
DTSTART:20081026T010000
END:STANDARD
BEGIN:DAYLIGHT
TZOFFSETFROM:+0000
TZOFFSETTO:+0100
TZNAME:WEST
DTSTART:20090329T010000
END:DAYLIGHT
BEGIN:STANDARD
TZOFFSETFROM:+0100
TZOFFSETTO:+0000
TZNAME:WET
DTSTART:20091025T010000
END:STANDARD
BEGIN:DAYLIGHT
TZOFFSETFROM:+0000
TZOFFSETTO:+0100
TZNAME:WEST
DTSTART:20100328T010000
END:DAYLIGHT
BEGIN:STANDARD
TZOFFSETFROM:+0100
TZOFFSETTO:+0000
TZNAME:WET
DTSTART:20101031T010000
END:STANDARD
BEGIN:DAYLIGHT
TZOFFSETFROM:+0000
TZOFFSETTO:+0100
TZNAME:WEST
DTSTART:20110327T010000
END:DAYLIGHT
BEGIN:STANDARD
TZOFFSETFROM:+0100
TZOFFSETTO:+0000
TZNAME:WET
DTSTART:20111030T010000
END:STANDARD
BEGIN:DAYLIGHT
TZOFFSETFROM:+0000
TZOFFSETTO:+0100
TZNAME:WEST
DTSTART:20120325T010000
END:DAYLIGHT
BEGIN:STANDARD
TZOFFSETFROM:+0100
TZOFFSETTO:+0000
TZNAME:WET
DTSTART:20121028T010000
END:STANDARD
BEGIN:DAYLIGHT
TZOFFSETFROM:+0000
TZOFFSETTO:+0100
TZNAME:WEST
DTSTART:20130331T010000
END:DAYLIGHT
BEGIN:STANDARD
TZOFFSETFROM:+0100
TZOFFSETTO:+0000
TZNAME:WET
DTSTART:20131027T010000
END:STANDARD
BEGIN:DAYLIGHT
TZOFFSETFROM:+0000
TZOFFSETTO:+0100
TZNAME:WEST
DTSTART:20140330T010000
END:DAYLIGHT
BEGIN:STANDARD
TZOFFSETFROM:+0100
TZOFFSETTO:+0000
TZNAME:WET
DTSTART:20141026T010000
END:STANDARD
BEGIN:DAYLIGHT
TZOFFSETFROM:+0000
TZOFFSETTO:+0100
TZNAME:WEST
DTSTART:20150329T010000
END:DAYLIGHT
BEGIN:STANDARD
TZOFFSETFROM:+0100
TZOFFSETTO:+0000
TZNAME:WET
DTSTART:20151025T010000
END:STANDARD
BEGIN:DAYLIGHT
TZOFFSETFROM:+0000
TZOFFSETTO:+0100
TZNAME:WEST
DTSTART:20160327T010000
END:DAYLIGHT
BEGIN:STANDARD
TZOFFSETFROM:+0100
TZOFFSETTO:+0000
TZNAME:WET
DTSTART:20161030T010000
END:STANDARD
BEGIN:DAYLIGHT
TZOFFSETFROM:+0000
TZOFFSETTO:+0100
TZNAME:WEST
DTSTART:20170326T010000
END:DAYLIGHT
BEGIN:STANDARD
TZOFFSETFROM:+0100
TZOFFSETTO:+0000
TZNAME:WET
DTSTART:20171029T010000
END:STANDARD
BEGIN:DAYLIGHT
TZOFFSETFROM:+0000
TZOFFSETTO:+0100
TZNAME:WEST
DTSTART:20180325T010000
END:DAYLIGHT
BEGIN:STANDARD
TZOFFSETFROM:+0100
TZOFFSETTO:+0000
TZNAME:WET
DTSTART:20181028T010000
END:STANDARD
BEGIN:DAYLIGHT
TZOFFSETFROM:+0000
TZOFFSETTO:+0100
TZNAME:WEST
DTSTART:20190331T010000
END:DAYLIGHT
BEGIN:STANDARD
TZOFFSETFROM:+0100
TZOFFSETTO:+0000
TZNAME:WET
DTSTART:20191027T010000
END:STANDARD
BEGIN:DAYLIGHT
TZOFFSETFROM:+0000
TZOFFSETTO:+0100
TZNAME:WEST
DTSTART:20200329T010000
END:DAYLIGHT
BEGIN:STANDARD
TZOFFSETFROM:+0100
TZOFFSETTO:+0000
TZNAME:WET
DTSTART:20201025T010000
END:STANDARD
BEGIN:DAYLIGHT
TZOFFSETFROM:+0000
TZOFFSETTO:+0100
TZNAME:WEST
DTSTART:20210328T010000
END:DAYLIGHT
BEGIN:STANDARD
TZOFFSETFROM:+0100
TZOFFSETTO:+0000
TZNAME:WET
DTSTART:20211031T010000
END:STANDARD
BEGIN:DAYLIGHT
TZOFFSETFROM:+0000
TZOFFSETTO:+0100
TZNAME:WEST
DTSTART:20220327T010000
END:DAYLIGHT
BEGIN:STANDARD
TZOFFSETFROM:+0100
TZOFFSETTO:+0000
TZNAME:WET
DTSTART:20221030T010000
END:STANDARD
BEGIN:DAYLIGHT
TZOFFSETFROM:+0000
TZOFFSETTO:+0100
TZNAME:WEST
DTSTART:20230326T010000
END:DAYLIGHT
BEGIN:STANDARD
TZOFFSETFROM:+0100
TZOFFSETTO:+0000
TZNAME:WET
DTSTART:20231029T010000
END:STANDARD
BEGIN:DAYLIGHT
TZOFFSETFROM:+0000
TZOFFSETTO:+0100
TZNAME:WEST
DTSTART:20240331T010000
END:DAYLIGHT
BEGIN:STANDARD
TZOFFSETFROM:+0100
TZOFFSETTO:+0000
TZNAME:WET
DTSTART:20241027T010000
END:STANDARD
BEGIN:DAYLIGHT
TZOFFSETFROM:+0000
TZOFFSETTO:+0100
TZNAME:WEST
DTSTART:20250330T010000
END:DAYLIGHT
BEGIN:STANDARD
TZOFFSETFROM:+0100
TZOFFSETTO:+0000
TZNAME:WET
DTSTART:20251026T010000
END:STANDARD
BEGIN:DAYLIGHT
TZOFFSETFROM:+0000
TZOFFSETTO:+0100
TZNAME:WEST
DTSTART:20260329T010000
END:DAYLIGHT
BEGIN:STANDARD
TZOFFSETFROM:+0100
TZOFFSETTO:+0000
TZNAME:WET
DTSTART:20261025T010000
END:STANDARD
END:VTIMEZONE
BEGIN:VEVENT
DTSTART;TZID=Europe/Lisbon:20260422T231557
DTEND;TZID=Europe/Lisbon:20250102T152944
DTSTAMP:20260422T231557
CREATED:20250102T152944Z
LAST-MODIFIED:20250102T152944Z
UID:67640-0-1735831784@diocesedeviseu.pt
SUMMARY:Celebração da Eucaristia do aniversário da PSP
DESCRIPTION:
URL:https://diocesedeviseu.pt/evento/celebracao-da-eucaristia-do-aniversario-da-psp/
LOCATION:Sé de Viseu\, Sé\, Viseu\, 3500-163\, Portugal
END:VEVENT
BEGIN:VEVENT
DTSTART;TZID=Europe/Lisbon:20260422T231557
DTEND;TZID=Europe/Lisbon:20251023T110705
DTSTAMP:20260422T231557
CREATED:20251023T110704Z
LAST-MODIFIED:20251023T110704Z
UID:74144-0-1761217625@diocesedeviseu.pt
SUMMARY:Reunião do Arciprestado da Beira Alta
DESCRIPTION:
URL:https://diocesedeviseu.pt/evento/reuniao-do-arciprestado-da-beira-alta-9/
LOCATION:Complexo Paroquial de Mangualde\, Mangualde\, Mangualde\, Portugal
END:VEVENT
BEGIN:VEVENT
DTSTART;TZID=Europe/Lisbon:20230709T180000
DTEND;TZID=Europe/Lisbon:20230709T180000
DTSTAMP:20260422T231557
CREATED:20230705T235420Z
LAST-MODIFIED:20230705T235420Z
UID:56343-1688925600-1688925600@diocesedeviseu.pt
SUMMARY:Celebração da Eucaristia e Sacramento do Crisma para as paróquias de Tondela
DESCRIPTION:
URL:https://diocesedeviseu.pt/evento/celebracao-da-eucaristia-e-sacramento-do-crisma-para-as-paroquias-de-tondela/
LOCATION:São Miguel do Outeiro
CATEGORIES:Bispo,Evangelização, Culto e Cultura,Lembretes
END:VEVENT
BEGIN:VEVENT
DTSTART;TZID=Europe/Lisbon:20230713T190000
DTEND;TZID=Europe/Lisbon:20230713T190000
DTSTAMP:20260422T231557
CREATED:20230712T225630Z
LAST-MODIFIED:20230712T225630Z
UID:56443-1689274800-1689274800@diocesedeviseu.pt
SUMMARY:Encontro com a Comissão de Proteção de Menores da Diocese de Viseu
DESCRIPTION:
URL:https://diocesedeviseu.pt/evento/encontro-com-a-comissao-de-protecao-de-menores-da-diocese-de-viseu/
LOCATION:Seminário Maior de Viseu
CATEGORIES:Bispo
END:VEVENT
BEGIN:VEVENT
DTSTART;TZID=Europe/Lisbon:20230715T173000
DTEND;TZID=Europe/Lisbon:20230715T173000
DTSTAMP:20260422T231557
CREATED:20230712T225811Z
LAST-MODIFIED:20230712T225811Z
UID:56445-1689442200-1689442200@diocesedeviseu.pt
SUMMARY:Eucaristia da festa de Nossa Senhora do Carmo\, seguida de Procissão
DESCRIPTION:
URL:https://diocesedeviseu.pt/evento/eucaristia-da-festa-de-nossa-senhora-do-carmo-seguida-de-procissao/
LOCATION:Igreja do Carmo – Viseu\, Igreja do Carmo\, Viseu\, Portugal
CATEGORIES:Bispo,Lembretes
END:VEVENT
BEGIN:VEVENT
DTSTART;TZID=Europe/Lisbon:20230716T103000
DTEND;TZID=Europe/Lisbon:20230716T103000
DTSTAMP:20260422T231557
CREATED:20230712T225931Z
LAST-MODIFIED:20230712T225931Z
UID:56447-1689503400-1689503400@diocesedeviseu.pt
SUMMARY:Eucaristia de Ação de Graças pelo jubileu sacerdotal de 50 anos\, do Padre Francisco de Matos Dias\, Missionário Comboniano
DESCRIPTION:
URL:https://diocesedeviseu.pt/evento/eucaristia-de-acao-de-gracas-pelo-jubileu-sacerdotal-de-50-anos-do-padre-francisco-de-matos-dias-missionario-comboniano/
LOCATION:Igreja de Barreiro de Besteiros
CATEGORIES:Bispo,Clero, Vocações e Vida Consagrada,Lembretes
END:VEVENT
BEGIN:VEVENT
DTSTART;TZID=Europe/Lisbon:20230716T160000
DTEND;TZID=Europe/Lisbon:20230716T160000
DTSTAMP:20260422T231557
CREATED:20230712T230051Z
LAST-MODIFIED:20230712T230051Z
UID:56450-1689523200-1689523200@diocesedeviseu.pt
SUMMARY:Celebração da Eucaristia da Ordenação Episcopal de D. Joaquim Dionísio\, Bispo Auxiliar do Porto
DESCRIPTION:
URL:https://diocesedeviseu.pt/evento/celebracao-da-eucaristia-da-ordenacao-episcopal-de-d-joaquim-dionisio-bispo-auxiliar-do-porto/
LOCATION:Sé de Lamego
CATEGORIES:Bispo,Clero, Vocações e Vida Consagrada,Lembretes
END:VEVENT
BEGIN:VEVENT
DTSTART;VALUE=DATE:20230721
DTEND;VALUE=DATE:20230722
DTSTAMP:20260422T231557
CREATED:20230506T094830Z
LAST-MODIFIED:20230506T094830Z
UID:55244-1689897600-1689983999@diocesedeviseu.pt
SUMMARY:Aniversário da Tomada de posse de D. António Luciano
DESCRIPTION:
URL:https://diocesedeviseu.pt/evento/aniversario-da-tomada-de-posse-de-d-antonio-luciano/
CATEGORIES:Bispo,Lembretes
END:VEVENT
BEGIN:VEVENT
DTSTART;VALUE=DATE:20230722
DTEND;VALUE=DATE:20230723
DTSTAMP:20260422T231557
CREATED:20230506T094923Z
LAST-MODIFIED:20230506T094923Z
UID:55246-1689984000-1690070399@diocesedeviseu.pt
SUMMARY:Aniversário da Entrada Solene de D. António Luciano
DESCRIPTION:
URL:https://diocesedeviseu.pt/evento/aniversario-da-entrada-solene-de-d-antonio-luciano/
CATEGORIES:Bispo,Lembretes
END:VEVENT
BEGIN:VEVENT
DTSTART;TZID=Europe/Lisbon:20230722T103000
DTEND;TZID=Europe/Lisbon:20230722T103000
DTSTAMP:20260422T231557
CREATED:20230719T134539Z
LAST-MODIFIED:20230719T134539Z
UID:56548-1690021800-1690021800@diocesedeviseu.pt
SUMMARY:Celebração da Eucaristia e do Crisma
DESCRIPTION:
URL:https://diocesedeviseu.pt/evento/celebracao-da-eucaristia-e-do-crisma-2/
LOCATION:Igreja Paroquial de Campo de Madalena
CATEGORIES:Bispo
END:VEVENT
BEGIN:VEVENT
DTSTART;TZID=Europe/Lisbon:20230722T170000
DTEND;TZID=Europe/Lisbon:20230722T170000
DTSTAMP:20260422T231557
CREATED:20230719T135033Z
LAST-MODIFIED:20230719T135103Z
UID:56550-1690045200-1690045200@diocesedeviseu.pt
SUMMARY:Celebração da Eucaristia e do Crisma
DESCRIPTION:
URL:https://diocesedeviseu.pt/evento/celebracao-da-eucaristia-e-do-crisma-3/
LOCATION:Igreja Paroquial de Tourigo
CATEGORIES:Bispo
END:VEVENT
BEGIN:VEVENT
DTSTART;VALUE=DATE:20230723
DTEND;VALUE=DATE:20230724
DTSTAMP:20260422T231557
CREATED:20230506T095015Z
LAST-MODIFIED:20230506T095015Z
UID:55248-1690070400-1690156799@diocesedeviseu.pt
SUMMARY:Aniversário da Dedicação da Igreja Catedral
DESCRIPTION:
URL:https://diocesedeviseu.pt/evento/aniversario-da-dedicacao-da-igreja-catedral-2/
CATEGORIES:Lembretes
END:VEVENT
BEGIN:VEVENT
DTSTART;VALUE=DATE:20230723
DTEND;VALUE=DATE:20230724
DTSTAMP:20260422T231557
CREATED:20230506T095119Z
LAST-MODIFIED:20230506T095119Z
UID:55250-1690070400-1690156799@diocesedeviseu.pt
SUMMARY:Dia Mundial dos Avós e dos Idosos
DESCRIPTION:
URL:https://diocesedeviseu.pt/evento/dia-mundial-dos-avos-e-dos-idosos-2/
CATEGORIES:Lembretes
END:VEVENT
BEGIN:VEVENT
DTSTART;VALUE=DATE:20230723
DTEND;VALUE=DATE:20230724
DTSTAMP:20260422T231557
CREATED:20230506T141036Z
LAST-MODIFIED:20230506T141104Z
UID:55254-1690070400-1690156799@diocesedeviseu.pt
SUMMARY:Ofertório Anual para a Diocese
DESCRIPTION:
URL:https://diocesedeviseu.pt/evento/ofertorio-para-a-diocese-4/
CATEGORIES:Lembretes
END:VEVENT
BEGIN:VEVENT
DTSTART;TZID=Europe/Lisbon:20230723T110000
DTEND;TZID=Europe/Lisbon:20230723T110000
DTSTAMP:20260422T231557
CREATED:20230719T135221Z
LAST-MODIFIED:20230719T135242Z
UID:56553-1690110000-1690110000@diocesedeviseu.pt
SUMMARY:Dia da Dedicação da Catedral – Eucaristia
DESCRIPTION:
URL:https://diocesedeviseu.pt/evento/dia-da-dedicacao-da-catedral-eucaristia/
LOCATION:Catedral de Viseu
CATEGORIES:Bispo,Lembretes
END:VEVENT
BEGIN:VEVENT
DTSTART;TZID=Europe/Lisbon:20230723T180000
DTEND;TZID=Europe/Lisbon:20230723T180000
DTSTAMP:20260422T231557
CREATED:20230719T135408Z
LAST-MODIFIED:20230719T135408Z
UID:56555-1690135200-1690135200@diocesedeviseu.pt
SUMMARY:Celebração da Eucaristia e do Crisma
DESCRIPTION:
URL:https://diocesedeviseu.pt/evento/celebracao-da-eucaristia-e-do-crisma-4/
LOCATION:Igreja Paroquial de Cortiçada
CATEGORIES:Bispo
END:VEVENT
BEGIN:VEVENT
DTSTART;VALUE=DATE:20230726
DTEND;VALUE=DATE:20230727
DTSTAMP:20260422T231557
CREATED:20230719T135516Z
LAST-MODIFIED:20230719T135516Z
UID:56558-1690329600-1690415999@diocesedeviseu.pt
SUMMARY:Início dos “Dias da Diocese” JMJ – Acolhimento dos jovens
DESCRIPTION:
URL:https://diocesedeviseu.pt/evento/inicio-dos-dias-da-diocese-jmj-acolhimento-dos-jovens/
CATEGORIES:Bispo
END:VEVENT
BEGIN:VEVENT
DTSTART;VALUE=DATE:20230726
DTEND;VALUE=DATE:20230731
DTSTAMP:20260422T231557
CREATED:20230727T090824Z
LAST-MODIFIED:20230727T091353Z
UID:56684-1690329600-1690761599@diocesedeviseu.pt
SUMMARY:Participação nas atividades no programa da JMJ nos dias na diocese
DESCRIPTION:
URL:https://diocesedeviseu.pt/evento/participacao-nas-atividades-no-programa-da-jmj-nos-dias-na-diocese/
CATEGORIES:Bispo
END:VEVENT
BEGIN:VEVENT
DTSTART;VALUE=DATE:20230727
DTEND;VALUE=DATE:20230728
DTSTAMP:20260422T231557
CREATED:20230727T090929Z
LAST-MODIFIED:20230727T090929Z
UID:56687-1690416000-1690502399@diocesedeviseu.pt
SUMMARY:Arraial português no Sátão
DESCRIPTION:
URL:https://diocesedeviseu.pt/evento/arraial-portugues-no-satao/
LOCATION:Sátão
CATEGORIES:Bispo,Lembretes
END:VEVENT
BEGIN:VEVENT
DTSTART;TZID=Europe/Lisbon:20230730T173000
DTEND;TZID=Europe/Lisbon:20230730T173000
DTSTAMP:20260422T231557
CREATED:20230727T091107Z
LAST-MODIFIED:20230727T091107Z
UID:56689-1690738200-1690738200@diocesedeviseu.pt
SUMMARY:Celebração do 'Dia da Família' e ‘Dia do Envio’ (JMJ) no Palco da Feira de São Mateus.
DESCRIPTION:
URL:https://diocesedeviseu.pt/evento/celebracao-do-dia-da-familia-e-dia-do-envio-jmj-no-palco-da-feira-de-sao-mateus/
CATEGORIES:Bispo,Lembretes
END:VEVENT
BEGIN:VEVENT
DTSTART;VALUE=DATE:20230731
DTEND;VALUE=DATE:20230808
DTSTAMP:20260422T231557
CREATED:20230727T091213Z
LAST-MODIFIED:20230727T091213Z
UID:56691-1690761600-1691452799@diocesedeviseu.pt
SUMMARY:Participação na JMJ
DESCRIPTION:
URL:https://diocesedeviseu.pt/evento/participacao-na-jmj/
LOCATION:Lisboa
CATEGORIES:Bispo
END:VEVENT
BEGIN:VEVENT
DTSTART;VALUE=DATE:20230813
DTEND;VALUE=DATE:20230814
DTSTAMP:20260422T231557
CREATED:20230506T141209Z
LAST-MODIFIED:20230506T141209Z
UID:55257-1691884800-1691971199@diocesedeviseu.pt
SUMMARY:Ofertório para a Pastoral da Mobilidade Humana
DESCRIPTION:
URL:https://diocesedeviseu.pt/evento/ofertorio-para-a-pastoral-da-mobilidade-humana-5/
CATEGORIES:Lembretes
END:VEVENT
BEGIN:VEVENT
DTSTART;VALUE=DATE:20230815
DTEND;VALUE=DATE:20230816
DTSTAMP:20260422T231557
CREATED:20230506T141309Z
LAST-MODIFIED:20230506T141309Z
UID:55259-1692057600-1692143999@diocesedeviseu.pt
SUMMARY:Solenidade da Assunção de Nossa Senhora
DESCRIPTION:
URL:https://diocesedeviseu.pt/evento/solenidade-da-assuncao-de-nossa-senhora/
CATEGORIES:Lembretes
END:VEVENT
BEGIN:VEVENT
DTSTART;TZID=Europe/Lisbon:20230815T110000
DTEND;TZID=Europe/Lisbon:20230815T110000
DTSTAMP:20260422T231557
CREATED:20230810T081505Z
LAST-MODIFIED:20230810T081505Z
UID:56896-1692097200-1692097200@diocesedeviseu.pt
SUMMARY:Solenidade da Assunção de Nossa Senhora\, Padroeira do Altar-Mor.
DESCRIPTION:
URL:https://diocesedeviseu.pt/evento/solenidade-da-assuncao-de-nossa-senhora-padroeira-do-altar-mor/
LOCATION:Catedral de Viseu
CATEGORIES:Bispo,Lembretes
END:VEVENT
BEGIN:VEVENT
DTSTART;TZID=Europe/Lisbon:20230817T180000
DTEND;TZID=Europe/Lisbon:20230817T180000
DTSTAMP:20260422T231557
CREATED:20230810T081714Z
LAST-MODIFIED:20230810T081733Z
UID:56898-1692295200-1692295200@diocesedeviseu.pt
SUMMARY:Celebração da Eucaristia na Festa de Santa Beatriz da Silva
DESCRIPTION:
URL:https://diocesedeviseu.pt/evento/celebracao-da-eucaristia-na-festa-de-santa-beatriz-da-silva/
LOCATION:Convento de Santa Beatriz – Viseu
CATEGORIES:Bispo,Clero, Vocações e Vida Consagrada,Lembretes
END:VEVENT
BEGIN:VEVENT
DTSTART;TZID=Europe/Lisbon:20230819T170000
DTEND;TZID=Europe/Lisbon:20230819T170000
DTSTAMP:20260422T231557
CREATED:20230818T213206Z
LAST-MODIFIED:20230818T213206Z
UID:57027-1692464400-1692464400@diocesedeviseu.pt
SUMMARY:Celebração de Eucaristia e Administração do Crisma
DESCRIPTION:
URL:https://diocesedeviseu.pt/evento/celebracao-de-eucaristia-e-administracao-do-crisma/
LOCATION:Igreja Paroquial de Oliveira de Frades
CATEGORIES:Bispo
END:VEVENT
BEGIN:VEVENT
DTSTART;TZID=Europe/Lisbon:20230820T103000
DTEND;TZID=Europe/Lisbon:20230820T103000
DTSTAMP:20260422T231557
CREATED:20230818T213324Z
LAST-MODIFIED:20230818T213324Z
UID:57029-1692527400-1692527400@diocesedeviseu.pt
SUMMARY:Celebração da Eucaristia na Festa de Nossa Senhora da Esperança
DESCRIPTION:
URL:https://diocesedeviseu.pt/evento/celebracao-da-eucaristia-na-festa-de-nossa-senhora-da-esperanca/
LOCATION:Quintela de Azurara\, Mangualde
CATEGORIES:Bispo,Evangelização, Culto e Cultura
END:VEVENT
BEGIN:VEVENT
DTSTART;TZID=Europe/Lisbon:20230826T190000
DTEND;TZID=Europe/Lisbon:20230826T190000
DTSTAMP:20260422T231557
CREATED:20230826T104720Z
LAST-MODIFIED:20230826T104720Z
UID:57139-1693076400-1693076400@diocesedeviseu.pt
SUMMARY:Celebração da Eucaristia seguida de procissão\, no monumento de Nossa Senhora da Medalha Milagrosa\, Nossa Senhora das Graças
DESCRIPTION:
URL:https://diocesedeviseu.pt/evento/celebracao-da-eucaristia-seguida-de-procissao-no-monumento-de-nossa-senhora-da-medalha-milagrosa-nossa-senhora-das-gracas/
LOCATION:Campia
CATEGORIES:Bispo,Lembretes
END:VEVENT
BEGIN:VEVENT
DTSTART;TZID=Europe/Lisbon:20230903T160000
DTEND;TZID=Europe/Lisbon:20230903T170000
DTSTAMP:20260422T231557
CREATED:20230902T092604Z
LAST-MODIFIED:20230902T092604Z
UID:57243-1693756800-1693760400@diocesedeviseu.pt
SUMMARY:Participação na entrada solene do novo Patriarca D. Rui Valério.
DESCRIPTION:
URL:https://diocesedeviseu.pt/evento/participacao-na-entrada-solene-do-novo-patriarca-d-rui-valerio/
LOCATION:Mosteiro dos Jerónimos – Lisboa
CATEGORIES:Bispo
END:VEVENT
BEGIN:VEVENT
DTSTART;TZID=Europe/Lisbon:20230908T101500
DTEND;TZID=Europe/Lisbon:20230908T101500
DTSTAMP:20260422T231557
CREATED:20230906T180100Z
LAST-MODIFIED:20230906T180100Z
UID:57324-1694168100-1694168100@diocesedeviseu.pt
SUMMARY:Celebração da Festa da Natividade de Nossa Senhora\, com Eucaristia em honra de Nossa Senhora Dolorosa\, no santuário
DESCRIPTION:
URL:https://diocesedeviseu.pt/evento/celebracao-da-festa-da-natividade-de-nossa-senhora-com-eucaristia-em-honra-de-nossa-senhora-dolorosa-no-santuario/
LOCATION:Paróquia de Ribeiradio
CATEGORIES:Bispo
END:VEVENT
END:VCALENDAR