BEGIN:VCALENDAR
VERSION:2.0
PRODID:-//Diocese de Viseu - ECPv6.15.18//NONSGML v1.0//EN
CALSCALE:GREGORIAN
METHOD:PUBLISH
X-ORIGINAL-URL:https://diocesedeviseu.pt
X-WR-CALDESC:Eventos para Diocese de Viseu
REFRESH-INTERVAL;VALUE=DURATION:PT1H
X-Robots-Tag:noindex
X-PUBLISHED-TTL:PT1H
BEGIN:VTIMEZONE
TZID:Europe/Lisbon
BEGIN:STANDARD
TZOFFSETFROM:+0100
TZOFFSETTO:+0000
TZNAME:WET
DTSTART:19760926T000000
END:STANDARD
BEGIN:DAYLIGHT
TZOFFSETFROM:+0000
TZOFFSETTO:+0100
TZNAME:WEST
DTSTART:19770327T000000
END:DAYLIGHT
BEGIN:STANDARD
TZOFFSETFROM:+0100
TZOFFSETTO:+0000
TZNAME:WET
DTSTART:19770925T000000
END:STANDARD
BEGIN:DAYLIGHT
TZOFFSETFROM:+0000
TZOFFSETTO:+0100
TZNAME:WEST
DTSTART:19780402T010000
END:DAYLIGHT
BEGIN:STANDARD
TZOFFSETFROM:+0100
TZOFFSETTO:+0000
TZNAME:WET
DTSTART:19781001T010000
END:STANDARD
BEGIN:DAYLIGHT
TZOFFSETFROM:+0000
TZOFFSETTO:+0100
TZNAME:WEST
DTSTART:19790401T010000
END:DAYLIGHT
BEGIN:STANDARD
TZOFFSETFROM:+0100
TZOFFSETTO:+0000
TZNAME:WET
DTSTART:19790930T010000
END:STANDARD
BEGIN:DAYLIGHT
TZOFFSETFROM:+0000
TZOFFSETTO:+0100
TZNAME:WEST
DTSTART:19800406T010000
END:DAYLIGHT
BEGIN:STANDARD
TZOFFSETFROM:+0100
TZOFFSETTO:+0000
TZNAME:WET
DTSTART:19800928T010000
END:STANDARD
BEGIN:DAYLIGHT
TZOFFSETFROM:+0000
TZOFFSETTO:+0100
TZNAME:WEST
DTSTART:19810329T000000
END:DAYLIGHT
BEGIN:STANDARD
TZOFFSETFROM:+0100
TZOFFSETTO:+0000
TZNAME:WET
DTSTART:19810927T000000
END:STANDARD
BEGIN:DAYLIGHT
TZOFFSETFROM:+0000
TZOFFSETTO:+0100
TZNAME:WEST
DTSTART:19820328T000000
END:DAYLIGHT
BEGIN:STANDARD
TZOFFSETFROM:+0100
TZOFFSETTO:+0000
TZNAME:WET
DTSTART:19820926T000000
END:STANDARD
BEGIN:DAYLIGHT
TZOFFSETFROM:+0000
TZOFFSETTO:+0100
TZNAME:WEST
DTSTART:19830327T000000
END:DAYLIGHT
BEGIN:STANDARD
TZOFFSETFROM:+0100
TZOFFSETTO:+0000
TZNAME:WET
DTSTART:19830925T000000
END:STANDARD
BEGIN:DAYLIGHT
TZOFFSETFROM:+0000
TZOFFSETTO:+0100
TZNAME:WEST
DTSTART:19840325T000000
END:DAYLIGHT
BEGIN:STANDARD
TZOFFSETFROM:+0100
TZOFFSETTO:+0000
TZNAME:WET
DTSTART:19840930T000000
END:STANDARD
BEGIN:DAYLIGHT
TZOFFSETFROM:+0000
TZOFFSETTO:+0100
TZNAME:WEST
DTSTART:19850331T000000
END:DAYLIGHT
BEGIN:STANDARD
TZOFFSETFROM:+0100
TZOFFSETTO:+0000
TZNAME:WET
DTSTART:19850929T000000
END:STANDARD
BEGIN:STANDARD
TZOFFSETFROM:+0000
TZOFFSETTO:+0000
TZNAME:WET
DTSTART:19860101T000000
END:STANDARD
BEGIN:DAYLIGHT
TZOFFSETFROM:+0000
TZOFFSETTO:+0100
TZNAME:WEST
DTSTART:19860330T010000
END:DAYLIGHT
BEGIN:STANDARD
TZOFFSETFROM:+0100
TZOFFSETTO:+0000
TZNAME:WET
DTSTART:19860928T010000
END:STANDARD
BEGIN:DAYLIGHT
TZOFFSETFROM:+0000
TZOFFSETTO:+0100
TZNAME:WEST
DTSTART:19870329T010000
END:DAYLIGHT
BEGIN:STANDARD
TZOFFSETFROM:+0100
TZOFFSETTO:+0000
TZNAME:WET
DTSTART:19870927T010000
END:STANDARD
BEGIN:DAYLIGHT
TZOFFSETFROM:+0000
TZOFFSETTO:+0100
TZNAME:WEST
DTSTART:19880327T010000
END:DAYLIGHT
BEGIN:STANDARD
TZOFFSETFROM:+0100
TZOFFSETTO:+0000
TZNAME:WET
DTSTART:19880925T010000
END:STANDARD
BEGIN:DAYLIGHT
TZOFFSETFROM:+0000
TZOFFSETTO:+0100
TZNAME:WEST
DTSTART:19890326T010000
END:DAYLIGHT
BEGIN:STANDARD
TZOFFSETFROM:+0100
TZOFFSETTO:+0000
TZNAME:WET
DTSTART:19890924T010000
END:STANDARD
BEGIN:DAYLIGHT
TZOFFSETFROM:+0000
TZOFFSETTO:+0100
TZNAME:WEST
DTSTART:19900325T010000
END:DAYLIGHT
BEGIN:STANDARD
TZOFFSETFROM:+0100
TZOFFSETTO:+0000
TZNAME:WET
DTSTART:19900930T010000
END:STANDARD
BEGIN:DAYLIGHT
TZOFFSETFROM:+0000
TZOFFSETTO:+0100
TZNAME:WEST
DTSTART:19910331T010000
END:DAYLIGHT
BEGIN:STANDARD
TZOFFSETFROM:+0100
TZOFFSETTO:+0000
TZNAME:WET
DTSTART:19910929T010000
END:STANDARD
BEGIN:DAYLIGHT
TZOFFSETFROM:+0000
TZOFFSETTO:+0100
TZNAME:WEST
DTSTART:19920329T010000
END:DAYLIGHT
BEGIN:STANDARD
TZOFFSETFROM:+0100
TZOFFSETTO:+0100
TZNAME:CET
DTSTART:19920927T010000
END:STANDARD
BEGIN:DAYLIGHT
TZOFFSETFROM:+0100
TZOFFSETTO:+0200
TZNAME:CEST
DTSTART:19930328T010000
END:DAYLIGHT
BEGIN:STANDARD
TZOFFSETFROM:+0200
TZOFFSETTO:+0100
TZNAME:CET
DTSTART:19930926T010000
END:STANDARD
BEGIN:DAYLIGHT
TZOFFSETFROM:+0100
TZOFFSETTO:+0200
TZNAME:CEST
DTSTART:19940327T010000
END:DAYLIGHT
BEGIN:STANDARD
TZOFFSETFROM:+0200
TZOFFSETTO:+0100
TZNAME:CET
DTSTART:19940925T010000
END:STANDARD
BEGIN:DAYLIGHT
TZOFFSETFROM:+0100
TZOFFSETTO:+0200
TZNAME:CEST
DTSTART:19950326T010000
END:DAYLIGHT
BEGIN:STANDARD
TZOFFSETFROM:+0200
TZOFFSETTO:+0100
TZNAME:CET
DTSTART:19950924T010000
END:STANDARD
BEGIN:DAYLIGHT
TZOFFSETFROM:+0100
TZOFFSETTO:+0100
TZNAME:WEST
DTSTART:19960331T010000
END:DAYLIGHT
BEGIN:STANDARD
TZOFFSETFROM:+0100
TZOFFSETTO:+0000
TZNAME:WET
DTSTART:19961027T010000
END:STANDARD
BEGIN:DAYLIGHT
TZOFFSETFROM:+0000
TZOFFSETTO:+0100
TZNAME:WEST
DTSTART:19970330T010000
END:DAYLIGHT
BEGIN:STANDARD
TZOFFSETFROM:+0100
TZOFFSETTO:+0000
TZNAME:WET
DTSTART:19971026T010000
END:STANDARD
BEGIN:DAYLIGHT
TZOFFSETFROM:+0000
TZOFFSETTO:+0100
TZNAME:WEST
DTSTART:19980329T010000
END:DAYLIGHT
BEGIN:STANDARD
TZOFFSETFROM:+0100
TZOFFSETTO:+0000
TZNAME:WET
DTSTART:19981025T010000
END:STANDARD
BEGIN:DAYLIGHT
TZOFFSETFROM:+0000
TZOFFSETTO:+0100
TZNAME:WEST
DTSTART:19990328T010000
END:DAYLIGHT
BEGIN:STANDARD
TZOFFSETFROM:+0100
TZOFFSETTO:+0000
TZNAME:WET
DTSTART:19991031T010000
END:STANDARD
BEGIN:DAYLIGHT
TZOFFSETFROM:+0000
TZOFFSETTO:+0100
TZNAME:WEST
DTSTART:20000326T010000
END:DAYLIGHT
BEGIN:STANDARD
TZOFFSETFROM:+0100
TZOFFSETTO:+0000
TZNAME:WET
DTSTART:20001029T010000
END:STANDARD
BEGIN:DAYLIGHT
TZOFFSETFROM:+0000
TZOFFSETTO:+0100
TZNAME:WEST
DTSTART:20010325T010000
END:DAYLIGHT
BEGIN:STANDARD
TZOFFSETFROM:+0100
TZOFFSETTO:+0000
TZNAME:WET
DTSTART:20011028T010000
END:STANDARD
BEGIN:DAYLIGHT
TZOFFSETFROM:+0000
TZOFFSETTO:+0100
TZNAME:WEST
DTSTART:20020331T010000
END:DAYLIGHT
BEGIN:STANDARD
TZOFFSETFROM:+0100
TZOFFSETTO:+0000
TZNAME:WET
DTSTART:20021027T010000
END:STANDARD
BEGIN:DAYLIGHT
TZOFFSETFROM:+0000
TZOFFSETTO:+0100
TZNAME:WEST
DTSTART:20030330T010000
END:DAYLIGHT
BEGIN:STANDARD
TZOFFSETFROM:+0100
TZOFFSETTO:+0000
TZNAME:WET
DTSTART:20031026T010000
END:STANDARD
BEGIN:DAYLIGHT
TZOFFSETFROM:+0000
TZOFFSETTO:+0100
TZNAME:WEST
DTSTART:20040328T010000
END:DAYLIGHT
BEGIN:STANDARD
TZOFFSETFROM:+0100
TZOFFSETTO:+0000
TZNAME:WET
DTSTART:20041031T010000
END:STANDARD
BEGIN:DAYLIGHT
TZOFFSETFROM:+0000
TZOFFSETTO:+0100
TZNAME:WEST
DTSTART:20050327T010000
END:DAYLIGHT
BEGIN:STANDARD
TZOFFSETFROM:+0100
TZOFFSETTO:+0000
TZNAME:WET
DTSTART:20051030T010000
END:STANDARD
BEGIN:DAYLIGHT
TZOFFSETFROM:+0000
TZOFFSETTO:+0100
TZNAME:WEST
DTSTART:20060326T010000
END:DAYLIGHT
BEGIN:STANDARD
TZOFFSETFROM:+0100
TZOFFSETTO:+0000
TZNAME:WET
DTSTART:20061029T010000
END:STANDARD
BEGIN:DAYLIGHT
TZOFFSETFROM:+0000
TZOFFSETTO:+0100
TZNAME:WEST
DTSTART:20070325T010000
END:DAYLIGHT
BEGIN:STANDARD
TZOFFSETFROM:+0100
TZOFFSETTO:+0000
TZNAME:WET
DTSTART:20071028T010000
END:STANDARD
BEGIN:DAYLIGHT
TZOFFSETFROM:+0000
TZOFFSETTO:+0100
TZNAME:WEST
DTSTART:20080330T010000
END:DAYLIGHT
BEGIN:STANDARD
TZOFFSETFROM:+0100
TZOFFSETTO:+0000
TZNAME:WET
DTSTART:20081026T010000
END:STANDARD
BEGIN:DAYLIGHT
TZOFFSETFROM:+0000
TZOFFSETTO:+0100
TZNAME:WEST
DTSTART:20090329T010000
END:DAYLIGHT
BEGIN:STANDARD
TZOFFSETFROM:+0100
TZOFFSETTO:+0000
TZNAME:WET
DTSTART:20091025T010000
END:STANDARD
BEGIN:DAYLIGHT
TZOFFSETFROM:+0000
TZOFFSETTO:+0100
TZNAME:WEST
DTSTART:20100328T010000
END:DAYLIGHT
BEGIN:STANDARD
TZOFFSETFROM:+0100
TZOFFSETTO:+0000
TZNAME:WET
DTSTART:20101031T010000
END:STANDARD
BEGIN:DAYLIGHT
TZOFFSETFROM:+0000
TZOFFSETTO:+0100
TZNAME:WEST
DTSTART:20110327T010000
END:DAYLIGHT
BEGIN:STANDARD
TZOFFSETFROM:+0100
TZOFFSETTO:+0000
TZNAME:WET
DTSTART:20111030T010000
END:STANDARD
BEGIN:DAYLIGHT
TZOFFSETFROM:+0000
TZOFFSETTO:+0100
TZNAME:WEST
DTSTART:20120325T010000
END:DAYLIGHT
BEGIN:STANDARD
TZOFFSETFROM:+0100
TZOFFSETTO:+0000
TZNAME:WET
DTSTART:20121028T010000
END:STANDARD
BEGIN:DAYLIGHT
TZOFFSETFROM:+0000
TZOFFSETTO:+0100
TZNAME:WEST
DTSTART:20130331T010000
END:DAYLIGHT
BEGIN:STANDARD
TZOFFSETFROM:+0100
TZOFFSETTO:+0000
TZNAME:WET
DTSTART:20131027T010000
END:STANDARD
BEGIN:DAYLIGHT
TZOFFSETFROM:+0000
TZOFFSETTO:+0100
TZNAME:WEST
DTSTART:20140330T010000
END:DAYLIGHT
BEGIN:STANDARD
TZOFFSETFROM:+0100
TZOFFSETTO:+0000
TZNAME:WET
DTSTART:20141026T010000
END:STANDARD
BEGIN:DAYLIGHT
TZOFFSETFROM:+0000
TZOFFSETTO:+0100
TZNAME:WEST
DTSTART:20150329T010000
END:DAYLIGHT
BEGIN:STANDARD
TZOFFSETFROM:+0100
TZOFFSETTO:+0000
TZNAME:WET
DTSTART:20151025T010000
END:STANDARD
BEGIN:DAYLIGHT
TZOFFSETFROM:+0000
TZOFFSETTO:+0100
TZNAME:WEST
DTSTART:20160327T010000
END:DAYLIGHT
BEGIN:STANDARD
TZOFFSETFROM:+0100
TZOFFSETTO:+0000
TZNAME:WET
DTSTART:20161030T010000
END:STANDARD
BEGIN:DAYLIGHT
TZOFFSETFROM:+0000
TZOFFSETTO:+0100
TZNAME:WEST
DTSTART:20170326T010000
END:DAYLIGHT
BEGIN:STANDARD
TZOFFSETFROM:+0100
TZOFFSETTO:+0000
TZNAME:WET
DTSTART:20171029T010000
END:STANDARD
BEGIN:DAYLIGHT
TZOFFSETFROM:+0000
TZOFFSETTO:+0100
TZNAME:WEST
DTSTART:20180325T010000
END:DAYLIGHT
BEGIN:STANDARD
TZOFFSETFROM:+0100
TZOFFSETTO:+0000
TZNAME:WET
DTSTART:20181028T010000
END:STANDARD
BEGIN:DAYLIGHT
TZOFFSETFROM:+0000
TZOFFSETTO:+0100
TZNAME:WEST
DTSTART:20190331T010000
END:DAYLIGHT
BEGIN:STANDARD
TZOFFSETFROM:+0100
TZOFFSETTO:+0000
TZNAME:WET
DTSTART:20191027T010000
END:STANDARD
BEGIN:DAYLIGHT
TZOFFSETFROM:+0000
TZOFFSETTO:+0100
TZNAME:WEST
DTSTART:20200329T010000
END:DAYLIGHT
BEGIN:STANDARD
TZOFFSETFROM:+0100
TZOFFSETTO:+0000
TZNAME:WET
DTSTART:20201025T010000
END:STANDARD
BEGIN:DAYLIGHT
TZOFFSETFROM:+0000
TZOFFSETTO:+0100
TZNAME:WEST
DTSTART:20210328T010000
END:DAYLIGHT
BEGIN:STANDARD
TZOFFSETFROM:+0100
TZOFFSETTO:+0000
TZNAME:WET
DTSTART:20211031T010000
END:STANDARD
BEGIN:DAYLIGHT
TZOFFSETFROM:+0000
TZOFFSETTO:+0100
TZNAME:WEST
DTSTART:20220327T010000
END:DAYLIGHT
BEGIN:STANDARD
TZOFFSETFROM:+0100
TZOFFSETTO:+0000
TZNAME:WET
DTSTART:20221030T010000
END:STANDARD
BEGIN:DAYLIGHT
TZOFFSETFROM:+0000
TZOFFSETTO:+0100
TZNAME:WEST
DTSTART:20230326T010000
END:DAYLIGHT
BEGIN:STANDARD
TZOFFSETFROM:+0100
TZOFFSETTO:+0000
TZNAME:WET
DTSTART:20231029T010000
END:STANDARD
BEGIN:DAYLIGHT
TZOFFSETFROM:+0000
TZOFFSETTO:+0100
TZNAME:WEST
DTSTART:20240331T010000
END:DAYLIGHT
BEGIN:STANDARD
TZOFFSETFROM:+0100
TZOFFSETTO:+0000
TZNAME:WET
DTSTART:20241027T010000
END:STANDARD
BEGIN:DAYLIGHT
TZOFFSETFROM:+0000
TZOFFSETTO:+0100
TZNAME:WEST
DTSTART:20250330T010000
END:DAYLIGHT
BEGIN:STANDARD
TZOFFSETFROM:+0100
TZOFFSETTO:+0000
TZNAME:WET
DTSTART:20251026T010000
END:STANDARD
BEGIN:DAYLIGHT
TZOFFSETFROM:+0000
TZOFFSETTO:+0100
TZNAME:WEST
DTSTART:20260329T010000
END:DAYLIGHT
BEGIN:STANDARD
TZOFFSETFROM:+0100
TZOFFSETTO:+0000
TZNAME:WET
DTSTART:20261025T010000
END:STANDARD
END:VTIMEZONE
BEGIN:VEVENT
DTSTART;TZID=Europe/Lisbon:20260423T024108
DTEND;TZID=Europe/Lisbon:20250102T152944
DTSTAMP:20260423T024108
CREATED:20250102T152944Z
LAST-MODIFIED:20250102T152944Z
UID:67640-0-1735831784@diocesedeviseu.pt
SUMMARY:Celebração da Eucaristia do aniversário da PSP
DESCRIPTION:
URL:https://diocesedeviseu.pt/evento/celebracao-da-eucaristia-do-aniversario-da-psp/
LOCATION:Sé de Viseu\, Sé\, Viseu\, 3500-163\, Portugal
END:VEVENT
BEGIN:VEVENT
DTSTART;TZID=Europe/Lisbon:20260423T024108
DTEND;TZID=Europe/Lisbon:20251023T110705
DTSTAMP:20260423T024108
CREATED:20251023T110704Z
LAST-MODIFIED:20251023T110704Z
UID:74144-0-1761217625@diocesedeviseu.pt
SUMMARY:Reunião do Arciprestado da Beira Alta
DESCRIPTION:
URL:https://diocesedeviseu.pt/evento/reuniao-do-arciprestado-da-beira-alta-9/
LOCATION:Complexo Paroquial de Mangualde\, Mangualde\, Mangualde\, Portugal
END:VEVENT
BEGIN:VEVENT
DTSTART;VALUE=DATE:20231208
DTEND;VALUE=DATE:20231209
DTSTAMP:20260423T024108
CREATED:20230506T142131Z
LAST-MODIFIED:20230506T142131Z
UID:55272-1701993600-1702079999@diocesedeviseu.pt
SUMMARY:Solenidade da Imaculada Conceição da Virgem Santa Maria
DESCRIPTION:
URL:https://diocesedeviseu.pt/evento/solenidade-da-imaculada-conceicao-da-virgem-santa-maria-2/
CATEGORIES:Lembretes
END:VEVENT
BEGIN:VEVENT
DTSTART;TZID=Europe/Lisbon:20231209T193000
DTEND;TZID=Europe/Lisbon:20231209T193000
DTSTAMP:20260423T024108
CREATED:20231206T114351Z
LAST-MODIFIED:20231206T114351Z
UID:59137-1702150200-1702150200@diocesedeviseu.pt
SUMMARY:Jantar Solidário
DESCRIPTION:
URL:https://diocesedeviseu.pt/evento/jantar-solidario/
LOCATION:Junta de Freguesia de Viseu\, Viseu\, Viseu\, Portugal
END:VEVENT
BEGIN:VEVENT
DTSTART;TZID=Europe/Lisbon:20231210T090000
DTEND;TZID=Europe/Lisbon:20231210T090000
DTSTAMP:20260423T024108
CREATED:20231206T114628Z
LAST-MODIFIED:20231206T114628Z
UID:59140-1702198800-1702198800@diocesedeviseu.pt
SUMMARY:Celebração da eucaristia
DESCRIPTION:
URL:https://diocesedeviseu.pt/evento/celebracao-da-eucaristia-8/
LOCATION:Convento de Santa Beatriz\, no Viso\, Viso\, Viseu\, Portugal
END:VEVENT
BEGIN:VEVENT
DTSTART;TZID=Europe/Lisbon:20231210T150000
DTEND;TZID=Europe/Lisbon:20231210T150000
DTSTAMP:20260423T024108
CREATED:20231206T114944Z
LAST-MODIFIED:20231206T114944Z
UID:59143-1702220400-1702220400@diocesedeviseu.pt
SUMMARY:Inauguração de Exposição de Arte Sacra: 'Presenças de Eternidade'
DESCRIPTION:
URL:https://diocesedeviseu.pt/evento/inauguracao-de-exposicao-de-arte-sacra-presencas-de-eternidade/
LOCATION:Sátão\, 3560 Sátão\, Portugal\, Sátão\, 3560 Sátão\, Portugal\, Sátão\, Portugal
END:VEVENT
BEGIN:VEVENT
DTSTART;TZID=Europe/Lisbon:20231211T101500
DTEND;TZID=Europe/Lisbon:20231211T101500
DTSTAMP:20260423T024108
CREATED:20231206T115218Z
LAST-MODIFIED:20231206T115218Z
UID:59146-1702289700-1702289700@diocesedeviseu.pt
SUMMARY:Comemoração dos 125 anos da Escola Secundária Emídio Navarro
DESCRIPTION:
URL:https://diocesedeviseu.pt/evento/comemoracao-dos-125-anos-da-escola-secundaria-emidio-navarro/
LOCATION:Escola Secundária Emídio Navarro\, Viseu\, Viseu\, Portugal
END:VEVENT
BEGIN:VEVENT
DTSTART;TZID=Europe/Lisbon:20231212T100000
DTEND;TZID=Europe/Lisbon:20231212T100000
DTSTAMP:20260423T024108
CREATED:20231206T115344Z
LAST-MODIFIED:20231206T115344Z
UID:59150-1702375200-1702375200@diocesedeviseu.pt
SUMMARY:Reunião do Arciprestado de Lafões
DESCRIPTION:
URL:https://diocesedeviseu.pt/evento/reuniao-do-arciprestado-de-lafoes/
LOCATION:Oliveira de Frades\, Oliveira de Frades\, Oliveira de Frades\, Portugal
END:VEVENT
BEGIN:VEVENT
DTSTART;TZID=Europe/Lisbon:20231212T210000
DTEND;TZID=Europe/Lisbon:20231212T210000
DTSTAMP:20260423T024108
CREATED:20231008T204521Z
LAST-MODIFIED:20231008T204521Z
UID:57895-1702414800-1702414800@diocesedeviseu.pt
SUMMARY:Oração de Taizé
DESCRIPTION:
URL:https://diocesedeviseu.pt/evento/oracao-de-taize-12/
LOCATION:Igreja dos Terceiros – Viseu
CATEGORIES:Lembretes
END:VEVENT
BEGIN:VEVENT
DTSTART;TZID=Europe/Lisbon:20231213T120000
DTEND;TZID=Europe/Lisbon:20231213T120000
DTSTAMP:20260423T024108
CREATED:20231206T115556Z
LAST-MODIFIED:20231206T115556Z
UID:59152-1702468800-1702468800@diocesedeviseu.pt
SUMMARY:Celebração da festa de Natal da Cáritas
DESCRIPTION:
URL:https://diocesedeviseu.pt/evento/celebracao-da-festa-de-natal-da-caritas/
LOCATION:Queiriga\, Vila Nova de Paiva\, Vila Nova de Paiva\, Portugal
END:VEVENT
BEGIN:VEVENT
DTSTART;TZID=Europe/Lisbon:20231214T180000
DTEND;TZID=Europe/Lisbon:20231214T180000
DTSTAMP:20260423T024108
CREATED:20231206T115819Z
LAST-MODIFIED:20231206T115819Z
UID:59155-1702576800-1702576800@diocesedeviseu.pt
SUMMARY:Missa e ceia de Natal com os Cursistas
DESCRIPTION:
URL:https://diocesedeviseu.pt/evento/missa-e-ceia-de-natal-com-os-cursistas/
LOCATION:Igreja do Complexo de Mangualde\, Mangualde\, Mangualde\, Portugal
END:VEVENT
BEGIN:VEVENT
DTSTART;TZID=Europe/Lisbon:20231215T213000
DTEND;TZID=Europe/Lisbon:20231215T213000
DTSTAMP:20260423T024108
CREATED:20231213T094451Z
LAST-MODIFIED:20231213T094451Z
UID:59289-1702675800-1702675800@diocesedeviseu.pt
SUMMARY:Celebração da Luz de Belém
DESCRIPTION:
URL:https://diocesedeviseu.pt/evento/celebracao-da-luz-de-belem/
LOCATION:Sé de Viseu\, Sé\, Viseu\, 3500-163\, Portugal
END:VEVENT
BEGIN:VEVENT
DTSTART;TZID=Europe/Lisbon:20231216T103000
DTEND;TZID=Europe/Lisbon:20231216T103000
DTSTAMP:20260423T024108
CREATED:20231213T171008Z
LAST-MODIFIED:20231213T171008Z
UID:59316-1702722600-1702722600@diocesedeviseu.pt
SUMMARY:Encontro com os jovens da catequese
DESCRIPTION:
URL:https://diocesedeviseu.pt/evento/encontro-com-os-jovens-da-catequese/
LOCATION:Livraria do Jornal da Beira R. Nunes de Carvalho 28\, 3500-073 Viseu\, Portugal\, Casa Episcopal – Rua Nunes de Carvalho\, nº 12 – 3500-163 VISEU\, Viseu\, 3500-163\, Portugal
END:VEVENT
BEGIN:VEVENT
DTSTART;TZID=Europe/Lisbon:20231216T150000
DTEND;TZID=Europe/Lisbon:20231216T150000
DTSTAMP:20260423T024108
CREATED:20231213T094710Z
LAST-MODIFIED:20231213T094710Z
UID:59292-1702738800-1702738800@diocesedeviseu.pt
SUMMARY:Encerramento do 20.º aniversário do Tribunal de Viseu
DESCRIPTION:
URL:https://diocesedeviseu.pt/evento/encerramento-do-20-o-aniversario-do-tribunal-de-viseu/
LOCATION:Viseu
END:VEVENT
BEGIN:VEVENT
DTSTART;TZID=Europe/Lisbon:20231216T173000
DTEND;TZID=Europe/Lisbon:20231216T173000
DTSTAMP:20260423T024108
CREATED:20231213T094916Z
LAST-MODIFIED:20231213T094916Z
UID:59294-1702747800-1702747800@diocesedeviseu.pt
SUMMARY:Celebração da Eucaristia e inauguração da Campanha de 10 Milhões de Estrelas
DESCRIPTION:
URL:https://diocesedeviseu.pt/evento/celebracao-da-eucaristia-e-inauguracao-da-campanha-de-10-milhoes-de-estrelas/
LOCATION:Igreja dos Terceiros – Viseu
END:VEVENT
BEGIN:VEVENT
DTSTART;TZID=Europe/Lisbon:20231217T103000
DTEND;TZID=Europe/Lisbon:20231217T103000
DTSTAMP:20260423T024108
CREATED:20231213T095214Z
LAST-MODIFIED:20231216T143833Z
UID:59296-1702809000-1702809000@diocesedeviseu.pt
SUMMARY:Celebração da eucaristia
DESCRIPTION:
URL:https://diocesedeviseu.pt/evento/celebracao-da-eucaristia-9/
LOCATION:Seminário das Missões – Viseu
END:VEVENT
BEGIN:VEVENT
DTSTART;TZID=Europe/Lisbon:20231218T103000
DTEND;TZID=Europe/Lisbon:20231218T103000
DTSTAMP:20260423T024108
CREATED:20231213T095448Z
LAST-MODIFIED:20231213T095448Z
UID:59300-1702895400-1702895400@diocesedeviseu.pt
SUMMARY:Encontro dos Bispos do Centro
DESCRIPTION:
URL:https://diocesedeviseu.pt/evento/encontro-dos-bispos-do-centro-2/
LOCATION:Casa Episcopal de Aveiro\, Aveiro\, Aveiro\, Portugal
END:VEVENT
BEGIN:VEVENT
DTSTART;TZID=Europe/Lisbon:20231219T113000
DTEND;TZID=Europe/Lisbon:20231219T113000
DTSTAMP:20260423T024108
CREATED:20231213T095638Z
LAST-MODIFIED:20231213T095638Z
UID:59303-1702985400-1702985400@diocesedeviseu.pt
SUMMARY:Eucaristia e almoço de Natal com os idosos
DESCRIPTION:
URL:https://diocesedeviseu.pt/evento/eucaristia-e-almoco-de-natal-com-os-idosos/
LOCATION:Aguiar da Beira\, 3570 Aguiar da Beira\, Portugal\, Aguiar da Beira\, Aguiar da Beira\, Portugal
END:VEVENT
BEGIN:VEVENT
DTSTART;TZID=Europe/Lisbon:20231220T120000
DTEND;TZID=Europe/Lisbon:20231220T120000
DTSTAMP:20260423T024108
CREATED:20231213T095755Z
LAST-MODIFIED:20231213T095755Z
UID:59306-1703073600-1703073600@diocesedeviseu.pt
SUMMARY:Almoço de Natal com a GNR
DESCRIPTION:
URL:https://diocesedeviseu.pt/evento/almoco-de-natal-com-a-gnr/
LOCATION:Viseu
END:VEVENT
BEGIN:VEVENT
DTSTART;TZID=Europe/Lisbon:20231220T163000
DTEND;TZID=Europe/Lisbon:20231220T163000
DTSTAMP:20260423T024108
CREATED:20231213T095944Z
LAST-MODIFIED:20231213T095944Z
UID:59308-1703089800-1703089800@diocesedeviseu.pt
SUMMARY:Celebração da Eucaristia
DESCRIPTION:
URL:https://diocesedeviseu.pt/evento/celebracao-da-eucaristia-10/
LOCATION:Capela do Hospital de São Teotónio\, em Viseu\, Hospital São Teotónio\, Viseu\, 3500-163\, Portugal
END:VEVENT
BEGIN:VEVENT
DTSTART;TZID=Europe/Lisbon:20231220T200000
DTEND;TZID=Europe/Lisbon:20231220T200000
DTSTAMP:20260423T024108
CREATED:20231219T155533Z
LAST-MODIFIED:20231219T155533Z
UID:59417-1703102400-1703102400@diocesedeviseu.pt
SUMMARY:Concerto de Natal do Município de Viseu
DESCRIPTION:
URL:https://diocesedeviseu.pt/evento/concerto-de-natal-do-municipio-de-viseu/
LOCATION:Pavilhão Multiusos – Viseu
END:VEVENT
BEGIN:VEVENT
DTSTART;TZID=Europe/Lisbon:20231222T180000
DTEND;TZID=Europe/Lisbon:20231222T180000
DTSTAMP:20260423T024108
CREATED:20231220T150335Z
LAST-MODIFIED:20231220T150335Z
UID:59445-1703268000-1703268000@diocesedeviseu.pt
SUMMARY:Festa de Natal do Movimento dos Neocatecumenais
DESCRIPTION:
URL:https://diocesedeviseu.pt/evento/festa-de-natal-do-movimento-dos-neocatecumenais/
LOCATION:Seminário de Viseu\, Viseu\, Viseu\, Portugal
END:VEVENT
BEGIN:VEVENT
DTSTART;TZID=Europe/Lisbon:20231224T093000
DTEND;TZID=Europe/Lisbon:20231224T093000
DTSTAMP:20260423T024108
CREATED:20231220T150509Z
LAST-MODIFIED:20231220T150509Z
UID:59447-1703410200-1703410200@diocesedeviseu.pt
SUMMARY:Celebração da eucaristia
DESCRIPTION:
URL:https://diocesedeviseu.pt/evento/celebracao-da-eucaristia-11/
LOCATION:Centro Pastoral Diocesano – Viseu
END:VEVENT
BEGIN:VEVENT
DTSTART;VALUE=DATE:20231225
DTEND;VALUE=DATE:20231226
DTSTAMP:20260423T024108
CREATED:20230506T142226Z
LAST-MODIFIED:20230506T142226Z
UID:55274-1703462400-1703548799@diocesedeviseu.pt
SUMMARY:Natal do Senhor
DESCRIPTION:
URL:https://diocesedeviseu.pt/evento/natal-do-senhor-5/
CATEGORIES:Lembretes
END:VEVENT
BEGIN:VEVENT
DTSTART;TZID=Europe/Lisbon:20231225T000000
DTEND;TZID=Europe/Lisbon:20231225T000000
DTSTAMP:20260423T024108
CREATED:20231222T113448Z
LAST-MODIFIED:20231222T113448Z
UID:59489-1703462400-1703462400@diocesedeviseu.pt
SUMMARY:Celebração da Missa da Noite
DESCRIPTION:
URL:https://diocesedeviseu.pt/evento/celebracao-da-missa-da-noite/
LOCATION:Sé de Viseu\, Sé\, Viseu\, 3500-163\, Portugal
END:VEVENT
BEGIN:VEVENT
DTSTART;TZID=Europe/Lisbon:20231225T110000
DTEND;TZID=Europe/Lisbon:20231225T110000
DTSTAMP:20260423T024108
CREATED:20231220T150626Z
LAST-MODIFIED:20231220T150626Z
UID:59449-1703502000-1703502000@diocesedeviseu.pt
SUMMARY:Missa do Dia de Natal
DESCRIPTION:
URL:https://diocesedeviseu.pt/evento/missa-do-dia-de-natal/
LOCATION:Sé de Viseu\, Sé\, Viseu\, 3500-163\, Portugal
END:VEVENT
BEGIN:VEVENT
DTSTART;TZID=Europe/Lisbon:20231228T153000
DTEND;TZID=Europe/Lisbon:20231228T153000
DTSTAMP:20260423T024108
CREATED:20231220T145929Z
LAST-MODIFIED:20231220T145929Z
UID:59442-1703777400-1703777400@diocesedeviseu.pt
SUMMARY:Tomada de posse do Comandante do Regimento de Infantaria N.º14
DESCRIPTION:
URL:https://diocesedeviseu.pt/evento/tomada-de-posse-do-comandante-do-regimento-de-infantaria-n-o14/
LOCATION:Quartel R14\, Viseu\, Viseu\, 3500-163\, Portugal
END:VEVENT
BEGIN:VEVENT
DTSTART;TZID=Europe/Lisbon:20231231T093000
DTEND;TZID=Europe/Lisbon:20231231T093000
DTSTAMP:20260423T024108
CREATED:20231230T104214Z
LAST-MODIFIED:20231230T104214Z
UID:59675-1704015000-1704015000@diocesedeviseu.pt
SUMMARY:Celebração da Eucaristia da Festa da Sagrada Família
DESCRIPTION:
URL:https://diocesedeviseu.pt/evento/celebracao-da-eucaristia-da-festa-da-sagrada-familia/
LOCATION:Igreja Paroquial de Ribafeita\, Viseu\, Viseu\, 3500-163\, Portugal
END:VEVENT
BEGIN:VEVENT
DTSTART;TZID=Europe/Lisbon:20240101T110000
DTEND;TZID=Europe/Lisbon:20240101T110000
DTSTAMP:20260423T024108
CREATED:20231230T104419Z
LAST-MODIFIED:20231230T104419Z
UID:59679-1704106800-1704106800@diocesedeviseu.pt
SUMMARY:Eucaristia da Solenidade de Santa Maria Mãe de Deus e Dia Mundial de Paz
DESCRIPTION:
URL:https://diocesedeviseu.pt/evento/eucaristia-da-solenidade-de-santa-maria-mae-de-deus-e-dia-mundial-de-paz/
LOCATION:Sé de Viseu\, Sé\, Viseu\, 3500-163\, Portugal
END:VEVENT
BEGIN:VEVENT
DTSTART;TZID=Europe/Lisbon:20240104T100000
DTEND;TZID=Europe/Lisbon:20240104T100000
DTSTAMP:20260423T024108
CREATED:20240104T095904Z
LAST-MODIFIED:20240104T095904Z
UID:59796-1704362400-1704362400@diocesedeviseu.pt
SUMMARY:Reunião do Arciprestado da Beira Alta
DESCRIPTION:
URL:https://diocesedeviseu.pt/evento/reuniao-do-arciprestado-da-beira-alta-2/
LOCATION:Complexo Paroquial de Mangualde\, Mangualde\, Mangualde\, Portugal
END:VEVENT
END:VCALENDAR