BEGIN:VCALENDAR
VERSION:2.0
PRODID:-//Diocese de Viseu - ECPv6.15.18//NONSGML v1.0//EN
CALSCALE:GREGORIAN
METHOD:PUBLISH
X-ORIGINAL-URL:https://diocesedeviseu.pt
X-WR-CALDESC:Eventos para Diocese de Viseu
REFRESH-INTERVAL;VALUE=DURATION:PT1H
X-Robots-Tag:noindex
X-PUBLISHED-TTL:PT1H
BEGIN:VTIMEZONE
TZID:Europe/Lisbon
BEGIN:DAYLIGHT
TZOFFSETFROM:+0000
TZOFFSETTO:+0100
TZNAME:WEST
DTSTART:20250330T010000
END:DAYLIGHT
BEGIN:STANDARD
TZOFFSETFROM:+0100
TZOFFSETTO:+0000
TZNAME:WET
DTSTART:20251026T010000
END:STANDARD
BEGIN:DAYLIGHT
TZOFFSETFROM:+0000
TZOFFSETTO:+0100
TZNAME:WEST
DTSTART:20260329T010000
END:DAYLIGHT
BEGIN:STANDARD
TZOFFSETFROM:+0100
TZOFFSETTO:+0000
TZNAME:WET
DTSTART:20261025T010000
END:STANDARD
BEGIN:DAYLIGHT
TZOFFSETFROM:+0000
TZOFFSETTO:+0100
TZNAME:WEST
DTSTART:20270328T010000
END:DAYLIGHT
BEGIN:STANDARD
TZOFFSETFROM:+0100
TZOFFSETTO:+0000
TZNAME:WET
DTSTART:20271031T010000
END:STANDARD
END:VTIMEZONE
BEGIN:VEVENT
DTSTART;TZID=Europe/Lisbon:20260115T160000
DTEND;TZID=Europe/Lisbon:20260115T160000
DTSTAMP:20260423T041313
CREATED:20260114T144031Z
LAST-MODIFIED:20260114T144031Z
UID:76204-1768492800-1768492800@diocesedeviseu.pt
SUMMARY:Receção ao Comandante do RI 14
DESCRIPTION:
URL:https://diocesedeviseu.pt/evento/rececao-ao-comandante-do-ri-14/
LOCATION:Casa Episcopal Viseu\, Viseu\, Viseu\, Portugal
END:VEVENT
BEGIN:VEVENT
DTSTART;TZID=Europe/Lisbon:20260116T193000
DTEND;TZID=Europe/Lisbon:20260116T193000
DTSTAMP:20260423T041313
CREATED:20260114T144133Z
LAST-MODIFIED:20260114T144133Z
UID:76206-1768591800-1768591800@diocesedeviseu.pt
SUMMARY:Celebração da Eucaristia pelo aniversário da morte do Padre Nuno Azevedo
DESCRIPTION:
URL:https://diocesedeviseu.pt/evento/celebracao-da-eucaristia-pelo-aniversario-da-morte-do-padre-nuno-azevedo/
LOCATION:Paróquia de Lobelhe\, Mangualde
END:VEVENT
BEGIN:VEVENT
DTSTART;TZID=Europe/Lisbon:20260117T150000
DTEND;TZID=Europe/Lisbon:20260117T150000
DTSTAMP:20260423T041313
CREATED:20260114T144216Z
LAST-MODIFIED:20260114T144216Z
UID:76209-1768662000-1768662000@diocesedeviseu.pt
SUMMARY:Receção ao grupo do Orfeão de Viseu no Cântico das Janeiras
DESCRIPTION:
URL:https://diocesedeviseu.pt/evento/rececao-ao-grupo-do-orfeao-de-viseu-no-cantico-das-janeiras/
LOCATION:Casa Episcopal Viseu\, Viseu\, Viseu\, Portugal
END:VEVENT
BEGIN:VEVENT
DTSTART;TZID=Europe/Lisbon:20260117T170000
DTEND;TZID=Europe/Lisbon:20260117T170000
DTSTAMP:20260423T041313
CREATED:20260114T144257Z
LAST-MODIFIED:20260114T144257Z
UID:76211-1768669200-1768669200@diocesedeviseu.pt
SUMMARY:Celebração da Eucaristia no Encerramento do Curso de Ministros Extraordinários da Comunhão
DESCRIPTION:
URL:https://diocesedeviseu.pt/evento/celebracao-da-eucaristia-no-encerramento-do-curso-de-ministros-extraordinarios-da-comunhao/
END:VEVENT
BEGIN:VEVENT
DTSTART;VALUE=DATE:20260118
DTEND;VALUE=DATE:20260126
DTSTAMP:20260423T041313
CREATED:20260113T122659Z
LAST-MODIFIED:20260113T122659Z
UID:76166-1768694400-1769385599@diocesedeviseu.pt
SUMMARY:Semana de Oração Pela Unidade dos Cristãos
DESCRIPTION:
URL:https://diocesedeviseu.pt/evento/semana-de-oracao-pela-unidade-dos-cristaos-3/
END:VEVENT
BEGIN:VEVENT
DTSTART;TZID=Europe/Lisbon:20260118T110000
DTEND;TZID=Europe/Lisbon:20260118T110000
DTSTAMP:20260423T041313
CREATED:20260114T144348Z
LAST-MODIFIED:20260114T144348Z
UID:76213-1768734000-1768734000@diocesedeviseu.pt
SUMMARY:Celebração da Eucaristia
DESCRIPTION:
URL:https://diocesedeviseu.pt/evento/celebracao-da-eucaristia-24/
LOCATION:Igreja Paroquial de Queiriga
END:VEVENT
BEGIN:VEVENT
DTSTART;TZID=Europe/Lisbon:20260119T143000
DTEND;TZID=Europe/Lisbon:20260119T143000
DTSTAMP:20260423T041313
CREATED:20260114T144447Z
LAST-MODIFIED:20260114T144447Z
UID:76215-1768833000-1768833000@diocesedeviseu.pt
SUMMARY:Inauguração do restauro do retábulo
DESCRIPTION:
URL:https://diocesedeviseu.pt/evento/inauguracao-do-restauro-do-retabulo/
LOCATION:Capela das Pedrosas\, Sátão\, Sátão\, Sátão
END:VEVENT
BEGIN:VEVENT
DTSTART;TZID=Europe/Lisbon:20260120T210000
DTEND;TZID=Europe/Lisbon:20260120T210000
DTSTAMP:20260423T041313
CREATED:20260114T144526Z
LAST-MODIFIED:20260114T144526Z
UID:76218-1768942800-1768942800@diocesedeviseu.pt
SUMMARY:Oração de Taizé centrada no tema da Semana de Oração Pela Unidade dos Cristãos
DESCRIPTION:
URL:https://diocesedeviseu.pt/evento/oracao-de-taize-centrada-no-tema-da-semana-de-oracao-pela-unidade-dos-cristaos/
LOCATION:Igreja dos Terceiros
END:VEVENT
BEGIN:VEVENT
DTSTART;TZID=Europe/Lisbon:20260121T173000
DTEND;TZID=Europe/Lisbon:20260121T173000
DTSTAMP:20260423T041313
CREATED:20260114T144612Z
LAST-MODIFIED:20260114T144612Z
UID:76221-1769016600-1769016600@diocesedeviseu.pt
SUMMARY:Reunião do Conselho dos Assuntos Económicos da Diocese
DESCRIPTION:
URL:https://diocesedeviseu.pt/evento/reuniao-do-conselho-dos-assuntos-economicos-da-diocese/
LOCATION:Casa Episcopal Viseu\, Viseu\, Viseu\, Portugal
END:VEVENT
BEGIN:VEVENT
DTSTART;VALUE=DATE:20260123
DTEND;VALUE=DATE:20260124
DTSTAMP:20260423T041313
CREATED:20260122T102300Z
LAST-MODIFIED:20260122T102300Z
UID:76404-1769126400-1769212799@diocesedeviseu.pt
SUMMARY:Reunião do Conselho Geral da UCP
DESCRIPTION:
URL:https://diocesedeviseu.pt/evento/reuniao-do-conselho-geral-da-ucp/
LOCATION:UCP Lisboa\, Lisboa\, Lisboa\, Portugal
END:VEVENT
BEGIN:VEVENT
DTSTART;VALUE=DATE:20260124
DTEND;VALUE=DATE:20260126
DTSTAMP:20260423T041313
CREATED:20260106T112053Z
LAST-MODIFIED:20260106T112053Z
UID:75972-1769212800-1769385599@diocesedeviseu.pt
SUMMARY:Retiro para agentes pastorais
DESCRIPTION:
URL:https://diocesedeviseu.pt/evento/retiro-para-agentes-pastorais-3/
LOCATION:Seminário de Viseu\, Viseu\, Viseu\, Portugal
END:VEVENT
BEGIN:VEVENT
DTSTART;TZID=Europe/Lisbon:20260125T103000
DTEND;TZID=Europe/Lisbon:20260125T103000
DTSTAMP:20260423T041313
CREATED:20260122T102415Z
LAST-MODIFIED:20260122T102415Z
UID:76406-1769337000-1769337000@diocesedeviseu.pt
SUMMARY:Celebração da Eucaristia na festa de São Sebastião e administração do Crisma
DESCRIPTION:
URL:https://diocesedeviseu.pt/evento/celebracao-da-eucaristia-na-festa-de-sao-sebastiao-e-administracao-do-crisma/
LOCATION:Igreja Paroquial de Junqueira\, Junqueira
END:VEVENT
BEGIN:VEVENT
DTSTART;TZID=Europe/Lisbon:20260125T170000
DTEND;TZID=Europe/Lisbon:20260125T170000
DTSTAMP:20260423T041313
CREATED:20260122T102501Z
LAST-MODIFIED:20260122T102501Z
UID:76409-1769360400-1769360400@diocesedeviseu.pt
SUMMARY:Celebração da Eucaristia com os jovens da Missão País
DESCRIPTION:
URL:https://diocesedeviseu.pt/evento/celebracao-da-eucaristia-com-os-jovens-da-missao-pais/
LOCATION:Carregal  do Sal\, Carregal do Sal
END:VEVENT
BEGIN:VEVENT
DTSTART;TZID=Europe/Lisbon:20260126T100000
DTEND;TZID=Europe/Lisbon:20260126T100000
DTSTAMP:20260423T041313
CREATED:20260122T102537Z
LAST-MODIFIED:20260122T102537Z
UID:76411-1769421600-1769421600@diocesedeviseu.pt
SUMMARY:Reunião dos Bispos do Centro
DESCRIPTION:
URL:https://diocesedeviseu.pt/evento/reuniao-dos-bispos-do-centro-16/
LOCATION:Casa Episcopal Viseu\, Viseu\, Viseu\, Portugal
END:VEVENT
BEGIN:VEVENT
DTSTART;VALUE=DATE:20260127
DTEND;VALUE=DATE:20260130
DTSTAMP:20260423T041313
CREATED:20251211T101659Z
LAST-MODIFIED:20251211T101659Z
UID:75295-1769472000-1769731199@diocesedeviseu.pt
SUMMARY:Jornadas do Clero das Dioceses do Centro
DESCRIPTION:
URL:https://diocesedeviseu.pt/evento/jornadas-do-clero-das-dioceses-do-centro/
LOCATION:Fátima\, Fátima\, Fátima\, Portugal
END:VEVENT
BEGIN:VEVENT
DTSTART;TZID=Europe/Lisbon:20260201T093000
DTEND;TZID=Europe/Lisbon:20260226T105357
DTSTAMP:20260423T041313
CREATED:20260226T105357Z
LAST-MODIFIED:20260226T105357Z
UID:77278-1769938200-1772103237@diocesedeviseu.pt
SUMMARY:Celebração da Eucaristia
DESCRIPTION:
URL:https://diocesedeviseu.pt/evento/celebracao-da-eucaristia-27/
LOCATION:Centro Socio Pastoral\, Viseu\, Viseu\, Portugal
END:VEVENT
BEGIN:VEVENT
DTSTART;TZID=Europe/Lisbon:20260203T163000
DTEND;TZID=Europe/Lisbon:20260203T163000
DTSTAMP:20260423T041313
CREATED:20260203T154901Z
LAST-MODIFIED:20260203T154901Z
UID:76658-1770136200-1770136200@diocesedeviseu.pt
SUMMARY:Oração de Vésperas e Adoração Eucarística
DESCRIPTION:
URL:https://diocesedeviseu.pt/evento/oracao-de-vesperas-e-adoracao-eucaristica/
LOCATION:Igreja dos Terceiros
END:VEVENT
BEGIN:VEVENT
DTSTART;TZID=Europe/Lisbon:20260205T210000
DTEND;TZID=Europe/Lisbon:20260205T210000
DTSTAMP:20260423T041313
CREATED:20260203T155002Z
LAST-MODIFIED:20260203T155002Z
UID:76660-1770325200-1770325200@diocesedeviseu.pt
SUMMARY:Conselho Pastoral Paroquial
DESCRIPTION:
URL:https://diocesedeviseu.pt/evento/conselho-pastoral-paroquial/
LOCATION:Igreja da Paróquia do Coração de Jesus\, VISEU\, Viseu\, 3500-163\, Portugal
END:VEVENT
BEGIN:VEVENT
DTSTART;TZID=Europe/Lisbon:20260205T210000
DTEND;TZID=Europe/Lisbon:20260205T210000
DTSTAMP:20260423T041313
CREATED:20260205T152513Z
LAST-MODIFIED:20260205T152513Z
UID:76732-1770325200-1770325200@diocesedeviseu.pt
SUMMARY:Encontro com o Conselho Pastoral da Paróquia de Coração de Jesus
DESCRIPTION:
URL:https://diocesedeviseu.pt/evento/encontro-com-o-conselho-pastoral-da-paroquia-de-coracao-de-jesus/
LOCATION:Auditório da Paróquia do Coração de Jesus\, Viseu
END:VEVENT
BEGIN:VEVENT
DTSTART;TZID=Europe/Lisbon:20260206T090000
DTEND;TZID=Europe/Lisbon:20260206T090000
DTSTAMP:20260423T041313
CREATED:20260203T155108Z
LAST-MODIFIED:20260203T155108Z
UID:76662-1770368400-1770368400@diocesedeviseu.pt
SUMMARY:Visita Pastoral do Bispo
DESCRIPTION:
URL:https://diocesedeviseu.pt/evento/visita-pastoral-do-bispo/
LOCATION:Colégio da Imaculada Conceição\, Viseu\, Viseu
END:VEVENT
BEGIN:VEVENT
DTSTART;TZID=Europe/Lisbon:20260206T100000
DTEND;TZID=Europe/Lisbon:20260206T100000
DTSTAMP:20260423T041313
CREATED:20260203T155144Z
LAST-MODIFIED:20260203T155144Z
UID:76665-1770372000-1770372000@diocesedeviseu.pt
SUMMARY:Visita Pastoral do Bispo
DESCRIPTION:
URL:https://diocesedeviseu.pt/evento/visita-pastoral-do-bispo-2/
LOCATION:Obra de Santa Zita\, Viseu\, Viseu
END:VEVENT
BEGIN:VEVENT
DTSTART;TZID=Europe/Lisbon:20260206T110000
DTEND;TZID=Europe/Lisbon:20260206T110000
DTSTAMP:20260423T041313
CREATED:20260203T155218Z
LAST-MODIFIED:20260203T155218Z
UID:76668-1770375600-1770375600@diocesedeviseu.pt
SUMMARY:Visita Pastoral do Bispo
DESCRIPTION:
URL:https://diocesedeviseu.pt/evento/visita-pastoral-do-bispo-3/
LOCATION:Clube do Moinho
END:VEVENT
BEGIN:VEVENT
DTSTART;VALUE=DATE:20260207
DTEND;VALUE=DATE:20260208
DTSTAMP:20260423T041313
CREATED:20260203T155638Z
LAST-MODIFIED:20260203T155638Z
UID:76676-1770422400-1770508799@diocesedeviseu.pt
SUMMARY:Jornadas da Comissão Justiça e Paz
DESCRIPTION:
URL:https://diocesedeviseu.pt/evento/jornadas-da-comissao-justica-e-paz/
LOCATION:Escola Superior de Saude\, Viseu\, Viseu\, Viseu\, Portugal
END:VEVENT
BEGIN:VEVENT
DTSTART;VALUE=DATE:20260207
DTEND;VALUE=DATE:20260208
DTSTAMP:20260423T041313
CREATED:20260203T155729Z
LAST-MODIFIED:20260203T155729Z
UID:76678-1770422400-1770508799@diocesedeviseu.pt
SUMMARY:Encontro de formação de acólitos
DESCRIPTION:
URL:https://diocesedeviseu.pt/evento/encontro-de-formacao-de-acolitos/
LOCATION:Igreja do Complexo de Mangualde\, Mangualde\, Mangualde\, Portugal
END:VEVENT
BEGIN:VEVENT
DTSTART;TZID=Europe/Lisbon:20260207T110000
DTEND;TZID=Europe/Lisbon:20260207T110000
DTSTAMP:20260423T041313
CREATED:20260203T160015Z
LAST-MODIFIED:20260203T160015Z
UID:76682-1770462000-1770462000@diocesedeviseu.pt
SUMMARY:Celebração da Eucaristia com administração da Unção dos Doentes
DESCRIPTION:
URL:https://diocesedeviseu.pt/evento/celebracao-da-eucaristia-com-administracao-da-uncao-dos-doentes/
LOCATION:Igreja da Paróquia do Coração de Jesus\, VISEU\, Viseu\, 3500-163\, Portugal
END:VEVENT
BEGIN:VEVENT
DTSTART;TZID=Europe/Lisbon:20260207T180000
DTEND;TZID=Europe/Lisbon:20260207T180000
DTSTAMP:20260423T041313
CREATED:20260203T155355Z
LAST-MODIFIED:20260203T155355Z
UID:76672-1770487200-1770487200@diocesedeviseu.pt
SUMMARY:Missa Vespertina com a Catequese de Adolescência e de Adultos
DESCRIPTION:
URL:https://diocesedeviseu.pt/evento/missa-vespertina-com-a-catequese-de-adolescencia-e-de-adultos/
LOCATION:Igreja da Paróquia do Coração de Jesus\, VISEU\, Viseu\, 3500-163\, Portugal
END:VEVENT
BEGIN:VEVENT
DTSTART;TZID=Europe/Lisbon:20260207T193000
DTEND;TZID=Europe/Lisbon:20260207T193000
DTSTAMP:20260423T041313
CREATED:20260203T155259Z
LAST-MODIFIED:20260203T155259Z
UID:76670-1770492600-1770492600@diocesedeviseu.pt
SUMMARY:Noite de Fados
DESCRIPTION:
URL:https://diocesedeviseu.pt/evento/noite-de-fados/
LOCATION:Igreja da Paróquia do Coração de Jesus\, VISEU\, Viseu\, 3500-163\, Portugal
END:VEVENT
BEGIN:VEVENT
DTSTART;TZID=Europe/Lisbon:20260208T110000
DTEND;TZID=Europe/Lisbon:20260208T110000
DTSTAMP:20260423T041313
CREATED:20260203T155532Z
LAST-MODIFIED:20260203T155532Z
UID:76674-1770548400-1770548400@diocesedeviseu.pt
SUMMARY:Missa de Encerramento da Visita Pastoral
DESCRIPTION:
URL:https://diocesedeviseu.pt/evento/missa-de-encerramento-da-visita-pastoral/
LOCATION:Igreja da Paróquia do Coração de Jesus\, VISEU\, Viseu\, 3500-163\, Portugal
END:VEVENT
BEGIN:VEVENT
DTSTART;TZID=Europe/Lisbon:20260209T103000
DTEND;TZID=Europe/Lisbon:20260209T103000
DTSTAMP:20260423T041313
CREATED:20260205T152705Z
LAST-MODIFIED:20260205T152705Z
UID:76734-1770633000-1770633000@diocesedeviseu.pt
SUMMARY:Reunião dos Bispos do Centro
DESCRIPTION:
URL:https://diocesedeviseu.pt/evento/reuniao-dos-bispos-do-centro-17/
LOCATION:Casa Episcopal de Aveiro\, Aveiro\, Aveiro\, Portugal
END:VEVENT
BEGIN:VEVENT
DTSTART;TZID=Europe/Lisbon:20260210T113000
DTEND;TZID=Europe/Lisbon:20260210T113000
DTSTAMP:20260423T041313
CREATED:20260205T152746Z
LAST-MODIFIED:20260205T152746Z
UID:76736-1770723000-1770723000@diocesedeviseu.pt
SUMMARY:Encontro com os membros do Conselho Presbiteral cessante
DESCRIPTION:
URL:https://diocesedeviseu.pt/evento/encontro-com-os-membros-do-conselho-presbiteral-cessante/
LOCATION:Seminário de Viseu\, Viseu\, Viseu\, Portugal
END:VEVENT
END:VCALENDAR