BEGIN:VCALENDAR
VERSION:2.0
PRODID:-//Diocese de Viseu - ECPv6.15.18//NONSGML v1.0//EN
CALSCALE:GREGORIAN
METHOD:PUBLISH
X-ORIGINAL-URL:https://diocesedeviseu.pt
X-WR-CALDESC:Eventos para Diocese de Viseu
REFRESH-INTERVAL;VALUE=DURATION:PT1H
X-Robots-Tag:noindex
X-PUBLISHED-TTL:PT1H
BEGIN:VTIMEZONE
TZID:Europe/Lisbon
BEGIN:DAYLIGHT
TZOFFSETFROM:+0000
TZOFFSETTO:+0100
TZNAME:WEST
DTSTART:20250330T010000
END:DAYLIGHT
BEGIN:STANDARD
TZOFFSETFROM:+0100
TZOFFSETTO:+0000
TZNAME:WET
DTSTART:20251026T010000
END:STANDARD
BEGIN:DAYLIGHT
TZOFFSETFROM:+0000
TZOFFSETTO:+0100
TZNAME:WEST
DTSTART:20260329T010000
END:DAYLIGHT
BEGIN:STANDARD
TZOFFSETFROM:+0100
TZOFFSETTO:+0000
TZNAME:WET
DTSTART:20261025T010000
END:STANDARD
BEGIN:DAYLIGHT
TZOFFSETFROM:+0000
TZOFFSETTO:+0100
TZNAME:WEST
DTSTART:20270328T010000
END:DAYLIGHT
BEGIN:STANDARD
TZOFFSETFROM:+0100
TZOFFSETTO:+0000
TZNAME:WET
DTSTART:20271031T010000
END:STANDARD
END:VTIMEZONE
BEGIN:VEVENT
DTSTART;TZID=Europe/Lisbon:20260201T093000
DTEND;TZID=Europe/Lisbon:20260226T105357
DTSTAMP:20260421T060255
CREATED:20260226T105357Z
LAST-MODIFIED:20260226T105357Z
UID:77278-1769938200-1772103237@diocesedeviseu.pt
SUMMARY:Celebração da Eucaristia
DESCRIPTION:
URL:https://diocesedeviseu.pt/evento/celebracao-da-eucaristia-27/
LOCATION:Centro Socio Pastoral\, Viseu\, Viseu\, Portugal
END:VEVENT
BEGIN:VEVENT
DTSTART;TZID=Europe/Lisbon:20260213T103000
DTEND;TZID=Europe/Lisbon:20260213T103000
DTSTAMP:20260421T060255
CREATED:20260211T153202Z
LAST-MODIFIED:20260211T153202Z
UID:76890-1770978600-1770978600@diocesedeviseu.pt
SUMMARY:reunião do novo Conselho Presbiteral\, com a tomada de posse e eleição do Secretariado Permanente
DESCRIPTION:
URL:https://diocesedeviseu.pt/evento/reuniao-do-novo-conselho-presbiteral-com-a-tomada-de-posse-e-eleicao-do-secretariado-permanente/
LOCATION:Seminário de Viseu\, Viseu\, Viseu\, Portugal
END:VEVENT
BEGIN:VEVENT
DTSTART;TZID=Europe/Lisbon:20260214T093000
DTEND;TZID=Europe/Lisbon:20260214T093000
DTSTAMP:20260421T060255
CREATED:20260211T153251Z
LAST-MODIFIED:20260211T153251Z
UID:76892-1771061400-1771061400@diocesedeviseu.pt
SUMMARY:Encontro da Pastoral Familiar
DESCRIPTION:
URL:https://diocesedeviseu.pt/evento/encontro-da-pastoral-familiar/
LOCATION:Seminário de Viseu\, Viseu\, Viseu\, Portugal
END:VEVENT
BEGIN:VEVENT
DTSTART;TZID=Europe/Lisbon:20260215T093000
DTEND;TZID=Europe/Lisbon:20260215T093000
DTSTAMP:20260421T060255
CREATED:20260213T113245Z
LAST-MODIFIED:20260213T113245Z
UID:76983-1771147800-1771147800@diocesedeviseu.pt
SUMMARY:Celebração da Eucaristia
DESCRIPTION:
URL:https://diocesedeviseu.pt/evento/celebracao-da-eucaristia-25/
LOCATION:Igreja Paroquial de Ribafeita\, Viseu\, Viseu\, 3500-163\, Portugal
END:VEVENT
BEGIN:VEVENT
DTSTART;TZID=Europe/Lisbon:20260215T110000
DTEND;TZID=Europe/Lisbon:20260215T110000
DTSTAMP:20260421T060255
CREATED:20260213T113331Z
LAST-MODIFIED:20260213T113331Z
UID:76985-1771153200-1771153200@diocesedeviseu.pt
SUMMARY:Celebração da Eucaristia
DESCRIPTION:
URL:https://diocesedeviseu.pt/evento/celebracao-da-eucaristia-26/
LOCATION:Igreja de Lordosa
END:VEVENT
BEGIN:VEVENT
DTSTART;TZID=Europe/Lisbon:20260218T093000
DTEND;TZID=Europe/Lisbon:20260218T093000
DTSTAMP:20260421T060255
CREATED:20260211T153343Z
LAST-MODIFIED:20260211T153343Z
UID:76894-1771407000-1771407000@diocesedeviseu.pt
SUMMARY:Recoleção da Quaresma
DESCRIPTION:
URL:https://diocesedeviseu.pt/evento/recolecao-da-quaresma/
LOCATION:Seminário de Viseu\, Viseu\, Viseu\, Portugal
END:VEVENT
BEGIN:VEVENT
DTSTART;TZID=Europe/Lisbon:20260218T113000
DTEND;TZID=Europe/Lisbon:20260218T113000
DTSTAMP:20260421T060255
CREATED:20260211T153427Z
LAST-MODIFIED:20260211T153939Z
UID:76896-1771414200-1771414200@diocesedeviseu.pt
SUMMARY:Assembleia da Fraternidade Sacerdotal
DESCRIPTION:
URL:https://diocesedeviseu.pt/evento/assembleia-da-fraternidade-sacerdotal-5/
LOCATION:Seminário de Viseu\, Viseu\, Viseu\, Portugal
END:VEVENT
BEGIN:VEVENT
DTSTART;TZID=Europe/Lisbon:20260218T180000
DTEND;TZID=Europe/Lisbon:20260218T180000
DTSTAMP:20260421T060255
CREATED:20260211T154211Z
LAST-MODIFIED:20260211T154211Z
UID:76898-1771437600-1771437600@diocesedeviseu.pt
SUMMARY:Celebração da Eucaristia das Cinzas
DESCRIPTION:
URL:https://diocesedeviseu.pt/evento/celebracao-da-eucaristia-das-cinzas/
LOCATION:Catedral de Viseu
END:VEVENT
BEGIN:VEVENT
DTSTART;TZID=Europe/Lisbon:20260219T100000
DTEND;TZID=Europe/Lisbon:20260219T100000
DTSTAMP:20260421T060255
CREATED:20260211T154311Z
LAST-MODIFIED:20260211T154333Z
UID:76900-1771495200-1771495200@diocesedeviseu.pt
SUMMARY:Reunião Arciprestal
DESCRIPTION:
URL:https://diocesedeviseu.pt/evento/reuniao-arciprestal-em-campo-de-besteiros/
LOCATION:Campo de Besteiros
END:VEVENT
BEGIN:VEVENT
DTSTART;TZID=Europe/Lisbon:20260219T183000
DTEND;TZID=Europe/Lisbon:20260219T183000
DTSTAMP:20260421T060255
CREATED:20260211T154428Z
LAST-MODIFIED:20260211T154428Z
UID:76903-1771525800-1771525800@diocesedeviseu.pt
SUMMARY:Celebração da Eucaristia da Solenidade de São Teotónio
DESCRIPTION:
URL:https://diocesedeviseu.pt/evento/celebracao-da-eucaristia-da-solenidade-de-sao-teotonio/
LOCATION:Catedral de Viseu
END:VEVENT
BEGIN:VEVENT
DTSTART;TZID=Europe/Lisbon:20260221T173000
DTEND;TZID=Europe/Lisbon:20260221T173000
DTSTAMP:20260421T060255
CREATED:20260219T113947Z
LAST-MODIFIED:20260219T113947Z
UID:77089-1771695000-1771695000@diocesedeviseu.pt
SUMMARY:Celebração da Eucaristia de sufrágio no aniversário da morte de D. Ilídio Pinto Leandro
DESCRIPTION:
URL:https://diocesedeviseu.pt/evento/celebracao-da-eucaristia-de-sufragio-no-aniversario-da-morte-de-d-ilidio-pinto-leandro/
LOCATION:Catedral de Viseu
END:VEVENT
BEGIN:VEVENT
DTSTART;TZID=Europe/Lisbon:20260221T210000
DTEND;TZID=Europe/Lisbon:20260221T210000
DTSTAMP:20260421T060255
CREATED:20260219T114054Z
LAST-MODIFIED:20260219T114054Z
UID:77091-1771707600-1771707600@diocesedeviseu.pt
SUMMARY:Concerto de São Teotónio
DESCRIPTION:
URL:https://diocesedeviseu.pt/evento/concerto-de-sao-teotonio-2/
LOCATION:Igreja do Seminário Maior de Viseu
END:VEVENT
BEGIN:VEVENT
DTSTART;VALUE=DATE:20260222
DTEND;VALUE=DATE:20260223
DTSTAMP:20260421T060255
CREATED:20260211T154638Z
LAST-MODIFIED:20260211T154638Z
UID:76905-1771718400-1771804799@diocesedeviseu.pt
SUMMARY:Dia de Baden-Powell | Concentração Regional | CNE
DESCRIPTION:
URL:https://diocesedeviseu.pt/evento/dia-de-baden-powell-concentracao-regional-cne/
END:VEVENT
BEGIN:VEVENT
DTSTART;TZID=Europe/Lisbon:20260222T150000
DTEND;TZID=Europe/Lisbon:20260222T150000
DTSTAMP:20260421T060255
CREATED:20260219T113831Z
LAST-MODIFIED:20260219T113831Z
UID:77087-1771772400-1771772400@diocesedeviseu.pt
SUMMARY:Celebração da Eucaristia na Concentração Regional dos Escuteiros
DESCRIPTION:
URL:https://diocesedeviseu.pt/evento/celebracao-da-eucaristia-na-concentracao-regional-dos-escuteiros/
LOCATION:Pavilhão Multiusos – Viseu
END:VEVENT
BEGIN:VEVENT
DTSTART;VALUE=DATE:20260223
DTEND;VALUE=DATE:20260227
DTSTAMP:20260421T060255
CREATED:20260219T114355Z
LAST-MODIFIED:20260219T114355Z
UID:77093-1771804800-1772150399@diocesedeviseu.pt
SUMMARY:Participação no retiro do Episcopado
DESCRIPTION:
URL:https://diocesedeviseu.pt/evento/participacao-no-retiro-do-episcopado/
LOCATION:Santuário de Fátima
END:VEVENT
BEGIN:VEVENT
DTSTART;TZID=Europe/Lisbon:20260224T210000
DTEND;TZID=Europe/Lisbon:20260224T210000
DTSTAMP:20260421T060255
CREATED:20260219T113429Z
LAST-MODIFIED:20260219T113429Z
UID:77085-1771966800-1771966800@diocesedeviseu.pt
SUMMARY:Oração de Taizé com os jovens
DESCRIPTION:
URL:https://diocesedeviseu.pt/evento/oracao-de-taize-com-os-jovens/
LOCATION:Igreja dos Terceiros
END:VEVENT
BEGIN:VEVENT
DTSTART;TZID=Europe/Lisbon:20260228T100000
DTEND;TZID=Europe/Lisbon:20260228T100000
DTSTAMP:20260421T060255
CREATED:20260227T163437Z
LAST-MODIFIED:20260227T163437Z
UID:77337-1772272800-1772272800@diocesedeviseu.pt
SUMMARY:Academia Vocacional
DESCRIPTION:
URL:https://diocesedeviseu.pt/evento/academia-vocacional/
LOCATION:Seminário de Viseu\, Viseu\, Viseu\, Portugal
END:VEVENT
BEGIN:VEVENT
DTSTART;VALUE=DATE:20260301
DTEND;VALUE=DATE:20260309
DTSTAMP:20260421T060255
CREATED:20260211T154722Z
LAST-MODIFIED:20260211T154722Z
UID:76907-1772323200-1773014399@diocesedeviseu.pt
SUMMARY:Semana Nacional da Cáritas
DESCRIPTION:
URL:https://diocesedeviseu.pt/evento/semana-nacional-da-caritas/
END:VEVENT
BEGIN:VEVENT
DTSTART;TZID=Europe/Lisbon:20260301T143000
DTEND;TZID=Europe/Lisbon:20260301T143000
DTSTAMP:20260421T060255
CREATED:20260226T105516Z
LAST-MODIFIED:20260226T105516Z
UID:77280-1772375400-1772375400@diocesedeviseu.pt
SUMMARY:Encontro de formação litúrgica
DESCRIPTION:
URL:https://diocesedeviseu.pt/evento/encontro-de-formacao-liturgica/
LOCATION:Centro Socio Pastoral\, Viseu\, Viseu\, Portugal
END:VEVENT
BEGIN:VEVENT
DTSTART;VALUE=DATE:20260302
DTEND;VALUE=DATE:20260309
DTSTAMP:20260421T060255
CREATED:20260226T104934Z
LAST-MODIFIED:20260226T104934Z
UID:77273-1772409600-1773014399@diocesedeviseu.pt
SUMMARY:Visita Pastoral
DESCRIPTION:
URL:https://diocesedeviseu.pt/evento/visita-pastoral/
LOCATION:Paróquia de Orgens
END:VEVENT
BEGIN:VEVENT
DTSTART;TZID=Europe/Lisbon:20260303T103000
DTEND;TZID=Europe/Lisbon:20260303T103000
DTSTAMP:20260421T060255
CREATED:20260226T105559Z
LAST-MODIFIED:20260226T105559Z
UID:77282-1772533800-1772533800@diocesedeviseu.pt
SUMMARY:Reunião com a direção da Cáritas
DESCRIPTION:
URL:https://diocesedeviseu.pt/evento/reuniao-com-a-direcao-da-caritas/
LOCATION:Casa Episcopal Viseu\, Viseu\, Viseu\, Portugal
END:VEVENT
BEGIN:VEVENT
DTSTART;TZID=Europe/Lisbon:20260304T100000
DTEND;TZID=Europe/Lisbon:20260304T100000
DTSTAMP:20260421T060255
CREATED:20260226T105649Z
LAST-MODIFIED:20260226T105649Z
UID:77284-1772618400-1772618400@diocesedeviseu.pt
SUMMARY:Celebração da Eucaristia da União Eucarística Reparadora
DESCRIPTION:
URL:https://diocesedeviseu.pt/evento/celebracao-da-eucaristia-da-uniao-eucaristica-reparadora-2/
LOCATION:Igreja do Carmo
END:VEVENT
BEGIN:VEVENT
DTSTART;TZID=Europe/Lisbon:20260305T103000
DTEND;TZID=Europe/Lisbon:20260305T103000
DTSTAMP:20260421T060255
CREATED:20260226T110135Z
LAST-MODIFIED:20260226T110135Z
UID:77287-1772706600-1772706600@diocesedeviseu.pt
SUMMARY:Reunião dos Bispos da Província de Braga
DESCRIPTION:
URL:https://diocesedeviseu.pt/evento/reuniao-dos-bispos-da-provincia-de-braga/
LOCATION:Diocese de Bragança-Miranda\, Bragança\, Bragança\, Portugal
END:VEVENT
BEGIN:VEVENT
DTSTART;TZID=Europe/Lisbon:20260306T103000
DTEND;TZID=Europe/Lisbon:20260306T103000
DTSTAMP:20260421T060255
CREATED:20260305T113121Z
LAST-MODIFIED:20260305T113121Z
UID:77481-1772793000-1772793000@diocesedeviseu.pt
SUMMARY:Visita à sede da Cáritas Diocesana de Viseu
DESCRIPTION:
URL:https://diocesedeviseu.pt/evento/visita-a-sede-da-caritas-diocesana-de-viseu/
LOCATION:Viseu
END:VEVENT
BEGIN:VEVENT
DTSTART;TZID=Europe/Lisbon:20260308T163000
DTEND;TZID=Europe/Lisbon:20260308T163000
DTSTAMP:20260421T060255
CREATED:20260306T152443Z
LAST-MODIFIED:20260306T152443Z
UID:77528-1772987400-1772987400@diocesedeviseu.pt
SUMMARY:Eucaristia e inauguração/bênção do novo Centro Paroquial de Campia
DESCRIPTION:
URL:https://diocesedeviseu.pt/evento/eucaristia-e-inauguracao-bencao-do-novo-centro-paroquial-de-campia/
LOCATION:Campia
END:VEVENT
BEGIN:VEVENT
DTSTART;VALUE=DATE:20260309
DTEND;VALUE=DATE:20260316
DTSTAMP:20260421T060255
CREATED:20260305T113227Z
LAST-MODIFIED:20260305T113227Z
UID:77483-1773014400-1773619199@diocesedeviseu.pt
SUMMARY:Visita Pastoral
DESCRIPTION:
URL:https://diocesedeviseu.pt/evento/visita-pastoral-2/
LOCATION:Paróquia de Orgens
END:VEVENT
BEGIN:VEVENT
DTSTART;TZID=Europe/Lisbon:20260310T103000
DTEND;TZID=Europe/Lisbon:20260310T103000
DTSTAMP:20260421T060255
CREATED:20260305T113319Z
LAST-MODIFIED:20260305T113319Z
UID:77485-1773138600-1773138600@diocesedeviseu.pt
SUMMARY:Reunião dos Bispos responsáveis pelo Seminário Interdiocesano de São José
DESCRIPTION:
URL:https://diocesedeviseu.pt/evento/reuniao-dos-bispos-responsaveis-pelo-seminario-interdiocesano-de-sao-jose/
LOCATION:Casa Episcopal Viseu\, Viseu\, Viseu\, Portugal
END:VEVENT
BEGIN:VEVENT
DTSTART;TZID=Europe/Lisbon:20260311T100000
DTEND;TZID=Europe/Lisbon:20260311T100000
DTSTAMP:20260421T060255
CREATED:20260305T113419Z
LAST-MODIFIED:20260305T113419Z
UID:77487-1773223200-1773223200@diocesedeviseu.pt
SUMMARY:Reunião arciprestal de Lafões
DESCRIPTION:
URL:https://diocesedeviseu.pt/evento/reuniao-arciprestal-de-lafoes-3/
LOCATION:Carvalhais
END:VEVENT
BEGIN:VEVENT
DTSTART;TZID=Europe/Lisbon:20260313T190000
DTEND;TZID=Europe/Lisbon:20260313T190000
DTSTAMP:20260421T060255
CREATED:20260312T105454Z
LAST-MODIFIED:20260312T105454Z
UID:77637-1773428400-1773428400@diocesedeviseu.pt
SUMMARY:Eucaristia de Abertura das 24 Horas para o Senhor
DESCRIPTION:
URL:https://diocesedeviseu.pt/evento/eucaristia-de-abertura-das-24-horas-para-o-senhor/
LOCATION:Igreja de São Salvador
END:VEVENT
BEGIN:VEVENT
DTSTART;VALUE=DATE:20260314
DTEND;VALUE=DATE:20260315
DTSTAMP:20260421T060255
CREATED:20260226T105309Z
LAST-MODIFIED:20260226T105309Z
UID:77276-1773446400-1773532799@diocesedeviseu.pt
SUMMARY:Retiro Quaresmal para todo o povo de Deus
DESCRIPTION:
URL:https://diocesedeviseu.pt/evento/retiro-quaresmal-para-todo-o-povo-de-deus/
LOCATION:Seminário das Missões – Viseu
END:VEVENT
END:VCALENDAR