BEGIN:VCALENDAR
VERSION:2.0
PRODID:-//Diocese de Viseu - ECPv6.15.18//NONSGML v1.0//EN
CALSCALE:GREGORIAN
METHOD:PUBLISH
X-ORIGINAL-URL:https://diocesedeviseu.pt
X-WR-CALDESC:Eventos para Diocese de Viseu
REFRESH-INTERVAL;VALUE=DURATION:PT1H
X-Robots-Tag:noindex
X-PUBLISHED-TTL:PT1H
BEGIN:VTIMEZONE
TZID:Europe/Lisbon
BEGIN:DAYLIGHT
TZOFFSETFROM:+0000
TZOFFSETTO:+0100
TZNAME:WEST
DTSTART:20250330T010000
END:DAYLIGHT
BEGIN:STANDARD
TZOFFSETFROM:+0100
TZOFFSETTO:+0000
TZNAME:WET
DTSTART:20251026T010000
END:STANDARD
BEGIN:DAYLIGHT
TZOFFSETFROM:+0000
TZOFFSETTO:+0100
TZNAME:WEST
DTSTART:20260329T010000
END:DAYLIGHT
BEGIN:STANDARD
TZOFFSETFROM:+0100
TZOFFSETTO:+0000
TZNAME:WET
DTSTART:20261025T010000
END:STANDARD
BEGIN:DAYLIGHT
TZOFFSETFROM:+0000
TZOFFSETTO:+0100
TZNAME:WEST
DTSTART:20270328T010000
END:DAYLIGHT
BEGIN:STANDARD
TZOFFSETFROM:+0100
TZOFFSETTO:+0000
TZNAME:WET
DTSTART:20271031T010000
END:STANDARD
END:VTIMEZONE
BEGIN:VEVENT
DTSTART;VALUE=DATE:20260413
DTEND;VALUE=DATE:20260417
DTSTAMP:20260425T154806
CREATED:20260409T165645Z
LAST-MODIFIED:20260409T165645Z
UID:78355-1776038400-1776383999@diocesedeviseu.pt
SUMMARY:Participação na Assembleia Plenária da CEP
DESCRIPTION:
URL:https://diocesedeviseu.pt/evento/participacao-na-assembleia-plenaria-da-cep-2/
LOCATION:Fátima\, Fátima\, Fátima\, Portugal
END:VEVENT
BEGIN:VEVENT
DTSTART;TZID=Europe/Lisbon:20260416T080000
DTEND;TZID=Europe/Lisbon:20260419T170000
DTSTAMP:20260425T154806
CREATED:20260409T165509Z
LAST-MODIFIED:20260409T165509Z
UID:78353-1776326400-1776618000@diocesedeviseu.pt
SUMMARY:Visita Pastoral
DESCRIPTION:
URL:https://diocesedeviseu.pt/evento/visita-pastoral-4/
LOCATION:Paróquia de Ranhados
END:VEVENT
BEGIN:VEVENT
DTSTART;TZID=Europe/Lisbon:20260418T180000
DTEND;TZID=Europe/Lisbon:20260418T180000
DTSTAMP:20260425T154806
CREATED:20260416T154940Z
LAST-MODIFIED:20260416T154940Z
UID:78510-1776535200-1776535200@diocesedeviseu.pt
SUMMARY:Celebração da Eucaristia e administração do Crisma
DESCRIPTION:
URL:https://diocesedeviseu.pt/evento/celebracao-da-eucaristia-e-administracao-do-crisma-5/
LOCATION:Igreja Madre Rita\, Ranhados\, Viseu\, Portugal
END:VEVENT
BEGIN:VEVENT
DTSTART;TZID=Europe/Lisbon:20260419T103000
DTEND;TZID=Europe/Lisbon:20260419T103000
DTSTAMP:20260425T154806
CREATED:20260416T155022Z
LAST-MODIFIED:20260416T155022Z
UID:78512-1776594600-1776594600@diocesedeviseu.pt
SUMMARY:Oração no cemitério velho e celebração da Eucaristia de encerramento
DESCRIPTION:
URL:https://diocesedeviseu.pt/evento/oracao-no-cemiterio-velho-e-celebracao-da-eucaristia-de-encerramento/
LOCATION:Igreja Madre Rita\, Ranhados\, Viseu\, Portugal
END:VEVENT
BEGIN:VEVENT
DTSTART;VALUE=DATE:20260420
DTEND;VALUE=DATE:20260427
DTSTAMP:20260425T154806
CREATED:20260416T155103Z
LAST-MODIFIED:20260416T155103Z
UID:78514-1776643200-1777247999@diocesedeviseu.pt
SUMMARY:Visita pastoral à Paróquia de Rio de Loba
DESCRIPTION:
URL:https://diocesedeviseu.pt/evento/visita-pastoral-a-paroquia-de-rio-de-loba/
END:VEVENT
BEGIN:VEVENT
DTSTART;VALUE=DATE:20260425
DTEND;VALUE=DATE:20260426
DTSTAMP:20260425T154806
CREATED:20260424T083642Z
LAST-MODIFIED:20260424T083642Z
UID:78663-1777075200-1777161599@diocesedeviseu.pt
SUMMARY:Encontro Nacional dos Diáconos Permanentes
DESCRIPTION:
URL:https://diocesedeviseu.pt/evento/encontro-nacional-dos-diaconos-permanentes/
LOCATION:Fátima\, Fátima\, Fátima\, Portugal
END:VEVENT
BEGIN:VEVENT
DTSTART;TZID=Europe/Lisbon:20260426T110000
DTEND;TZID=Europe/Lisbon:20260426T110000
DTSTAMP:20260425T154806
CREATED:20260424T083730Z
LAST-MODIFIED:20260424T083730Z
UID:78665-1777201200-1777201200@diocesedeviseu.pt
SUMMARY:Celebração da Eucaristia de encerramento da Visita Pastoral
DESCRIPTION:
URL:https://diocesedeviseu.pt/evento/celebracao-da-eucaristia-de-encerramento-da-visita-pastoral/
LOCATION:Igreja Paroquial de Rio de Loba
END:VEVENT
BEGIN:VEVENT
DTSTART;TZID=Europe/Lisbon:20260426T150000
DTEND;TZID=Europe/Lisbon:20260426T150000
DTSTAMP:20260425T154806
CREATED:20260424T083851Z
LAST-MODIFIED:20260424T083851Z
UID:78667-1777215600-1777215600@diocesedeviseu.pt
SUMMARY:Missa da Bênção das Pastas dos Finalistas do Ensino Superior
DESCRIPTION:
URL:https://diocesedeviseu.pt/evento/missa-da-bencao-das-pastas-dos-finalistas-do-ensino-superior/
LOCATION:Catedral de Viseu
END:VEVENT
BEGIN:VEVENT
DTSTART;VALUE=DATE:20260427
DTEND;VALUE=DATE:20260428
DTSTAMP:20260425T154806
CREATED:20260424T083926Z
LAST-MODIFIED:20260424T083926Z
UID:78669-1777248000-1777334399@diocesedeviseu.pt
SUMMARY:Reunião dos Bispos do Centro
DESCRIPTION:
URL:https://diocesedeviseu.pt/evento/reuniao-dos-bispos-do-centro-18/
LOCATION:Coimbra
END:VEVENT
BEGIN:VEVENT
DTSTART;VALUE=DATE:20260427
DTEND;VALUE=DATE:20260504
DTSTAMP:20260425T154806
CREATED:20260424T084001Z
LAST-MODIFIED:20260424T084001Z
UID:78671-1777248000-1777852799@diocesedeviseu.pt
SUMMARY:Visita Pastoral à paróquia de Campo de Madalena
DESCRIPTION:
URL:https://diocesedeviseu.pt/evento/visita-pastoral-a-paroquia-de-campo-de-madalena/
END:VEVENT
BEGIN:VEVENT
DTSTART;TZID=Europe/Lisbon:20260503T170000
DTEND;TZID=Europe/Lisbon:20260503T170000
DTSTAMP:20260425T154806
CREATED:20260424T084413Z
LAST-MODIFIED:20260424T084413Z
UID:78673-1777827600-1777827600@diocesedeviseu.pt
SUMMARY:Ordenação diaconal de Francisco Ferreira e Tiago Rio
DESCRIPTION:
URL:https://diocesedeviseu.pt/evento/ordenacao-diaconal-de-francisco-ferreira-e-tiago-rio/
LOCATION:Catedral de Viseu
END:VEVENT
BEGIN:VEVENT
DTSTART;VALUE=DATE:20260727
DTEND;VALUE=DATE:20260730
DTSTAMP:20260425T154806
CREATED:20260211T155312Z
LAST-MODIFIED:20260211T155401Z
UID:76913-1785110400-1785369599@diocesedeviseu.pt
SUMMARY:Peregrinação Diocesana
DESCRIPTION:
URL:https://diocesedeviseu.pt/evento/peregrinacao-diocesana/
LOCATION:Santiago de Compostela
END:VEVENT
END:VCALENDAR