BEGIN:VCALENDAR
VERSION:2.0
PRODID:-//Diocese de Viseu - ECPv6.15.18//NONSGML v1.0//EN
CALSCALE:GREGORIAN
METHOD:PUBLISH
X-ORIGINAL-URL:https://diocesedeviseu.pt
X-WR-CALDESC:Eventos para Diocese de Viseu
REFRESH-INTERVAL;VALUE=DURATION:PT1H
X-Robots-Tag:noindex
X-PUBLISHED-TTL:PT1H
BEGIN:VTIMEZONE
TZID:Europe/Lisbon
BEGIN:STANDARD
TZOFFSETFROM:+0100
TZOFFSETTO:+0000
TZNAME:WET
DTSTART:19760926T000000
END:STANDARD
BEGIN:DAYLIGHT
TZOFFSETFROM:+0000
TZOFFSETTO:+0100
TZNAME:WEST
DTSTART:19770327T000000
END:DAYLIGHT
BEGIN:STANDARD
TZOFFSETFROM:+0100
TZOFFSETTO:+0000
TZNAME:WET
DTSTART:19770925T000000
END:STANDARD
BEGIN:DAYLIGHT
TZOFFSETFROM:+0000
TZOFFSETTO:+0100
TZNAME:WEST
DTSTART:19780402T010000
END:DAYLIGHT
BEGIN:STANDARD
TZOFFSETFROM:+0100
TZOFFSETTO:+0000
TZNAME:WET
DTSTART:19781001T010000
END:STANDARD
BEGIN:DAYLIGHT
TZOFFSETFROM:+0000
TZOFFSETTO:+0100
TZNAME:WEST
DTSTART:19790401T010000
END:DAYLIGHT
BEGIN:STANDARD
TZOFFSETFROM:+0100
TZOFFSETTO:+0000
TZNAME:WET
DTSTART:19790930T010000
END:STANDARD
BEGIN:DAYLIGHT
TZOFFSETFROM:+0000
TZOFFSETTO:+0100
TZNAME:WEST
DTSTART:19800406T010000
END:DAYLIGHT
BEGIN:STANDARD
TZOFFSETFROM:+0100
TZOFFSETTO:+0000
TZNAME:WET
DTSTART:19800928T010000
END:STANDARD
BEGIN:DAYLIGHT
TZOFFSETFROM:+0000
TZOFFSETTO:+0100
TZNAME:WEST
DTSTART:19810329T000000
END:DAYLIGHT
BEGIN:STANDARD
TZOFFSETFROM:+0100
TZOFFSETTO:+0000
TZNAME:WET
DTSTART:19810927T000000
END:STANDARD
BEGIN:DAYLIGHT
TZOFFSETFROM:+0000
TZOFFSETTO:+0100
TZNAME:WEST
DTSTART:19820328T000000
END:DAYLIGHT
BEGIN:STANDARD
TZOFFSETFROM:+0100
TZOFFSETTO:+0000
TZNAME:WET
DTSTART:19820926T000000
END:STANDARD
BEGIN:DAYLIGHT
TZOFFSETFROM:+0000
TZOFFSETTO:+0100
TZNAME:WEST
DTSTART:19830327T000000
END:DAYLIGHT
BEGIN:STANDARD
TZOFFSETFROM:+0100
TZOFFSETTO:+0000
TZNAME:WET
DTSTART:19830925T000000
END:STANDARD
BEGIN:DAYLIGHT
TZOFFSETFROM:+0000
TZOFFSETTO:+0100
TZNAME:WEST
DTSTART:19840325T000000
END:DAYLIGHT
BEGIN:STANDARD
TZOFFSETFROM:+0100
TZOFFSETTO:+0000
TZNAME:WET
DTSTART:19840930T000000
END:STANDARD
BEGIN:DAYLIGHT
TZOFFSETFROM:+0000
TZOFFSETTO:+0100
TZNAME:WEST
DTSTART:19850331T000000
END:DAYLIGHT
BEGIN:STANDARD
TZOFFSETFROM:+0100
TZOFFSETTO:+0000
TZNAME:WET
DTSTART:19850929T000000
END:STANDARD
BEGIN:STANDARD
TZOFFSETFROM:+0000
TZOFFSETTO:+0000
TZNAME:WET
DTSTART:19860101T000000
END:STANDARD
BEGIN:DAYLIGHT
TZOFFSETFROM:+0000
TZOFFSETTO:+0100
TZNAME:WEST
DTSTART:19860330T010000
END:DAYLIGHT
BEGIN:STANDARD
TZOFFSETFROM:+0100
TZOFFSETTO:+0000
TZNAME:WET
DTSTART:19860928T010000
END:STANDARD
BEGIN:DAYLIGHT
TZOFFSETFROM:+0000
TZOFFSETTO:+0100
TZNAME:WEST
DTSTART:19870329T010000
END:DAYLIGHT
BEGIN:STANDARD
TZOFFSETFROM:+0100
TZOFFSETTO:+0000
TZNAME:WET
DTSTART:19870927T010000
END:STANDARD
BEGIN:DAYLIGHT
TZOFFSETFROM:+0000
TZOFFSETTO:+0100
TZNAME:WEST
DTSTART:19880327T010000
END:DAYLIGHT
BEGIN:STANDARD
TZOFFSETFROM:+0100
TZOFFSETTO:+0000
TZNAME:WET
DTSTART:19880925T010000
END:STANDARD
BEGIN:DAYLIGHT
TZOFFSETFROM:+0000
TZOFFSETTO:+0100
TZNAME:WEST
DTSTART:19890326T010000
END:DAYLIGHT
BEGIN:STANDARD
TZOFFSETFROM:+0100
TZOFFSETTO:+0000
TZNAME:WET
DTSTART:19890924T010000
END:STANDARD
BEGIN:DAYLIGHT
TZOFFSETFROM:+0000
TZOFFSETTO:+0100
TZNAME:WEST
DTSTART:19900325T010000
END:DAYLIGHT
BEGIN:STANDARD
TZOFFSETFROM:+0100
TZOFFSETTO:+0000
TZNAME:WET
DTSTART:19900930T010000
END:STANDARD
BEGIN:DAYLIGHT
TZOFFSETFROM:+0000
TZOFFSETTO:+0100
TZNAME:WEST
DTSTART:19910331T010000
END:DAYLIGHT
BEGIN:STANDARD
TZOFFSETFROM:+0100
TZOFFSETTO:+0000
TZNAME:WET
DTSTART:19910929T010000
END:STANDARD
BEGIN:DAYLIGHT
TZOFFSETFROM:+0000
TZOFFSETTO:+0100
TZNAME:WEST
DTSTART:19920329T010000
END:DAYLIGHT
BEGIN:STANDARD
TZOFFSETFROM:+0100
TZOFFSETTO:+0100
TZNAME:CET
DTSTART:19920927T010000
END:STANDARD
BEGIN:DAYLIGHT
TZOFFSETFROM:+0100
TZOFFSETTO:+0200
TZNAME:CEST
DTSTART:19930328T010000
END:DAYLIGHT
BEGIN:STANDARD
TZOFFSETFROM:+0200
TZOFFSETTO:+0100
TZNAME:CET
DTSTART:19930926T010000
END:STANDARD
BEGIN:DAYLIGHT
TZOFFSETFROM:+0100
TZOFFSETTO:+0200
TZNAME:CEST
DTSTART:19940327T010000
END:DAYLIGHT
BEGIN:STANDARD
TZOFFSETFROM:+0200
TZOFFSETTO:+0100
TZNAME:CET
DTSTART:19940925T010000
END:STANDARD
BEGIN:DAYLIGHT
TZOFFSETFROM:+0100
TZOFFSETTO:+0200
TZNAME:CEST
DTSTART:19950326T010000
END:DAYLIGHT
BEGIN:STANDARD
TZOFFSETFROM:+0200
TZOFFSETTO:+0100
TZNAME:CET
DTSTART:19950924T010000
END:STANDARD
BEGIN:DAYLIGHT
TZOFFSETFROM:+0100
TZOFFSETTO:+0100
TZNAME:WEST
DTSTART:19960331T010000
END:DAYLIGHT
BEGIN:STANDARD
TZOFFSETFROM:+0100
TZOFFSETTO:+0000
TZNAME:WET
DTSTART:19961027T010000
END:STANDARD
BEGIN:DAYLIGHT
TZOFFSETFROM:+0000
TZOFFSETTO:+0100
TZNAME:WEST
DTSTART:19970330T010000
END:DAYLIGHT
BEGIN:STANDARD
TZOFFSETFROM:+0100
TZOFFSETTO:+0000
TZNAME:WET
DTSTART:19971026T010000
END:STANDARD
BEGIN:DAYLIGHT
TZOFFSETFROM:+0000
TZOFFSETTO:+0100
TZNAME:WEST
DTSTART:19980329T010000
END:DAYLIGHT
BEGIN:STANDARD
TZOFFSETFROM:+0100
TZOFFSETTO:+0000
TZNAME:WET
DTSTART:19981025T010000
END:STANDARD
BEGIN:DAYLIGHT
TZOFFSETFROM:+0000
TZOFFSETTO:+0100
TZNAME:WEST
DTSTART:19990328T010000
END:DAYLIGHT
BEGIN:STANDARD
TZOFFSETFROM:+0100
TZOFFSETTO:+0000
TZNAME:WET
DTSTART:19991031T010000
END:STANDARD
BEGIN:DAYLIGHT
TZOFFSETFROM:+0000
TZOFFSETTO:+0100
TZNAME:WEST
DTSTART:20000326T010000
END:DAYLIGHT
BEGIN:STANDARD
TZOFFSETFROM:+0100
TZOFFSETTO:+0000
TZNAME:WET
DTSTART:20001029T010000
END:STANDARD
BEGIN:DAYLIGHT
TZOFFSETFROM:+0000
TZOFFSETTO:+0100
TZNAME:WEST
DTSTART:20010325T010000
END:DAYLIGHT
BEGIN:STANDARD
TZOFFSETFROM:+0100
TZOFFSETTO:+0000
TZNAME:WET
DTSTART:20011028T010000
END:STANDARD
BEGIN:DAYLIGHT
TZOFFSETFROM:+0000
TZOFFSETTO:+0100
TZNAME:WEST
DTSTART:20020331T010000
END:DAYLIGHT
BEGIN:STANDARD
TZOFFSETFROM:+0100
TZOFFSETTO:+0000
TZNAME:WET
DTSTART:20021027T010000
END:STANDARD
BEGIN:DAYLIGHT
TZOFFSETFROM:+0000
TZOFFSETTO:+0100
TZNAME:WEST
DTSTART:20030330T010000
END:DAYLIGHT
BEGIN:STANDARD
TZOFFSETFROM:+0100
TZOFFSETTO:+0000
TZNAME:WET
DTSTART:20031026T010000
END:STANDARD
BEGIN:DAYLIGHT
TZOFFSETFROM:+0000
TZOFFSETTO:+0100
TZNAME:WEST
DTSTART:20040328T010000
END:DAYLIGHT
BEGIN:STANDARD
TZOFFSETFROM:+0100
TZOFFSETTO:+0000
TZNAME:WET
DTSTART:20041031T010000
END:STANDARD
BEGIN:DAYLIGHT
TZOFFSETFROM:+0000
TZOFFSETTO:+0100
TZNAME:WEST
DTSTART:20050327T010000
END:DAYLIGHT
BEGIN:STANDARD
TZOFFSETFROM:+0100
TZOFFSETTO:+0000
TZNAME:WET
DTSTART:20051030T010000
END:STANDARD
BEGIN:DAYLIGHT
TZOFFSETFROM:+0000
TZOFFSETTO:+0100
TZNAME:WEST
DTSTART:20060326T010000
END:DAYLIGHT
BEGIN:STANDARD
TZOFFSETFROM:+0100
TZOFFSETTO:+0000
TZNAME:WET
DTSTART:20061029T010000
END:STANDARD
BEGIN:DAYLIGHT
TZOFFSETFROM:+0000
TZOFFSETTO:+0100
TZNAME:WEST
DTSTART:20070325T010000
END:DAYLIGHT
BEGIN:STANDARD
TZOFFSETFROM:+0100
TZOFFSETTO:+0000
TZNAME:WET
DTSTART:20071028T010000
END:STANDARD
BEGIN:DAYLIGHT
TZOFFSETFROM:+0000
TZOFFSETTO:+0100
TZNAME:WEST
DTSTART:20080330T010000
END:DAYLIGHT
BEGIN:STANDARD
TZOFFSETFROM:+0100
TZOFFSETTO:+0000
TZNAME:WET
DTSTART:20081026T010000
END:STANDARD
BEGIN:DAYLIGHT
TZOFFSETFROM:+0000
TZOFFSETTO:+0100
TZNAME:WEST
DTSTART:20090329T010000
END:DAYLIGHT
BEGIN:STANDARD
TZOFFSETFROM:+0100
TZOFFSETTO:+0000
TZNAME:WET
DTSTART:20091025T010000
END:STANDARD
BEGIN:DAYLIGHT
TZOFFSETFROM:+0000
TZOFFSETTO:+0100
TZNAME:WEST
DTSTART:20100328T010000
END:DAYLIGHT
BEGIN:STANDARD
TZOFFSETFROM:+0100
TZOFFSETTO:+0000
TZNAME:WET
DTSTART:20101031T010000
END:STANDARD
BEGIN:DAYLIGHT
TZOFFSETFROM:+0000
TZOFFSETTO:+0100
TZNAME:WEST
DTSTART:20110327T010000
END:DAYLIGHT
BEGIN:STANDARD
TZOFFSETFROM:+0100
TZOFFSETTO:+0000
TZNAME:WET
DTSTART:20111030T010000
END:STANDARD
BEGIN:DAYLIGHT
TZOFFSETFROM:+0000
TZOFFSETTO:+0100
TZNAME:WEST
DTSTART:20120325T010000
END:DAYLIGHT
BEGIN:STANDARD
TZOFFSETFROM:+0100
TZOFFSETTO:+0000
TZNAME:WET
DTSTART:20121028T010000
END:STANDARD
BEGIN:DAYLIGHT
TZOFFSETFROM:+0000
TZOFFSETTO:+0100
TZNAME:WEST
DTSTART:20130331T010000
END:DAYLIGHT
BEGIN:STANDARD
TZOFFSETFROM:+0100
TZOFFSETTO:+0000
TZNAME:WET
DTSTART:20131027T010000
END:STANDARD
BEGIN:DAYLIGHT
TZOFFSETFROM:+0000
TZOFFSETTO:+0100
TZNAME:WEST
DTSTART:20140330T010000
END:DAYLIGHT
BEGIN:STANDARD
TZOFFSETFROM:+0100
TZOFFSETTO:+0000
TZNAME:WET
DTSTART:20141026T010000
END:STANDARD
BEGIN:DAYLIGHT
TZOFFSETFROM:+0000
TZOFFSETTO:+0100
TZNAME:WEST
DTSTART:20150329T010000
END:DAYLIGHT
BEGIN:STANDARD
TZOFFSETFROM:+0100
TZOFFSETTO:+0000
TZNAME:WET
DTSTART:20151025T010000
END:STANDARD
BEGIN:DAYLIGHT
TZOFFSETFROM:+0000
TZOFFSETTO:+0100
TZNAME:WEST
DTSTART:20160327T010000
END:DAYLIGHT
BEGIN:STANDARD
TZOFFSETFROM:+0100
TZOFFSETTO:+0000
TZNAME:WET
DTSTART:20161030T010000
END:STANDARD
BEGIN:DAYLIGHT
TZOFFSETFROM:+0000
TZOFFSETTO:+0100
TZNAME:WEST
DTSTART:20170326T010000
END:DAYLIGHT
BEGIN:STANDARD
TZOFFSETFROM:+0100
TZOFFSETTO:+0000
TZNAME:WET
DTSTART:20171029T010000
END:STANDARD
BEGIN:DAYLIGHT
TZOFFSETFROM:+0000
TZOFFSETTO:+0100
TZNAME:WEST
DTSTART:20180325T010000
END:DAYLIGHT
BEGIN:STANDARD
TZOFFSETFROM:+0100
TZOFFSETTO:+0000
TZNAME:WET
DTSTART:20181028T010000
END:STANDARD
BEGIN:DAYLIGHT
TZOFFSETFROM:+0000
TZOFFSETTO:+0100
TZNAME:WEST
DTSTART:20190331T010000
END:DAYLIGHT
BEGIN:STANDARD
TZOFFSETFROM:+0100
TZOFFSETTO:+0000
TZNAME:WET
DTSTART:20191027T010000
END:STANDARD
BEGIN:DAYLIGHT
TZOFFSETFROM:+0000
TZOFFSETTO:+0100
TZNAME:WEST
DTSTART:20200329T010000
END:DAYLIGHT
BEGIN:STANDARD
TZOFFSETFROM:+0100
TZOFFSETTO:+0000
TZNAME:WET
DTSTART:20201025T010000
END:STANDARD
BEGIN:DAYLIGHT
TZOFFSETFROM:+0000
TZOFFSETTO:+0100
TZNAME:WEST
DTSTART:20210328T010000
END:DAYLIGHT
BEGIN:STANDARD
TZOFFSETFROM:+0100
TZOFFSETTO:+0000
TZNAME:WET
DTSTART:20211031T010000
END:STANDARD
BEGIN:DAYLIGHT
TZOFFSETFROM:+0000
TZOFFSETTO:+0100
TZNAME:WEST
DTSTART:20220327T010000
END:DAYLIGHT
BEGIN:STANDARD
TZOFFSETFROM:+0100
TZOFFSETTO:+0000
TZNAME:WET
DTSTART:20221030T010000
END:STANDARD
BEGIN:DAYLIGHT
TZOFFSETFROM:+0000
TZOFFSETTO:+0100
TZNAME:WEST
DTSTART:20230326T010000
END:DAYLIGHT
BEGIN:STANDARD
TZOFFSETFROM:+0100
TZOFFSETTO:+0000
TZNAME:WET
DTSTART:20231029T010000
END:STANDARD
BEGIN:DAYLIGHT
TZOFFSETFROM:+0000
TZOFFSETTO:+0100
TZNAME:WEST
DTSTART:20240331T010000
END:DAYLIGHT
BEGIN:STANDARD
TZOFFSETFROM:+0100
TZOFFSETTO:+0000
TZNAME:WET
DTSTART:20241027T010000
END:STANDARD
BEGIN:DAYLIGHT
TZOFFSETFROM:+0000
TZOFFSETTO:+0100
TZNAME:WEST
DTSTART:20250330T010000
END:DAYLIGHT
BEGIN:STANDARD
TZOFFSETFROM:+0100
TZOFFSETTO:+0000
TZNAME:WET
DTSTART:20251026T010000
END:STANDARD
BEGIN:DAYLIGHT
TZOFFSETFROM:+0000
TZOFFSETTO:+0100
TZNAME:WEST
DTSTART:20260329T010000
END:DAYLIGHT
BEGIN:STANDARD
TZOFFSETFROM:+0100
TZOFFSETTO:+0000
TZNAME:WET
DTSTART:20261025T010000
END:STANDARD
END:VTIMEZONE
BEGIN:VEVENT
DTSTART;TZID=Europe/Lisbon:20260422T055702
DTEND;TZID=Europe/Lisbon:20250102T152944
DTSTAMP:20260422T055702
CREATED:20250102T152944Z
LAST-MODIFIED:20250102T152944Z
UID:67640-0-1735831784@diocesedeviseu.pt
SUMMARY:Celebração da Eucaristia do aniversário da PSP
DESCRIPTION:
URL:https://diocesedeviseu.pt/evento/celebracao-da-eucaristia-do-aniversario-da-psp/
LOCATION:Sé de Viseu\, Sé\, Viseu\, 3500-163\, Portugal
END:VEVENT
BEGIN:VEVENT
DTSTART;TZID=Europe/Lisbon:20260422T055702
DTEND;TZID=Europe/Lisbon:20251023T110705
DTSTAMP:20260422T055702
CREATED:20251023T110704Z
LAST-MODIFIED:20251023T110704Z
UID:74144-0-1761217625@diocesedeviseu.pt
SUMMARY:Reunião do Arciprestado da Beira Alta
DESCRIPTION:
URL:https://diocesedeviseu.pt/evento/reuniao-do-arciprestado-da-beira-alta-9/
LOCATION:Complexo Paroquial de Mangualde\, Mangualde\, Mangualde\, Portugal
END:VEVENT
BEGIN:VEVENT
DTSTART;TZID=Europe/Lisbon:20230601T180000
DTEND;TZID=Europe/Lisbon:20230601T180000
DTSTAMP:20260422T055702
CREATED:20230531T084629Z
LAST-MODIFIED:20230531T084650Z
UID:55722-1685642400-1685642400@diocesedeviseu.pt
SUMMARY:Reunião com os responsáveis das Instituições da Diocese na apresentação de contas
DESCRIPTION:
URL:https://diocesedeviseu.pt/evento/reuniao-com-os-responsaveis-das-instituicoes-da-diocese-na-apresentacao-de-contas/
LOCATION:Casa Episcopal – Viseu
CATEGORIES:Bispo
END:VEVENT
BEGIN:VEVENT
DTSTART;VALUE=DATE:20230602
DTEND;VALUE=DATE:20230605
DTSTAMP:20260422T055702
CREATED:20230425T220207Z
LAST-MODIFIED:20230425T220207Z
UID:55037-1685664000-1685923199@diocesedeviseu.pt
SUMMARY:Convívio Fraterno
DESCRIPTION:
URL:https://diocesedeviseu.pt/evento/convivio-fraterno-2/
LOCATION:Centro Pastoral Diocesano – Viseu
CATEGORIES:Evangelização, Culto e Cultura,Lembretes
END:VEVENT
BEGIN:VEVENT
DTSTART;TZID=Europe/Lisbon:20230603T180000
DTEND;TZID=Europe/Lisbon:20230603T180000
DTSTAMP:20260422T055702
CREATED:20230531T084812Z
LAST-MODIFIED:20230531T084812Z
UID:55724-1685815200-1685815200@diocesedeviseu.pt
SUMMARY:Celebração da Eucaristia e Crisma
DESCRIPTION:
URL:https://diocesedeviseu.pt/evento/celebracao-da-eucaristia-e-crisma-2/
LOCATION:Mangualde\, Mangualde\, Mangualde\, Portugal
CATEGORIES:Bispo
END:VEVENT
BEGIN:VEVENT
DTSTART;VALUE=DATE:20230604
DTEND;VALUE=DATE:20230605
DTSTAMP:20260422T055702
CREATED:20230506T094113Z
LAST-MODIFIED:20230506T094113Z
UID:55230-1685836800-1685923199@diocesedeviseu.pt
SUMMARY:Solenidade da Santíssima Trindade
DESCRIPTION:
URL:https://diocesedeviseu.pt/evento/solenidade-da-santissima-trindade-2/
CATEGORIES:Lembretes
END:VEVENT
BEGIN:VEVENT
DTSTART;TZID=Europe/Lisbon:20230604T120000
DTEND;TZID=Europe/Lisbon:20230604T120000
DTSTAMP:20260422T055702
CREATED:20230531T084907Z
LAST-MODIFIED:20230531T084907Z
UID:55726-1685880000-1685880000@diocesedeviseu.pt
SUMMARY:Procissão e Eucaristia da festa
DESCRIPTION:
URL:https://diocesedeviseu.pt/evento/procissao-e-eucaristia-da-festa/
LOCATION:Santuário do Senhor dos Caminhos\, em Rãs
CATEGORIES:Bispo
END:VEVENT
BEGIN:VEVENT
DTSTART;TZID=Europe/Lisbon:20230604T210000
DTEND;TZID=Europe/Lisbon:20230604T210000
DTSTAMP:20260422T055702
CREATED:20230531T084949Z
LAST-MODIFIED:20230531T084949Z
UID:55729-1685912400-1685912400@diocesedeviseu.pt
SUMMARY:Encerramento do Convívio Fraterno
DESCRIPTION:
URL:https://diocesedeviseu.pt/evento/encerramento-do-convivio-fraterno/
LOCATION:Centro Pastoral Diocesano – Viseu
CATEGORIES:Bispo,Evangelização, Culto e Cultura
END:VEVENT
BEGIN:VEVENT
DTSTART;VALUE=DATE:20230608
DTEND;VALUE=DATE:20230609
DTSTAMP:20260422T055702
CREATED:20230506T093959Z
LAST-MODIFIED:20230506T093959Z
UID:55228-1686182400-1686268799@diocesedeviseu.pt
SUMMARY:Solenidade do Santíssimo Corpo e Sangue de Cristo
DESCRIPTION:
URL:https://diocesedeviseu.pt/evento/solenidade-do-santissimo-corpo-e-sangue-de-cristo-2/
CATEGORIES:Lembretes
END:VEVENT
BEGIN:VEVENT
DTSTART;TZID=Europe/Lisbon:20230608T110000
DTEND;TZID=Europe/Lisbon:20230608T110000
DTSTAMP:20260422T055702
CREATED:20230531T085035Z
LAST-MODIFIED:20230531T085035Z
UID:55731-1686222000-1686222000@diocesedeviseu.pt
SUMMARY:Eucaristia da Solenidade do Corpo de Deus
DESCRIPTION:
URL:https://diocesedeviseu.pt/evento/eucaristia-da-solenidade-do-corpo-de-deus-3/
LOCATION:Catedral de Viseu
CATEGORIES:Bispo,Lembretes
END:VEVENT
BEGIN:VEVENT
DTSTART;TZID=Europe/Lisbon:20230608T170000
DTEND;TZID=Europe/Lisbon:20230608T170000
DTSTAMP:20260422T055702
CREATED:20230531T085145Z
LAST-MODIFIED:20230608T181158Z
UID:55733-1686243600-1686243600@diocesedeviseu.pt
SUMMARY:Adoração Eucarística
DESCRIPTION:
URL:https://diocesedeviseu.pt/evento/procissao-eucaristica-2/
LOCATION:Igreja do Coração de Jesus – Viseu
CATEGORIES:Bispo,Lembretes
END:VEVENT
BEGIN:VEVENT
DTSTART;TZID=Europe/Lisbon:20230610T180000
DTEND;TZID=Europe/Lisbon:20230610T180000
DTSTAMP:20260422T055702
CREATED:20230608T175047Z
LAST-MODIFIED:20230608T180638Z
UID:55855-1686420000-1686420000@diocesedeviseu.pt
SUMMARY:Celebração da Eucaristia de Ação de Graças nos 55 anos do Centro Social Paroquial
DESCRIPTION:
URL:https://diocesedeviseu.pt/evento/elebracao-da-eucaristia-de-acao-de-gracas-nos-55-anos-do-centro-social-paroquial/
LOCATION:Igreja de São Sebastião\, em Canas de Senhorim
CATEGORIES:Bispo
END:VEVENT
BEGIN:VEVENT
DTSTART;TZID=Europe/Lisbon:20230611T170000
DTEND;TZID=Europe/Lisbon:20230611T170000
DTSTAMP:20260422T055702
CREATED:20230608T175225Z
LAST-MODIFIED:20230608T175225Z
UID:55858-1686502800-1686502800@diocesedeviseu.pt
SUMMARY:Celebração da Eucaristia e Crisma
DESCRIPTION:
URL:https://diocesedeviseu.pt/evento/celebracao-da-eucaristia-e-crisma-3/
LOCATION:Igreja de Santa Comba Dao
CATEGORIES:Bispo
END:VEVENT
BEGIN:VEVENT
DTSTART;TZID=Europe/Lisbon:20230612T103000
DTEND;TZID=Europe/Lisbon:20230612T103000
DTSTAMP:20260422T055702
CREATED:20230608T175400Z
LAST-MODIFIED:20230608T180246Z
UID:55862-1686565800-1686565800@diocesedeviseu.pt
SUMMARY:Reunião dos Bispos do Centro
DESCRIPTION:
URL:https://diocesedeviseu.pt/evento/reuniao-dos-bispos-do-centro-6/
LOCATION:Casa Episcopal de Leiria
CATEGORIES:Bispo
END:VEVENT
BEGIN:VEVENT
DTSTART;TZID=Europe/Lisbon:20230613T150000
DTEND;TZID=Europe/Lisbon:20230613T150000
DTSTAMP:20260422T055702
CREATED:20230608T175704Z
LAST-MODIFIED:20230608T175725Z
UID:55865-1686668400-1686668400@diocesedeviseu.pt
SUMMARY:Celebração da Eucaristia
DESCRIPTION:
URL:https://diocesedeviseu.pt/evento/celebracao-da-eucaristia-5/
LOCATION:Igreja da Confraria de Santo Antonio – Viseu
CATEGORIES:Bispo
END:VEVENT
BEGIN:VEVENT
DTSTART;VALUE=DATE:20230616
DTEND;VALUE=DATE:20230617
DTSTAMP:20260422T055702
CREATED:20230506T094208Z
LAST-MODIFIED:20230506T094208Z
UID:55232-1686873600-1686959999@diocesedeviseu.pt
SUMMARY:Solenidade do Sagrado Coração de Jesus
DESCRIPTION:
URL:https://diocesedeviseu.pt/evento/solenidade-do-sagrado-coracao-de-jesus/
CATEGORIES:Lembretes
END:VEVENT
BEGIN:VEVENT
DTSTART;TZID=Europe/Lisbon:20230616T110000
DTEND;TZID=Europe/Lisbon:20230616T110000
DTSTAMP:20260422T055702
CREATED:20230615T081552Z
LAST-MODIFIED:20230615T081552Z
UID:55970-1686913200-1686913200@diocesedeviseu.pt
SUMMARY:Solenidade do Sagrado Coração de Jesus\, Eucaristia pela santificação dos sacerdotes\, seguido de almoço convívio.
DESCRIPTION:
URL:https://diocesedeviseu.pt/evento/solenidade-do-sagrado-coracao-de-jesus-eucaristia-pela-santificacao-dos-sacerdotes-seguido-de-almoco-convivio/
LOCATION:Seminário Maior de Viseu
CATEGORIES:Bispo,Clero, Vocações e Vida Consagrada,Lembretes
END:VEVENT
BEGIN:VEVENT
DTSTART;VALUE=DATE:20230617
DTEND;VALUE=DATE:20230618
DTSTAMP:20260422T055702
CREATED:20230506T094317Z
LAST-MODIFIED:20230506T094317Z
UID:55234-1686960000-1687046399@diocesedeviseu.pt
SUMMARY:Aniversário da Ordenação Episcopal de D. António Luciano (2018)
DESCRIPTION:
URL:https://diocesedeviseu.pt/evento/aniversario-da-ordenacao-episcopal-de-d-antonio-luciano-2018/
CATEGORIES:Bispo,Lembretes
END:VEVENT
BEGIN:VEVENT
DTSTART;TZID=Europe/Lisbon:20230617T150000
DTEND;TZID=Europe/Lisbon:20230617T150000
DTSTAMP:20260422T055702
CREATED:20230615T082209Z
LAST-MODIFIED:20230615T082209Z
UID:55976-1687014000-1687014000@diocesedeviseu.pt
SUMMARY:Celebração da Eucaristia e Crisma
DESCRIPTION:
URL:https://diocesedeviseu.pt/evento/celebracao-da-eucaristia-e-crisma-4/
LOCATION:Igreja Paroquial de Sátão
CATEGORIES:Bispo
END:VEVENT
BEGIN:VEVENT
DTSTART;TZID=Europe/Lisbon:20230617T180000
DTEND;TZID=Europe/Lisbon:20230617T180000
DTSTAMP:20260422T055702
CREATED:20230615T082320Z
LAST-MODIFIED:20230615T082320Z
UID:55978-1687024800-1687024800@diocesedeviseu.pt
SUMMARY:Celebração da Eucaristia e Crisma
DESCRIPTION:
URL:https://diocesedeviseu.pt/evento/celebracao-da-eucaristia-e-crisma-5/
LOCATION:Coração de Jesus\, Viseu
CATEGORIES:Bispo
END:VEVENT
BEGIN:VEVENT
DTSTART;TZID=Europe/Lisbon:20230618T113000
DTEND;TZID=Europe/Lisbon:20230618T113000
DTSTAMP:20260422T055702
CREATED:20230615T082428Z
LAST-MODIFIED:20230615T082428Z
UID:55980-1687087800-1687087800@diocesedeviseu.pt
SUMMARY:Celebração da Eucaristia e Crisma
DESCRIPTION:
URL:https://diocesedeviseu.pt/evento/celebracao-da-eucaristia-e-crisma-6/
LOCATION:Santa Cruz da Trapa\, São Pedro do Sul\, São Pedro do Sul\, Portugal
CATEGORIES:Bispo
END:VEVENT
BEGIN:VEVENT
DTSTART;TZID=Europe/Lisbon:20230618T170000
DTEND;TZID=Europe/Lisbon:20230618T170000
DTSTAMP:20260422T055702
CREATED:20230615T082805Z
LAST-MODIFIED:20230615T082805Z
UID:55983-1687107600-1687107600@diocesedeviseu.pt
SUMMARY:Celebração da Eucaristia e Crisma
DESCRIPTION:
URL:https://diocesedeviseu.pt/evento/celebracao-da-eucaristia-e-crisma-7/
LOCATION:Cambra
CATEGORIES:Bispo
END:VEVENT
BEGIN:VEVENT
DTSTART;VALUE=DATE:20230619
DTEND;VALUE=DATE:20230622
DTSTAMP:20260422T055702
CREATED:20230615T082908Z
LAST-MODIFIED:20230615T082908Z
UID:55986-1687132800-1687391999@diocesedeviseu.pt
SUMMARY:Jornadas Episcopais e Assembleia da CEP
DESCRIPTION:
URL:https://diocesedeviseu.pt/evento/jornadas-episcopais-e-assembleia-da-cep/
LOCATION:Fátima\, Fátima\, Fátima\, Portugal
CATEGORIES:Bispo
END:VEVENT
BEGIN:VEVENT
DTSTART;TZID=Europe/Lisbon:20230620T210000
DTEND;TZID=Europe/Lisbon:20230620T210000
DTSTAMP:20260422T055702
CREATED:20221017T213019Z
LAST-MODIFIED:20221017T213019Z
UID:53687-1687294800-1687294800@diocesedeviseu.pt
SUMMARY:Oração de Taizé
DESCRIPTION:
URL:https://diocesedeviseu.pt/evento/oracao-de-taize-9/
LOCATION:Igreja dos Terceiros – Viseu
CATEGORIES:Lembretes
END:VEVENT
BEGIN:VEVENT
DTSTART;TZID=Europe/Lisbon:20230621T210000
DTEND;TZID=Europe/Lisbon:20230621T210000
DTSTAMP:20260422T055702
CREATED:20230615T083102Z
LAST-MODIFIED:20230615T083102Z
UID:55988-1687381200-1687381200@diocesedeviseu.pt
SUMMARY:Sarau do Colégio da Via-Sacra
DESCRIPTION:
URL:https://diocesedeviseu.pt/evento/sarau-do-colegio-da-via-sacra/
LOCATION:Pavilhão Multiusos – Viseu
CATEGORIES:Bispo,Lembretes
END:VEVENT
BEGIN:VEVENT
DTSTART;TZID=Europe/Lisbon:20230622T093000
DTEND;TZID=Europe/Lisbon:20230622T170000
DTSTAMP:20260422T055702
CREATED:20230623T101456Z
LAST-MODIFIED:20230623T101456Z
UID:56125-1687426200-1687453200@diocesedeviseu.pt
SUMMARY:Reunião do Conselho Presbiteral
DESCRIPTION:
URL:https://diocesedeviseu.pt/evento/reuniao-do-conselho-presbiteral-4/
LOCATION:Seminário Maior de Viseu
CATEGORIES:Bispo,Clero, Vocações e Vida Consagrada
END:VEVENT
BEGIN:VEVENT
DTSTART;VALUE=DATE:20230624
DTEND;VALUE=DATE:20230625
DTSTAMP:20260422T055702
CREATED:20230506T094427Z
LAST-MODIFIED:20230506T094427Z
UID:55236-1687564800-1687651199@diocesedeviseu.pt
SUMMARY:Solenidade do Nascimento de S. João Batista
DESCRIPTION:
URL:https://diocesedeviseu.pt/evento/solenidade-do-nascimento-de-s-joao-batista/
CATEGORIES:Lembretes
END:VEVENT
BEGIN:VEVENT
DTSTART;VALUE=DATE:20230624
DTEND;VALUE=DATE:20230625
DTSTAMP:20260422T055702
CREATED:20230506T094506Z
LAST-MODIFIED:20230506T094506Z
UID:55238-1687564800-1687651199@diocesedeviseu.pt
SUMMARY:Dia Nacional do Cigano
DESCRIPTION:
URL:https://diocesedeviseu.pt/evento/dia-nacional-do-cigano-2/
CATEGORIES:Lembretes
END:VEVENT
BEGIN:VEVENT
DTSTART;TZID=Europe/Lisbon:20230624T160000
DTEND;TZID=Europe/Lisbon:20230624T170000
DTSTAMP:20260422T055702
CREATED:20230623T101627Z
LAST-MODIFIED:20230623T101627Z
UID:56127-1687622400-1687626000@diocesedeviseu.pt
SUMMARY:Celebração da Eucaristia e do Crisma
DESCRIPTION:
URL:https://diocesedeviseu.pt/evento/celebracao-da-eucaristia-e-do-crisma/
LOCATION:Figueiró da Granja
CATEGORIES:Bispo,Lembretes
END:VEVENT
BEGIN:VEVENT
DTSTART;VALUE=DATE:20230625
DTEND;VALUE=DATE:20230626
DTSTAMP:20260422T055702
CREATED:20230506T094604Z
LAST-MODIFIED:20230506T094604Z
UID:55240-1687651200-1687737599@diocesedeviseu.pt
SUMMARY:Ofertório para a Santa Sé ou Cadeira de São Pedro
DESCRIPTION:
URL:https://diocesedeviseu.pt/evento/ofertorio-para-a-santa-se-ou-cadeira-de-sao-pedro/
CATEGORIES:Lembretes
END:VEVENT
END:VCALENDAR